BEGIN:VCALENDAR
VERSION:2.0
PRODID:-//First Presbyterian Church of Van Wert - ECPv6.15.19//NONSGML v1.0//EN
CALSCALE:GREGORIAN
METHOD:PUBLISH
X-ORIGINAL-URL:https://vwpresby.org
X-WR-CALDESC:Events for First Presbyterian Church of Van Wert
REFRESH-INTERVAL;VALUE=DURATION:PT1H
X-Robots-Tag:noindex
X-PUBLISHED-TTL:PT1H
BEGIN:VTIMEZONE
TZID:America/Indiana/Indianapolis
BEGIN:DAYLIGHT
TZOFFSETFROM:-0500
TZOFFSETTO:-0400
TZNAME:EDT
DTSTART:20250309T070000
END:DAYLIGHT
BEGIN:STANDARD
TZOFFSETFROM:-0400
TZOFFSETTO:-0500
TZNAME:EST
DTSTART:20251102T060000
END:STANDARD
BEGIN:DAYLIGHT
TZOFFSETFROM:-0500
TZOFFSETTO:-0400
TZNAME:EDT
DTSTART:20260308T070000
END:DAYLIGHT
BEGIN:STANDARD
TZOFFSETFROM:-0400
TZOFFSETTO:-0500
TZNAME:EST
DTSTART:20261101T060000
END:STANDARD
BEGIN:DAYLIGHT
TZOFFSETFROM:-0500
TZOFFSETTO:-0400
TZNAME:EDT
DTSTART:20270314T070000
END:DAYLIGHT
BEGIN:STANDARD
TZOFFSETFROM:-0400
TZOFFSETTO:-0500
TZNAME:EST
DTSTART:20271107T060000
END:STANDARD
END:VTIMEZONE
BEGIN:VEVENT
DTSTART;TZID=America/Indiana/Indianapolis:20260421T190000
DTEND;TZID=America/Indiana/Indianapolis:20260421T200000
DTSTAMP:20260421T053725
CREATED:20250930T134511Z
LAST-MODIFIED:20250930T134538Z
UID:10001477-1776798000-1776801600@vwpresby.org
SUMMARY:Boy Scouts
DESCRIPTION:
URL:https://vwpresby.org/event/boy-scouts-2/2026-04-21/
END:VEVENT
BEGIN:VEVENT
DTSTART;TZID=America/Indiana/Indianapolis:20260422T101500
DTEND;TZID=America/Indiana/Indianapolis:20260422T130000
DTSTAMP:20260421T053725
CREATED:20240905T144541Z
LAST-MODIFIED:20240905T144659Z
UID:10001241-1776852900-1776862800@vwpresby.org
SUMMARY:Soup Kitchen
DESCRIPTION:Volunteers meet in our church parking lot @10:15am for Our Daily Bread Soup Kitchen in Lima Ohio.
URL:https://vwpresby.org/event/soup-kitchen/2026-04-22/
END:VEVENT
BEGIN:VEVENT
DTSTART;TZID=America/Indiana/Indianapolis:20260422T103000
DTEND;TZID=America/Indiana/Indianapolis:20260422T113000
DTSTAMP:20260421T053725
CREATED:20250930T135036Z
LAST-MODIFIED:20250930T135204Z
UID:10001319-1776853800-1776857400@vwpresby.org
SUMMARY:Women's Bible Study
DESCRIPTION:
URL:https://vwpresby.org/event/womens-bible-study-4/2026-04-22/
END:VEVENT
BEGIN:VEVENT
DTSTART;TZID=America/Indiana/Indianapolis:20260422T160000
DTEND;TZID=America/Indiana/Indianapolis:20260422T173000
DTSTAMP:20260421T053725
CREATED:20240814T141932Z
LAST-MODIFIED:20250918T142636Z
UID:10000851-1776873600-1776879000@vwpresby.org
SUMMARY:JAM
DESCRIPTION:JAM (JESUS AND ME) AFTER SCHOOL PROGRAM
URL:https://vwpresby.org/event/jam-2/2026-04-22/
END:VEVENT
BEGIN:VEVENT
DTSTART;TZID=America/Indiana/Indianapolis:20260423T180000
DTEND;TZID=America/Indiana/Indianapolis:20260423T193000
DTSTAMP:20260421T053725
CREATED:20250930T134049Z
LAST-MODIFIED:20250930T134255Z
UID:10001050-1776967200-1776972600@vwpresby.org
SUMMARY:Girl Scouts
DESCRIPTION:
URL:https://vwpresby.org/event/cub-scouts-3/2026-04-23/
END:VEVENT
BEGIN:VEVENT
DTSTART;TZID=America/Indiana/Indianapolis:20260423T181500
DTEND;TZID=America/Indiana/Indianapolis:20260423T190000
DTSTAMP:20260421T053725
CREATED:20250930T133808Z
LAST-MODIFIED:20250930T133808Z
UID:10001013-1776968100-1776970800@vwpresby.org
SUMMARY:Westminster Ringers
DESCRIPTION:
URL:https://vwpresby.org/event/westminster-ringers-3/2026-04-23/
END:VEVENT
BEGIN:VEVENT
DTSTART;TZID=America/Indiana/Indianapolis:20260427T183000
DTEND;TZID=America/Indiana/Indianapolis:20260427T193000
DTSTAMP:20260421T053725
CREATED:20250930T134343Z
LAST-MODIFIED:20250930T134417Z
UID:10001084-1777314600-1777318200@vwpresby.org
SUMMARY:Cub Scouts
DESCRIPTION:
URL:https://vwpresby.org/event/cub-scouts-4/2026-04-27/
END:VEVENT
BEGIN:VEVENT
DTSTART;TZID=America/Indiana/Indianapolis:20260428T190000
DTEND;TZID=America/Indiana/Indianapolis:20260428T200000
DTSTAMP:20260421T053725
CREATED:20250930T134511Z
LAST-MODIFIED:20250930T134538Z
UID:10001478-1777402800-1777406400@vwpresby.org
SUMMARY:Boy Scouts
DESCRIPTION:
URL:https://vwpresby.org/event/boy-scouts-2/2026-04-28/
END:VEVENT
BEGIN:VEVENT
DTSTART;TZID=America/Indiana/Indianapolis:20260429T103000
DTEND;TZID=America/Indiana/Indianapolis:20260429T113000
DTSTAMP:20260421T053725
CREATED:20250930T135036Z
LAST-MODIFIED:20250930T135204Z
UID:10001320-1777458600-1777462200@vwpresby.org
SUMMARY:Women's Bible Study
DESCRIPTION:
URL:https://vwpresby.org/event/womens-bible-study-4/2026-04-29/
END:VEVENT
BEGIN:VEVENT
DTSTART;TZID=America/Indiana/Indianapolis:20260430T180000
DTEND;TZID=America/Indiana/Indianapolis:20260430T193000
DTSTAMP:20260421T053725
CREATED:20250930T134049Z
LAST-MODIFIED:20250930T134255Z
UID:10001051-1777572000-1777577400@vwpresby.org
SUMMARY:Girl Scouts
DESCRIPTION:
URL:https://vwpresby.org/event/cub-scouts-3/2026-04-30/
END:VEVENT
BEGIN:VEVENT
DTSTART;TZID=America/Indiana/Indianapolis:20260430T181500
DTEND;TZID=America/Indiana/Indianapolis:20260430T190000
DTSTAMP:20260421T053725
CREATED:20250930T133808Z
LAST-MODIFIED:20250930T133808Z
UID:10001014-1777572900-1777575600@vwpresby.org
SUMMARY:Westminster Ringers
DESCRIPTION:
URL:https://vwpresby.org/event/westminster-ringers-3/2026-04-30/
END:VEVENT
END:VCALENDAR