BEGIN:VCALENDAR
VERSION:2.0
PRODID:-//First Presbyterian Church of Van Wert - ECPv6.15.19//NONSGML v1.0//EN
CALSCALE:GREGORIAN
METHOD:PUBLISH
X-WR-CALNAME:First Presbyterian Church of Van Wert
X-ORIGINAL-URL:https://vwpresby.org
X-WR-CALDESC:Events for First Presbyterian Church of Van Wert
REFRESH-INTERVAL;VALUE=DURATION:PT1H
X-Robots-Tag:noindex
X-PUBLISHED-TTL:PT1H
BEGIN:VTIMEZONE
TZID:America/Indiana/Indianapolis
BEGIN:DAYLIGHT
TZOFFSETFROM:-0500
TZOFFSETTO:-0400
TZNAME:EDT
DTSTART:20230312T070000
END:DAYLIGHT
BEGIN:STANDARD
TZOFFSETFROM:-0400
TZOFFSETTO:-0500
TZNAME:EST
DTSTART:20231105T060000
END:STANDARD
BEGIN:DAYLIGHT
TZOFFSETFROM:-0500
TZOFFSETTO:-0400
TZNAME:EDT
DTSTART:20240310T070000
END:DAYLIGHT
BEGIN:STANDARD
TZOFFSETFROM:-0400
TZOFFSETTO:-0500
TZNAME:EST
DTSTART:20241103T060000
END:STANDARD
BEGIN:DAYLIGHT
TZOFFSETFROM:-0500
TZOFFSETTO:-0400
TZNAME:EDT
DTSTART:20250309T070000
END:DAYLIGHT
BEGIN:STANDARD
TZOFFSETFROM:-0400
TZOFFSETTO:-0500
TZNAME:EST
DTSTART:20251102T060000
END:STANDARD
END:VTIMEZONE
BEGIN:VEVENT
DTSTART;TZID=America/Indiana/Indianapolis:20241103T100000
DTEND;TZID=America/Indiana/Indianapolis:20241103T110000
DTSTAMP:20260421T054636
CREATED:20220127T162551Z
LAST-MODIFIED:20240110T160338Z
UID:10000543-1730628000-1730631600@vwpresby.org
SUMMARY:Worship Service
DESCRIPTION:
URL:https://vwpresby.org/event/worship-service/2024-11-03/
END:VEVENT
BEGIN:VEVENT
DTSTART;TZID=America/Indiana/Indianapolis:20241104T183000
DTEND;TZID=America/Indiana/Indianapolis:20241104T193000
DTSTAMP:20260421T054636
CREATED:20220114T194043Z
LAST-MODIFIED:20240110T160838Z
UID:10000152-1730745000-1730748600@vwpresby.org
SUMMARY:Cub Scouts
DESCRIPTION:Cub Scouts Every Monday 6:30PM – 7:30PM
URL:https://vwpresby.org/event/cub-scouts/2024-11-04/
END:VEVENT
BEGIN:VEVENT
DTSTART;TZID=America/Indiana/Indianapolis:20241107T181500
DTEND;TZID=America/Indiana/Indianapolis:20241107T190000
DTSTAMP:20260421T054636
CREATED:20240905T143009Z
LAST-MODIFIED:20240905T143240Z
UID:10000865-1731003300-1731006000@vwpresby.org
SUMMARY:Westminster Ringers
DESCRIPTION:
URL:https://vwpresby.org/event/westminster-ringers/2024-11-07/
END:VEVENT
BEGIN:VEVENT
DTSTART;TZID=America/Indiana/Indianapolis:20241107T190000
DTEND;TZID=America/Indiana/Indianapolis:20241107T200000
DTSTAMP:20260421T054636
CREATED:20240905T143345Z
LAST-MODIFIED:20240905T145123Z
UID:10000902-1731006000-1731009600@vwpresby.org
SUMMARY:Chancel Choir Practice
DESCRIPTION:
URL:https://vwpresby.org/event/chancel-choir-practice-2/2024-11-07/
END:VEVENT
BEGIN:VEVENT
DTSTART;TZID=America/Indiana/Indianapolis:20241110T100000
DTEND;TZID=America/Indiana/Indianapolis:20241110T110000
DTSTAMP:20260421T054636
CREATED:20220127T162551Z
LAST-MODIFIED:20240110T160338Z
UID:10000544-1731232800-1731236400@vwpresby.org
SUMMARY:Worship Service
DESCRIPTION:
URL:https://vwpresby.org/event/worship-service/2024-11-10/
END:VEVENT
BEGIN:VEVENT
DTSTART;VALUE=DATE:20241111
DTEND;VALUE=DATE:20241112
DTSTAMP:20260421T054636
CREATED:20240320T131021Z
LAST-MODIFIED:20240320T131021Z
UID:10000798-1731283200-1731369599@vwpresby.org
SUMMARY:Veterans Day *Office Closed*
DESCRIPTION:
URL:https://vwpresby.org/event/veterans-day-office-closed/
END:VEVENT
BEGIN:VEVENT
DTSTART;TZID=America/Indiana/Indianapolis:20241111T183000
DTEND;TZID=America/Indiana/Indianapolis:20241111T193000
DTSTAMP:20260421T054636
CREATED:20220114T194043Z
LAST-MODIFIED:20240110T160838Z
UID:10000153-1731349800-1731353400@vwpresby.org
SUMMARY:Cub Scouts
DESCRIPTION:Cub Scouts Every Monday 6:30PM – 7:30PM
URL:https://vwpresby.org/event/cub-scouts/2024-11-11/
END:VEVENT
BEGIN:VEVENT
DTSTART;TZID=America/Indiana/Indianapolis:20241114T181500
DTEND;TZID=America/Indiana/Indianapolis:20241114T190000
DTSTAMP:20260421T054636
CREATED:20240905T143009Z
LAST-MODIFIED:20240905T143240Z
UID:10000866-1731608100-1731610800@vwpresby.org
SUMMARY:Westminster Ringers
DESCRIPTION:
URL:https://vwpresby.org/event/westminster-ringers/2024-11-14/
END:VEVENT
BEGIN:VEVENT
DTSTART;TZID=America/Indiana/Indianapolis:20241114T190000
DTEND;TZID=America/Indiana/Indianapolis:20241114T200000
DTSTAMP:20260421T054636
CREATED:20240905T143345Z
LAST-MODIFIED:20240905T145123Z
UID:10000903-1731610800-1731614400@vwpresby.org
SUMMARY:Chancel Choir Practice
DESCRIPTION:
URL:https://vwpresby.org/event/chancel-choir-practice-2/2024-11-14/
END:VEVENT
BEGIN:VEVENT
DTSTART;TZID=America/Indiana/Indianapolis:20241117T100000
DTEND;TZID=America/Indiana/Indianapolis:20241117T110000
DTSTAMP:20260421T054636
CREATED:20220127T162551Z
LAST-MODIFIED:20240110T160338Z
UID:10000545-1731837600-1731841200@vwpresby.org
SUMMARY:Worship Service
DESCRIPTION:
URL:https://vwpresby.org/event/worship-service/2024-11-17/
END:VEVENT
BEGIN:VEVENT
DTSTART;TZID=America/Indiana/Indianapolis:20241118T183000
DTEND;TZID=America/Indiana/Indianapolis:20241118T193000
DTSTAMP:20260421T054636
CREATED:20220114T194043Z
LAST-MODIFIED:20240110T160838Z
UID:10000154-1731954600-1731958200@vwpresby.org
SUMMARY:Cub Scouts
DESCRIPTION:Cub Scouts Every Monday 6:30PM – 7:30PM
URL:https://vwpresby.org/event/cub-scouts/2024-11-18/
END:VEVENT
BEGIN:VEVENT
DTSTART;TZID=America/Indiana/Indianapolis:20241121T181500
DTEND;TZID=America/Indiana/Indianapolis:20241121T190000
DTSTAMP:20260421T054636
CREATED:20240905T143009Z
LAST-MODIFIED:20240905T143240Z
UID:10000867-1732212900-1732215600@vwpresby.org
SUMMARY:Westminster Ringers
DESCRIPTION:
URL:https://vwpresby.org/event/westminster-ringers/2024-11-21/
END:VEVENT
BEGIN:VEVENT
DTSTART;TZID=America/Indiana/Indianapolis:20241121T190000
DTEND;TZID=America/Indiana/Indianapolis:20241121T200000
DTSTAMP:20260421T054636
CREATED:20240905T143345Z
LAST-MODIFIED:20240905T145123Z
UID:10000904-1732215600-1732219200@vwpresby.org
SUMMARY:Chancel Choir Practice
DESCRIPTION:
URL:https://vwpresby.org/event/chancel-choir-practice-2/2024-11-21/
END:VEVENT
BEGIN:VEVENT
DTSTART;TZID=America/Indiana/Indianapolis:20241124T100000
DTEND;TZID=America/Indiana/Indianapolis:20241124T110000
DTSTAMP:20260421T054636
CREATED:20220127T162551Z
LAST-MODIFIED:20240110T160338Z
UID:10000546-1732442400-1732446000@vwpresby.org
SUMMARY:Worship Service
DESCRIPTION:
URL:https://vwpresby.org/event/worship-service/2024-11-24/
END:VEVENT
BEGIN:VEVENT
DTSTART;TZID=America/Indiana/Indianapolis:20241125T183000
DTEND;TZID=America/Indiana/Indianapolis:20241125T193000
DTSTAMP:20260421T054636
CREATED:20220114T194043Z
LAST-MODIFIED:20240110T160838Z
UID:10000155-1732559400-1732563000@vwpresby.org
SUMMARY:Cub Scouts
DESCRIPTION:Cub Scouts Every Monday 6:30PM – 7:30PM
URL:https://vwpresby.org/event/cub-scouts/2024-11-25/
END:VEVENT
BEGIN:VEVENT
DTSTART;TZID=America/Indiana/Indianapolis:20241127T101500
DTEND;TZID=America/Indiana/Indianapolis:20241127T130000
DTSTAMP:20260421T054636
CREATED:20240905T144541Z
LAST-MODIFIED:20240905T144659Z
UID:10001224-1732702500-1732712400@vwpresby.org
SUMMARY:Soup Kitchen
DESCRIPTION:Volunteers meet in our church parking lot @10:15am for Our Daily Bread Soup Kitchen in Lima Ohio.
URL:https://vwpresby.org/event/soup-kitchen/2024-11-27/
END:VEVENT
BEGIN:VEVENT
DTSTART;VALUE=DATE:20241128
DTEND;VALUE=DATE:20241129
DTSTAMP:20260421T054636
CREATED:20240320T131053Z
LAST-MODIFIED:20240320T131053Z
UID:10000800-1732752000-1732838399@vwpresby.org
SUMMARY:Thanksgiving *Office Closed*
DESCRIPTION:
URL:https://vwpresby.org/event/thanksgiving-office-closed-2/
END:VEVENT
BEGIN:VEVENT
DTSTART;TZID=America/Indiana/Indianapolis:20241128T181500
DTEND;TZID=America/Indiana/Indianapolis:20241128T190000
DTSTAMP:20260421T054636
CREATED:20240905T143009Z
LAST-MODIFIED:20240905T143240Z
UID:10000868-1732817700-1732820400@vwpresby.org
SUMMARY:Westminster Ringers
DESCRIPTION:
URL:https://vwpresby.org/event/westminster-ringers/2024-11-28/
END:VEVENT
BEGIN:VEVENT
DTSTART;TZID=America/Indiana/Indianapolis:20241128T190000
DTEND;TZID=America/Indiana/Indianapolis:20241128T200000
DTSTAMP:20260421T054636
CREATED:20240905T143345Z
LAST-MODIFIED:20240905T145123Z
UID:10000905-1732820400-1732824000@vwpresby.org
SUMMARY:Chancel Choir Practice
DESCRIPTION:
URL:https://vwpresby.org/event/chancel-choir-practice-2/2024-11-28/
END:VEVENT
BEGIN:VEVENT
DTSTART;VALUE=DATE:20241129
DTEND;VALUE=DATE:20241130
DTSTAMP:20260421T054636
CREATED:20240320T131122Z
LAST-MODIFIED:20240320T131122Z
UID:10000802-1732838400-1732924799@vwpresby.org
SUMMARY:*Office Closed*
DESCRIPTION:
URL:https://vwpresby.org/event/office-closed-7/
END:VEVENT
END:VCALENDAR