BEGIN:VCALENDAR
VERSION:2.0
PRODID:-//First Presbyterian Church of Van Wert - ECPv6.15.19//NONSGML v1.0//EN
CALSCALE:GREGORIAN
METHOD:PUBLISH
X-ORIGINAL-URL:https://vwpresby.org
X-WR-CALDESC:Events for First Presbyterian Church of Van Wert
REFRESH-INTERVAL;VALUE=DURATION:PT1H
X-Robots-Tag:noindex
X-PUBLISHED-TTL:PT1H
BEGIN:VTIMEZONE
TZID:America/Indiana/Indianapolis
BEGIN:DAYLIGHT
TZOFFSETFROM:-0500
TZOFFSETTO:-0400
TZNAME:EDT
DTSTART:20230312T070000
END:DAYLIGHT
BEGIN:STANDARD
TZOFFSETFROM:-0400
TZOFFSETTO:-0500
TZNAME:EST
DTSTART:20231105T060000
END:STANDARD
BEGIN:DAYLIGHT
TZOFFSETFROM:-0500
TZOFFSETTO:-0400
TZNAME:EDT
DTSTART:20240310T070000
END:DAYLIGHT
BEGIN:STANDARD
TZOFFSETFROM:-0400
TZOFFSETTO:-0500
TZNAME:EST
DTSTART:20241103T060000
END:STANDARD
BEGIN:DAYLIGHT
TZOFFSETFROM:-0500
TZOFFSETTO:-0400
TZNAME:EDT
DTSTART:20250309T070000
END:DAYLIGHT
BEGIN:STANDARD
TZOFFSETFROM:-0400
TZOFFSETTO:-0500
TZNAME:EST
DTSTART:20251102T060000
END:STANDARD
END:VTIMEZONE
BEGIN:VEVENT
DTSTART;TZID=America/Indiana/Indianapolis:20240501T103000
DTEND;TZID=America/Indiana/Indianapolis:20240501T113000
DTSTAMP:20260421T230707
CREATED:20220114T194334Z
LAST-MODIFIED:20240110T161852Z
UID:10000388-1714559400-1714563000@vwpresby.org
SUMMARY:Women's Bible Study
DESCRIPTION:Women’s Bible Study every Wednesday 10:30AM
URL:https://vwpresby.org/event/womens-bible-study/2024-05-01/
END:VEVENT
BEGIN:VEVENT
DTSTART;TZID=America/Indiana/Indianapolis:20240502T120000
DTEND;TZID=America/Indiana/Indianapolis:20240502T123000
DTSTAMP:20260421T230707
CREATED:20240426T153804Z
LAST-MODIFIED:20240426T153804Z
UID:10001193-1714651200-1714653000@vwpresby.org
SUMMARY:National Day of Prayer
DESCRIPTION:
URL:https://vwpresby.org/event/national-day-of-prayer/
END:VEVENT
BEGIN:VEVENT
DTSTART;TZID=America/Indiana/Indianapolis:20240502T120000
DTEND;TZID=America/Indiana/Indianapolis:20240502T133000
DTSTAMP:20260421T230707
CREATED:20240320T131427Z
LAST-MODIFIED:20240320T131427Z
UID:10000810-1714651200-1714656600@vwpresby.org
SUMMARY:Book Club
DESCRIPTION:
URL:https://vwpresby.org/event/book-club-8/
END:VEVENT
BEGIN:VEVENT
DTSTART;TZID=America/Indiana/Indianapolis:20240502T181500
DTEND;TZID=America/Indiana/Indianapolis:20240502T190000
DTSTAMP:20260421T230707
CREATED:20240110T161130Z
LAST-MODIFIED:20240110T161432Z
UID:10001153-1714673700-1714676400@vwpresby.org
SUMMARY:Bell Practice
DESCRIPTION:Bell Practice every Thursday at 6:15pm
URL:https://vwpresby.org/event/bell-practice/2024-05-02/
END:VEVENT
BEGIN:VEVENT
DTSTART;TZID=America/Indiana/Indianapolis:20240502T190000
DTEND;TZID=America/Indiana/Indianapolis:20240502T200000
DTSTAMP:20260421T230707
CREATED:20240305T153802Z
LAST-MODIFIED:20240305T153802Z
UID:10001185-1714676400-1714680000@vwpresby.org
SUMMARY:Chancel Choir Practice
DESCRIPTION:Choir Practice every Thursday @7pm
URL:https://vwpresby.org/event/chancel-choir-practice/2024-05-02/
END:VEVENT
BEGIN:VEVENT
DTSTART;TZID=America/Indiana/Indianapolis:20240505T100000
DTEND;TZID=America/Indiana/Indianapolis:20240505T110000
DTSTAMP:20260421T230707
CREATED:20220127T162551Z
LAST-MODIFIED:20240110T160338Z
UID:10000517-1714903200-1714906800@vwpresby.org
SUMMARY:Worship Service
DESCRIPTION:
URL:https://vwpresby.org/event/worship-service/2024-05-05/
END:VEVENT
BEGIN:VEVENT
DTSTART;TZID=America/Indiana/Indianapolis:20240506T183000
DTEND;TZID=America/Indiana/Indianapolis:20240506T193000
DTSTAMP:20260421T230707
CREATED:20220114T194043Z
LAST-MODIFIED:20240110T160838Z
UID:10000126-1715020200-1715023800@vwpresby.org
SUMMARY:Cub Scouts
DESCRIPTION:Cub Scouts Every Monday 6:30PM – 7:30PM
URL:https://vwpresby.org/event/cub-scouts/2024-05-06/
END:VEVENT
BEGIN:VEVENT
DTSTART;TZID=America/Indiana/Indianapolis:20240508T103000
DTEND;TZID=America/Indiana/Indianapolis:20240508T113000
DTSTAMP:20260421T230707
CREATED:20220114T194334Z
LAST-MODIFIED:20240110T161852Z
UID:10000389-1715164200-1715167800@vwpresby.org
SUMMARY:Women's Bible Study
DESCRIPTION:Women’s Bible Study every Wednesday 10:30AM
URL:https://vwpresby.org/event/womens-bible-study/2024-05-08/
END:VEVENT
BEGIN:VEVENT
DTSTART;TZID=America/Indiana/Indianapolis:20240509T181500
DTEND;TZID=America/Indiana/Indianapolis:20240509T190000
DTSTAMP:20260421T230707
CREATED:20240110T161130Z
LAST-MODIFIED:20240110T161432Z
UID:10001154-1715278500-1715281200@vwpresby.org
SUMMARY:Bell Practice
DESCRIPTION:Bell Practice every Thursday at 6:15pm
URL:https://vwpresby.org/event/bell-practice/2024-05-09/
END:VEVENT
BEGIN:VEVENT
DTSTART;TZID=America/Indiana/Indianapolis:20240509T190000
DTEND;TZID=America/Indiana/Indianapolis:20240509T200000
DTSTAMP:20260421T230707
CREATED:20240305T153802Z
LAST-MODIFIED:20240305T153802Z
UID:10001186-1715281200-1715284800@vwpresby.org
SUMMARY:Chancel Choir Practice
DESCRIPTION:Choir Practice every Thursday @7pm
URL:https://vwpresby.org/event/chancel-choir-practice/2024-05-09/
END:VEVENT
BEGIN:VEVENT
DTSTART;TZID=America/Indiana/Indianapolis:20240512T100000
DTEND;TZID=America/Indiana/Indianapolis:20240512T110000
DTSTAMP:20260421T230707
CREATED:20220127T162551Z
LAST-MODIFIED:20240110T160338Z
UID:10000518-1715508000-1715511600@vwpresby.org
SUMMARY:Worship Service
DESCRIPTION:
URL:https://vwpresby.org/event/worship-service/2024-05-12/
END:VEVENT
BEGIN:VEVENT
DTSTART;TZID=America/Indiana/Indianapolis:20240513T183000
DTEND;TZID=America/Indiana/Indianapolis:20240513T193000
DTSTAMP:20260421T230707
CREATED:20220114T194043Z
LAST-MODIFIED:20240110T160838Z
UID:10000127-1715625000-1715628600@vwpresby.org
SUMMARY:Cub Scouts
DESCRIPTION:Cub Scouts Every Monday 6:30PM – 7:30PM
URL:https://vwpresby.org/event/cub-scouts/2024-05-13/
END:VEVENT
BEGIN:VEVENT
DTSTART;TZID=America/Indiana/Indianapolis:20240515T103000
DTEND;TZID=America/Indiana/Indianapolis:20240515T113000
DTSTAMP:20260421T230707
CREATED:20220114T194334Z
LAST-MODIFIED:20240110T161852Z
UID:10000390-1715769000-1715772600@vwpresby.org
SUMMARY:Women's Bible Study
DESCRIPTION:Women’s Bible Study every Wednesday 10:30AM
URL:https://vwpresby.org/event/womens-bible-study/2024-05-15/
END:VEVENT
BEGIN:VEVENT
DTSTART;TZID=America/Indiana/Indianapolis:20240515T183000
DTEND;TZID=America/Indiana/Indianapolis:20240515T193000
DTSTAMP:20260421T230707
CREATED:20240509T130049Z
LAST-MODIFIED:20240509T130049Z
UID:10001197-1715797800-1715801400@vwpresby.org
SUMMARY:John Calvin Class
DESCRIPTION:
URL:https://vwpresby.org/event/john-calvin-class-4/
END:VEVENT
BEGIN:VEVENT
DTSTART;TZID=America/Indiana/Indianapolis:20240516T181500
DTEND;TZID=America/Indiana/Indianapolis:20240516T190000
DTSTAMP:20260421T230707
CREATED:20240110T161130Z
LAST-MODIFIED:20240110T161432Z
UID:10001155-1715883300-1715886000@vwpresby.org
SUMMARY:Bell Practice
DESCRIPTION:Bell Practice every Thursday at 6:15pm
URL:https://vwpresby.org/event/bell-practice/2024-05-16/
END:VEVENT
BEGIN:VEVENT
DTSTART;TZID=America/Indiana/Indianapolis:20240516T190000
DTEND;TZID=America/Indiana/Indianapolis:20240516T200000
DTSTAMP:20260421T230707
CREATED:20240305T153802Z
LAST-MODIFIED:20240305T153802Z
UID:10001187-1715886000-1715889600@vwpresby.org
SUMMARY:Chancel Choir Practice
DESCRIPTION:Choir Practice every Thursday @7pm
URL:https://vwpresby.org/event/chancel-choir-practice/2024-05-16/
END:VEVENT
BEGIN:VEVENT
DTSTART;TZID=America/Indiana/Indianapolis:20240517T190000
DTEND;TZID=America/Indiana/Indianapolis:20240517T203000
DTSTAMP:20260421T230707
CREATED:20240509T125847Z
LAST-MODIFIED:20240509T125847Z
UID:10001194-1715972400-1715977800@vwpresby.org
SUMMARY:Home Fellowship Gathering
DESCRIPTION:
URL:https://vwpresby.org/event/home-fellowship-gathering/
END:VEVENT
BEGIN:VEVENT
DTSTART;VALUE=DATE:20240519
DTEND;VALUE=DATE:20240520
DTSTAMP:20260421T230707
CREATED:20240509T125918Z
LAST-MODIFIED:20240509T125918Z
UID:10001195-1716076800-1716163199@vwpresby.org
SUMMARY:Pentecost Sunday
DESCRIPTION:
URL:https://vwpresby.org/event/pentecost-sunday/
END:VEVENT
BEGIN:VEVENT
DTSTART;TZID=America/Indiana/Indianapolis:20240519T100000
DTEND;TZID=America/Indiana/Indianapolis:20240519T110000
DTSTAMP:20260421T230707
CREATED:20220127T162551Z
LAST-MODIFIED:20240110T160338Z
UID:10000519-1716112800-1716116400@vwpresby.org
SUMMARY:Worship Service
DESCRIPTION:
URL:https://vwpresby.org/event/worship-service/2024-05-19/
END:VEVENT
BEGIN:VEVENT
DTSTART;TZID=America/Indiana/Indianapolis:20240519T110000
DTEND;TZID=America/Indiana/Indianapolis:20240519T120000
DTSTAMP:20260421T230707
CREATED:20240509T130445Z
LAST-MODIFIED:20240509T130445Z
UID:10001200-1716116400-1716120000@vwpresby.org
SUMMARY:Deacons Meeting after Worship
DESCRIPTION:
URL:https://vwpresby.org/event/deacons-meeting-after-worship/
END:VEVENT
BEGIN:VEVENT
DTSTART;TZID=America/Indiana/Indianapolis:20240520T183000
DTEND;TZID=America/Indiana/Indianapolis:20240520T193000
DTSTAMP:20260421T230707
CREATED:20220114T194043Z
LAST-MODIFIED:20240110T160838Z
UID:10000128-1716229800-1716233400@vwpresby.org
SUMMARY:Cub Scouts
DESCRIPTION:Cub Scouts Every Monday 6:30PM – 7:30PM
URL:https://vwpresby.org/event/cub-scouts/2024-05-20/
END:VEVENT
BEGIN:VEVENT
DTSTART;TZID=America/Indiana/Indianapolis:20240520T190000
DTEND;TZID=America/Indiana/Indianapolis:20240520T200000
DTSTAMP:20260421T230707
CREATED:20240509T131135Z
LAST-MODIFIED:20240509T131135Z
UID:10001201-1716231600-1716235200@vwpresby.org
SUMMARY:Session
DESCRIPTION:
URL:https://vwpresby.org/event/session-4/
END:VEVENT
BEGIN:VEVENT
DTSTART;TZID=America/Indiana/Indianapolis:20240521T180000
DTEND;TZID=America/Indiana/Indianapolis:20240521T200000
DTSTAMP:20260421T230707
CREATED:20240509T130004Z
LAST-MODIFIED:20240509T130004Z
UID:10001196-1716314400-1716321600@vwpresby.org
SUMMARY:Creative Arts Ministry Class
DESCRIPTION:
URL:https://vwpresby.org/event/creative-arts-ministry-class/
END:VEVENT
BEGIN:VEVENT
DTSTART;TZID=America/Indiana/Indianapolis:20240522T103000
DTEND;TZID=America/Indiana/Indianapolis:20240522T113000
DTSTAMP:20260421T230707
CREATED:20220114T194334Z
LAST-MODIFIED:20240110T161852Z
UID:10000391-1716373800-1716377400@vwpresby.org
SUMMARY:Women's Bible Study
DESCRIPTION:Women’s Bible Study every Wednesday 10:30AM
URL:https://vwpresby.org/event/womens-bible-study/2024-05-22/
END:VEVENT
BEGIN:VEVENT
DTSTART;TZID=America/Indiana/Indianapolis:20240523T181500
DTEND;TZID=America/Indiana/Indianapolis:20240523T190000
DTSTAMP:20260421T230707
CREATED:20240110T161130Z
LAST-MODIFIED:20240110T161432Z
UID:10001156-1716488100-1716490800@vwpresby.org
SUMMARY:Bell Practice
DESCRIPTION:Bell Practice every Thursday at 6:15pm
URL:https://vwpresby.org/event/bell-practice/2024-05-23/
END:VEVENT
BEGIN:VEVENT
DTSTART;TZID=America/Indiana/Indianapolis:20240523T190000
DTEND;TZID=America/Indiana/Indianapolis:20240523T200000
DTSTAMP:20260421T230707
CREATED:20240305T153802Z
LAST-MODIFIED:20240305T153802Z
UID:10001188-1716490800-1716494400@vwpresby.org
SUMMARY:Chancel Choir Practice
DESCRIPTION:Choir Practice every Thursday @7pm
URL:https://vwpresby.org/event/chancel-choir-practice/2024-05-23/
END:VEVENT
BEGIN:VEVENT
DTSTART;TZID=America/Indiana/Indianapolis:20240526T100000
DTEND;TZID=America/Indiana/Indianapolis:20240526T110000
DTSTAMP:20260421T230707
CREATED:20220127T162551Z
LAST-MODIFIED:20240110T160338Z
UID:10000520-1716717600-1716721200@vwpresby.org
SUMMARY:Worship Service
DESCRIPTION:
URL:https://vwpresby.org/event/worship-service/2024-05-26/
END:VEVENT
BEGIN:VEVENT
DTSTART;VALUE=DATE:20240527
DTEND;VALUE=DATE:20240528
DTSTAMP:20260421T230707
CREATED:20240320T130821Z
LAST-MODIFIED:20240320T130821Z
UID:10001190-1716768000-1716854399@vwpresby.org
SUMMARY:Memorial Day *Office Closed*
DESCRIPTION:
URL:https://vwpresby.org/event/memorial-day-office-closed/
END:VEVENT
BEGIN:VEVENT
DTSTART;TZID=America/Indiana/Indianapolis:20240527T183000
DTEND;TZID=America/Indiana/Indianapolis:20240527T193000
DTSTAMP:20260421T230707
CREATED:20220114T194043Z
LAST-MODIFIED:20240110T160838Z
UID:10000129-1716834600-1716838200@vwpresby.org
SUMMARY:Cub Scouts
DESCRIPTION:Cub Scouts Every Monday 6:30PM – 7:30PM
URL:https://vwpresby.org/event/cub-scouts/2024-05-27/
END:VEVENT
BEGIN:VEVENT
DTSTART;TZID=America/Indiana/Indianapolis:20240529T103000
DTEND;TZID=America/Indiana/Indianapolis:20240529T113000
DTSTAMP:20260421T230707
CREATED:20220114T194334Z
LAST-MODIFIED:20240110T161852Z
UID:10000392-1716978600-1716982200@vwpresby.org
SUMMARY:Women's Bible Study
DESCRIPTION:Women’s Bible Study every Wednesday 10:30AM
URL:https://vwpresby.org/event/womens-bible-study/2024-05-29/
END:VEVENT
END:VCALENDAR