BEGIN:VCALENDAR
VERSION:2.0
PRODID:-//First Presbyterian Church of Van Wert - ECPv6.15.19//NONSGML v1.0//EN
CALSCALE:GREGORIAN
METHOD:PUBLISH
X-WR-CALNAME:First Presbyterian Church of Van Wert
X-ORIGINAL-URL:https://vwpresby.org
X-WR-CALDESC:Events for First Presbyterian Church of Van Wert
REFRESH-INTERVAL;VALUE=DURATION:PT1H
X-Robots-Tag:noindex
X-PUBLISHED-TTL:PT1H
BEGIN:VTIMEZONE
TZID:America/Indiana/Indianapolis
BEGIN:DAYLIGHT
TZOFFSETFROM:-0500
TZOFFSETTO:-0400
TZNAME:EDT
DTSTART:20230312T070000
END:DAYLIGHT
BEGIN:STANDARD
TZOFFSETFROM:-0400
TZOFFSETTO:-0500
TZNAME:EST
DTSTART:20231105T060000
END:STANDARD
BEGIN:DAYLIGHT
TZOFFSETFROM:-0500
TZOFFSETTO:-0400
TZNAME:EDT
DTSTART:20240310T070000
END:DAYLIGHT
BEGIN:STANDARD
TZOFFSETFROM:-0400
TZOFFSETTO:-0500
TZNAME:EST
DTSTART:20241103T060000
END:STANDARD
BEGIN:DAYLIGHT
TZOFFSETFROM:-0500
TZOFFSETTO:-0400
TZNAME:EDT
DTSTART:20250309T070000
END:DAYLIGHT
BEGIN:STANDARD
TZOFFSETFROM:-0400
TZOFFSETTO:-0500
TZNAME:EST
DTSTART:20251102T060000
END:STANDARD
END:VTIMEZONE
BEGIN:VEVENT
DTSTART;TZID=America/Indiana/Indianapolis:20240401T183000
DTEND;TZID=America/Indiana/Indianapolis:20240401T193000
DTSTAMP:20260422T004300
CREATED:20220114T194043Z
LAST-MODIFIED:20240110T160838Z
UID:10000121-1711996200-1711999800@vwpresby.org
SUMMARY:Cub Scouts
DESCRIPTION:Cub Scouts Every Monday 6:30PM – 7:30PM
URL:https://vwpresby.org/event/cub-scouts/2024-04-01/
END:VEVENT
BEGIN:VEVENT
DTSTART;TZID=America/Indiana/Indianapolis:20240403T103000
DTEND;TZID=America/Indiana/Indianapolis:20240403T113000
DTSTAMP:20260422T004300
CREATED:20220114T194334Z
LAST-MODIFIED:20240110T161852Z
UID:10000384-1712140200-1712143800@vwpresby.org
SUMMARY:Women's Bible Study
DESCRIPTION:Women’s Bible Study every Wednesday 10:30AM
URL:https://vwpresby.org/event/womens-bible-study/2024-04-03/
END:VEVENT
BEGIN:VEVENT
DTSTART;TZID=America/Indiana/Indianapolis:20240404T120000
DTEND;TZID=America/Indiana/Indianapolis:20240404T133000
DTSTAMP:20260422T004300
CREATED:20240320T131330Z
LAST-MODIFIED:20240320T131330Z
UID:10000808-1712232000-1712237400@vwpresby.org
SUMMARY:Book Club
DESCRIPTION:
URL:https://vwpresby.org/event/book-club-7/
END:VEVENT
BEGIN:VEVENT
DTSTART;TZID=America/Indiana/Indianapolis:20240404T181500
DTEND;TZID=America/Indiana/Indianapolis:20240404T190000
DTSTAMP:20260422T004300
CREATED:20240110T161130Z
LAST-MODIFIED:20240110T161432Z
UID:10001149-1712254500-1712257200@vwpresby.org
SUMMARY:Bell Practice
DESCRIPTION:Bell Practice every Thursday at 6:15pm
URL:https://vwpresby.org/event/bell-practice/2024-04-04/
END:VEVENT
BEGIN:VEVENT
DTSTART;TZID=America/Indiana/Indianapolis:20240404T190000
DTEND;TZID=America/Indiana/Indianapolis:20240404T200000
DTSTAMP:20260422T004300
CREATED:20240305T153802Z
LAST-MODIFIED:20240305T153802Z
UID:10001181-1712257200-1712260800@vwpresby.org
SUMMARY:Chancel Choir Practice
DESCRIPTION:Choir Practice every Thursday @7pm
URL:https://vwpresby.org/event/chancel-choir-practice/2024-04-04/
END:VEVENT
BEGIN:VEVENT
DTSTART;TZID=America/Indiana/Indianapolis:20240407T100000
DTEND;TZID=America/Indiana/Indianapolis:20240407T110000
DTSTAMP:20260422T004300
CREATED:20220127T162551Z
LAST-MODIFIED:20240110T160338Z
UID:10000513-1712484000-1712487600@vwpresby.org
SUMMARY:Worship Service
DESCRIPTION:
URL:https://vwpresby.org/event/worship-service/2024-04-07/
END:VEVENT
BEGIN:VEVENT
DTSTART;TZID=America/Indiana/Indianapolis:20240408T183000
DTEND;TZID=America/Indiana/Indianapolis:20240408T193000
DTSTAMP:20260422T004300
CREATED:20220114T194043Z
LAST-MODIFIED:20240110T160838Z
UID:10000122-1712601000-1712604600@vwpresby.org
SUMMARY:Cub Scouts
DESCRIPTION:Cub Scouts Every Monday 6:30PM – 7:30PM
URL:https://vwpresby.org/event/cub-scouts/2024-04-08/
END:VEVENT
BEGIN:VEVENT
DTSTART;TZID=America/Indiana/Indianapolis:20240410T103000
DTEND;TZID=America/Indiana/Indianapolis:20240410T113000
DTSTAMP:20260422T004300
CREATED:20220114T194334Z
LAST-MODIFIED:20240110T161852Z
UID:10000385-1712745000-1712748600@vwpresby.org
SUMMARY:Women's Bible Study
DESCRIPTION:Women’s Bible Study every Wednesday 10:30AM
URL:https://vwpresby.org/event/womens-bible-study/2024-04-10/
END:VEVENT
BEGIN:VEVENT
DTSTART;TZID=America/Indiana/Indianapolis:20240411T181500
DTEND;TZID=America/Indiana/Indianapolis:20240411T190000
DTSTAMP:20260422T004300
CREATED:20240110T161130Z
LAST-MODIFIED:20240110T161432Z
UID:10001150-1712859300-1712862000@vwpresby.org
SUMMARY:Bell Practice
DESCRIPTION:Bell Practice every Thursday at 6:15pm
URL:https://vwpresby.org/event/bell-practice/2024-04-11/
END:VEVENT
BEGIN:VEVENT
DTSTART;TZID=America/Indiana/Indianapolis:20240411T190000
DTEND;TZID=America/Indiana/Indianapolis:20240411T200000
DTSTAMP:20260422T004300
CREATED:20240305T153802Z
LAST-MODIFIED:20240305T153802Z
UID:10001182-1712862000-1712865600@vwpresby.org
SUMMARY:Chancel Choir Practice
DESCRIPTION:Choir Practice every Thursday @7pm
URL:https://vwpresby.org/event/chancel-choir-practice/2024-04-11/
END:VEVENT
BEGIN:VEVENT
DTSTART;TZID=America/Indiana/Indianapolis:20240414T100000
DTEND;TZID=America/Indiana/Indianapolis:20240414T110000
DTSTAMP:20260422T004300
CREATED:20220127T162551Z
LAST-MODIFIED:20240110T160338Z
UID:10000514-1713088800-1713092400@vwpresby.org
SUMMARY:Worship Service
DESCRIPTION:
URL:https://vwpresby.org/event/worship-service/2024-04-14/
END:VEVENT
BEGIN:VEVENT
DTSTART;TZID=America/Indiana/Indianapolis:20240414T111500
DTEND;TZID=America/Indiana/Indianapolis:20240414T121500
DTSTAMP:20260422T004300
CREATED:20240216T145338Z
LAST-MODIFIED:20240216T145338Z
UID:10001167-1713093300-1713096900@vwpresby.org
SUMMARY:Genesis Bible Study
DESCRIPTION:
URL:https://vwpresby.org/event/genesis-bible-study-2/
END:VEVENT
BEGIN:VEVENT
DTSTART;TZID=America/Indiana/Indianapolis:20240415T183000
DTEND;TZID=America/Indiana/Indianapolis:20240415T193000
DTSTAMP:20260422T004300
CREATED:20220114T194043Z
LAST-MODIFIED:20240110T160838Z
UID:10000123-1713205800-1713209400@vwpresby.org
SUMMARY:Cub Scouts
DESCRIPTION:Cub Scouts Every Monday 6:30PM – 7:30PM
URL:https://vwpresby.org/event/cub-scouts/2024-04-15/
END:VEVENT
BEGIN:VEVENT
DTSTART;TZID=America/Indiana/Indianapolis:20240417T103000
DTEND;TZID=America/Indiana/Indianapolis:20240417T113000
DTSTAMP:20260422T004300
CREATED:20220114T194334Z
LAST-MODIFIED:20240110T161852Z
UID:10000386-1713349800-1713353400@vwpresby.org
SUMMARY:Women's Bible Study
DESCRIPTION:Women’s Bible Study every Wednesday 10:30AM
URL:https://vwpresby.org/event/womens-bible-study/2024-04-17/
END:VEVENT
BEGIN:VEVENT
DTSTART;TZID=America/Indiana/Indianapolis:20240418T181500
DTEND;TZID=America/Indiana/Indianapolis:20240418T190000
DTSTAMP:20260422T004300
CREATED:20240110T161130Z
LAST-MODIFIED:20240110T161432Z
UID:10001151-1713464100-1713466800@vwpresby.org
SUMMARY:Bell Practice
DESCRIPTION:Bell Practice every Thursday at 6:15pm
URL:https://vwpresby.org/event/bell-practice/2024-04-18/
END:VEVENT
BEGIN:VEVENT
DTSTART;TZID=America/Indiana/Indianapolis:20240418T190000
DTEND;TZID=America/Indiana/Indianapolis:20240418T200000
DTSTAMP:20260422T004300
CREATED:20240305T153802Z
LAST-MODIFIED:20240305T153802Z
UID:10001183-1713466800-1713470400@vwpresby.org
SUMMARY:Chancel Choir Practice
DESCRIPTION:Choir Practice every Thursday @7pm
URL:https://vwpresby.org/event/chancel-choir-practice/2024-04-18/
END:VEVENT
BEGIN:VEVENT
DTSTART;TZID=America/Indiana/Indianapolis:20240421T100000
DTEND;TZID=America/Indiana/Indianapolis:20240421T110000
DTSTAMP:20260422T004300
CREATED:20220127T162551Z
LAST-MODIFIED:20240110T160338Z
UID:10000515-1713693600-1713697200@vwpresby.org
SUMMARY:Worship Service
DESCRIPTION:
URL:https://vwpresby.org/event/worship-service/2024-04-21/
END:VEVENT
BEGIN:VEVENT
DTSTART;TZID=America/Indiana/Indianapolis:20240421T100000
DTEND;TZID=America/Indiana/Indianapolis:20240421T130000
DTSTAMP:20260422T004300
CREATED:20240305T152527Z
LAST-MODIFIED:20240305T152527Z
UID:10001176-1713693600-1713704400@vwpresby.org
SUMMARY:JAM Sunday
DESCRIPTION:
URL:https://vwpresby.org/event/jam-sunday/
END:VEVENT
BEGIN:VEVENT
DTSTART;TZID=America/Indiana/Indianapolis:20240422T183000
DTEND;TZID=America/Indiana/Indianapolis:20240422T193000
DTSTAMP:20260422T004300
CREATED:20220114T194043Z
LAST-MODIFIED:20240110T160838Z
UID:10000124-1713810600-1713814200@vwpresby.org
SUMMARY:Cub Scouts
DESCRIPTION:Cub Scouts Every Monday 6:30PM – 7:30PM
URL:https://vwpresby.org/event/cub-scouts/2024-04-22/
END:VEVENT
BEGIN:VEVENT
DTSTART;TZID=America/Indiana/Indianapolis:20240424T103000
DTEND;TZID=America/Indiana/Indianapolis:20240424T113000
DTSTAMP:20260422T004300
CREATED:20220114T194334Z
LAST-MODIFIED:20240110T161852Z
UID:10000387-1713954600-1713958200@vwpresby.org
SUMMARY:Women's Bible Study
DESCRIPTION:Women’s Bible Study every Wednesday 10:30AM
URL:https://vwpresby.org/event/womens-bible-study/2024-04-24/
END:VEVENT
BEGIN:VEVENT
DTSTART;TZID=America/Indiana/Indianapolis:20240425T181500
DTEND;TZID=America/Indiana/Indianapolis:20240425T190000
DTSTAMP:20260422T004300
CREATED:20240110T161130Z
LAST-MODIFIED:20240110T161432Z
UID:10001152-1714068900-1714071600@vwpresby.org
SUMMARY:Bell Practice
DESCRIPTION:Bell Practice every Thursday at 6:15pm
URL:https://vwpresby.org/event/bell-practice/2024-04-25/
END:VEVENT
BEGIN:VEVENT
DTSTART;TZID=America/Indiana/Indianapolis:20240425T190000
DTEND;TZID=America/Indiana/Indianapolis:20240425T200000
DTSTAMP:20260422T004300
CREATED:20240305T153802Z
LAST-MODIFIED:20240305T153802Z
UID:10001184-1714071600-1714075200@vwpresby.org
SUMMARY:Chancel Choir Practice
DESCRIPTION:Choir Practice every Thursday @7pm
URL:https://vwpresby.org/event/chancel-choir-practice/2024-04-25/
END:VEVENT
BEGIN:VEVENT
DTSTART;TZID=America/Indiana/Indianapolis:20240428T100000
DTEND;TZID=America/Indiana/Indianapolis:20240428T110000
DTSTAMP:20260422T004300
CREATED:20220127T162551Z
LAST-MODIFIED:20240110T160338Z
UID:10000516-1714298400-1714302000@vwpresby.org
SUMMARY:Worship Service
DESCRIPTION:
URL:https://vwpresby.org/event/worship-service/2024-04-28/
END:VEVENT
BEGIN:VEVENT
DTSTART;TZID=America/Indiana/Indianapolis:20240428T111500
DTEND;TZID=America/Indiana/Indianapolis:20240428T121500
DTSTAMP:20260422T004300
CREATED:20240216T145405Z
LAST-MODIFIED:20240216T145405Z
UID:10001169-1714302900-1714306500@vwpresby.org
SUMMARY:Genesis Bible Study
DESCRIPTION:
URL:https://vwpresby.org/event/genesis-bible-study-3/
END:VEVENT
BEGIN:VEVENT
DTSTART;TZID=America/Indiana/Indianapolis:20240429T183000
DTEND;TZID=America/Indiana/Indianapolis:20240429T193000
DTSTAMP:20260422T004300
CREATED:20220114T194043Z
LAST-MODIFIED:20240110T160838Z
UID:10000125-1714415400-1714419000@vwpresby.org
SUMMARY:Cub Scouts
DESCRIPTION:Cub Scouts Every Monday 6:30PM – 7:30PM
URL:https://vwpresby.org/event/cub-scouts/2024-04-29/
END:VEVENT
END:VCALENDAR