BEGIN:VCALENDAR
VERSION:2.0
PRODID:-//First Presbyterian Church of Van Wert - ECPv6.15.19//NONSGML v1.0//EN
CALSCALE:GREGORIAN
METHOD:PUBLISH
X-WR-CALNAME:First Presbyterian Church of Van Wert
X-ORIGINAL-URL:https://vwpresby.org
X-WR-CALDESC:Events for First Presbyterian Church of Van Wert
REFRESH-INTERVAL;VALUE=DURATION:PT1H
X-Robots-Tag:noindex
X-PUBLISHED-TTL:PT1H
BEGIN:VTIMEZONE
TZID:America/Indiana/Indianapolis
BEGIN:DAYLIGHT
TZOFFSETFROM:-0500
TZOFFSETTO:-0400
TZNAME:EDT
DTSTART:20230312T070000
END:DAYLIGHT
BEGIN:STANDARD
TZOFFSETFROM:-0400
TZOFFSETTO:-0500
TZNAME:EST
DTSTART:20231105T060000
END:STANDARD
BEGIN:DAYLIGHT
TZOFFSETFROM:-0500
TZOFFSETTO:-0400
TZNAME:EDT
DTSTART:20240310T070000
END:DAYLIGHT
BEGIN:STANDARD
TZOFFSETFROM:-0400
TZOFFSETTO:-0500
TZNAME:EST
DTSTART:20241103T060000
END:STANDARD
BEGIN:DAYLIGHT
TZOFFSETFROM:-0500
TZOFFSETTO:-0400
TZNAME:EDT
DTSTART:20250309T070000
END:DAYLIGHT
BEGIN:STANDARD
TZOFFSETFROM:-0400
TZOFFSETTO:-0500
TZNAME:EST
DTSTART:20251102T060000
END:STANDARD
END:VTIMEZONE
BEGIN:VEVENT
DTSTART;TZID=America/Indiana/Indianapolis:20240201T181500
DTEND;TZID=America/Indiana/Indianapolis:20240201T190000
DTSTAMP:20260422T064958
CREATED:20240110T161130Z
LAST-MODIFIED:20240110T161432Z
UID:10001140-1706811300-1706814000@vwpresby.org
SUMMARY:Bell Practice
DESCRIPTION:Bell Practice every Thursday at 6:15pm
URL:https://vwpresby.org/event/bell-practice/2024-02-01/
END:VEVENT
BEGIN:VEVENT
DTSTART;TZID=America/Indiana/Indianapolis:20240204T100000
DTEND;TZID=America/Indiana/Indianapolis:20240204T110000
DTSTAMP:20260422T064958
CREATED:20220127T162551Z
LAST-MODIFIED:20240110T160338Z
UID:10000504-1707040800-1707044400@vwpresby.org
SUMMARY:Worship Service
DESCRIPTION:
URL:https://vwpresby.org/event/worship-service/2024-02-04/
END:VEVENT
BEGIN:VEVENT
DTSTART;TZID=America/Indiana/Indianapolis:20240204T100000
DTEND;TZID=America/Indiana/Indianapolis:20240204T110000
DTSTAMP:20260422T064958
CREATED:20240110T162638Z
LAST-MODIFIED:20240110T162638Z
UID:10001160-1707040800-1707044400@vwpresby.org
SUMMARY:Communion
DESCRIPTION:Communion 1st Sunday of every month
URL:https://vwpresby.org/event/communion-23/
END:VEVENT
BEGIN:VEVENT
DTSTART;TZID=America/Indiana/Indianapolis:20240205T183000
DTEND;TZID=America/Indiana/Indianapolis:20240205T193000
DTSTAMP:20260422T064958
CREATED:20220114T194043Z
LAST-MODIFIED:20240110T160838Z
UID:10000113-1707157800-1707161400@vwpresby.org
SUMMARY:Cub Scouts
DESCRIPTION:Cub Scouts Every Monday 6:30PM – 7:30PM
URL:https://vwpresby.org/event/cub-scouts/2024-02-05/
END:VEVENT
BEGIN:VEVENT
DTSTART;TZID=America/Indiana/Indianapolis:20240207T103000
DTEND;TZID=America/Indiana/Indianapolis:20240207T113000
DTSTAMP:20260422T064958
CREATED:20220114T194334Z
LAST-MODIFIED:20240110T161852Z
UID:10000376-1707301800-1707305400@vwpresby.org
SUMMARY:Women's Bible Study
DESCRIPTION:Women’s Bible Study every Wednesday 10:30AM
URL:https://vwpresby.org/event/womens-bible-study/2024-02-07/
END:VEVENT
BEGIN:VEVENT
DTSTART;TZID=America/Indiana/Indianapolis:20240208T181500
DTEND;TZID=America/Indiana/Indianapolis:20240208T190000
DTSTAMP:20260422T064958
CREATED:20240110T161130Z
LAST-MODIFIED:20240110T161432Z
UID:10001141-1707416100-1707418800@vwpresby.org
SUMMARY:Bell Practice
DESCRIPTION:Bell Practice every Thursday at 6:15pm
URL:https://vwpresby.org/event/bell-practice/2024-02-08/
END:VEVENT
BEGIN:VEVENT
DTSTART;TZID=America/Indiana/Indianapolis:20240211T100000
DTEND;TZID=America/Indiana/Indianapolis:20240211T110000
DTSTAMP:20260422T064958
CREATED:20220127T162551Z
LAST-MODIFIED:20240110T160338Z
UID:10000505-1707645600-1707649200@vwpresby.org
SUMMARY:Worship Service
DESCRIPTION:
URL:https://vwpresby.org/event/worship-service/2024-02-11/
END:VEVENT
BEGIN:VEVENT
DTSTART;TZID=America/Indiana/Indianapolis:20240211T110000
DTEND;TZID=America/Indiana/Indianapolis:20240211T111500
DTSTAMP:20260422T064958
CREATED:20231228T164231Z
LAST-MODIFIED:20231228T164231Z
UID:10001131-1707649200-1707650100@vwpresby.org
SUMMARY:Congregational meeting after Worship
DESCRIPTION:
URL:https://vwpresby.org/event/congregational-meeting-after-worship-3/
END:VEVENT
BEGIN:VEVENT
DTSTART;TZID=America/Indiana/Indianapolis:20240212T183000
DTEND;TZID=America/Indiana/Indianapolis:20240212T193000
DTSTAMP:20260422T064958
CREATED:20220114T194043Z
LAST-MODIFIED:20240110T160838Z
UID:10000114-1707762600-1707766200@vwpresby.org
SUMMARY:Cub Scouts
DESCRIPTION:Cub Scouts Every Monday 6:30PM – 7:30PM
URL:https://vwpresby.org/event/cub-scouts/2024-02-12/
END:VEVENT
BEGIN:VEVENT
DTSTART;VALUE=DATE:20240214
DTEND;VALUE=DATE:20240215
DTSTAMP:20260422T064958
CREATED:20231228T164249Z
LAST-MODIFIED:20231228T164249Z
UID:10001132-1707868800-1707955199@vwpresby.org
SUMMARY:Ash Wednesday
DESCRIPTION:
URL:https://vwpresby.org/event/ash-wednesday/
END:VEVENT
BEGIN:VEVENT
DTSTART;TZID=America/Indiana/Indianapolis:20240214T103000
DTEND;TZID=America/Indiana/Indianapolis:20240214T113000
DTSTAMP:20260422T064958
CREATED:20220114T194334Z
LAST-MODIFIED:20240110T161852Z
UID:10000377-1707906600-1707910200@vwpresby.org
SUMMARY:Women's Bible Study
DESCRIPTION:Women’s Bible Study every Wednesday 10:30AM
URL:https://vwpresby.org/event/womens-bible-study/2024-02-14/
END:VEVENT
BEGIN:VEVENT
DTSTART;TZID=America/Indiana/Indianapolis:20240214T183000
DTEND;TZID=America/Indiana/Indianapolis:20240214T193000
DTSTAMP:20260422T064958
CREATED:20240214T171320Z
LAST-MODIFIED:20240214T171320Z
UID:10001161-1707935400-1707939000@vwpresby.org
SUMMARY:Ash Wednesday Service
DESCRIPTION:
URL:https://vwpresby.org/event/ash-wednesday-service-2/
END:VEVENT
BEGIN:VEVENT
DTSTART;TZID=America/Indiana/Indianapolis:20240215T181500
DTEND;TZID=America/Indiana/Indianapolis:20240215T190000
DTSTAMP:20260422T064958
CREATED:20240110T161130Z
LAST-MODIFIED:20240110T161432Z
UID:10001142-1708020900-1708023600@vwpresby.org
SUMMARY:Bell Practice
DESCRIPTION:Bell Practice every Thursday at 6:15pm
URL:https://vwpresby.org/event/bell-practice/2024-02-15/
END:VEVENT
BEGIN:VEVENT
DTSTART;TZID=America/Indiana/Indianapolis:20240218T100000
DTEND;TZID=America/Indiana/Indianapolis:20240218T110000
DTSTAMP:20260422T064958
CREATED:20220127T162551Z
LAST-MODIFIED:20240110T160338Z
UID:10000506-1708250400-1708254000@vwpresby.org
SUMMARY:Worship Service
DESCRIPTION:
URL:https://vwpresby.org/event/worship-service/2024-02-18/
END:VEVENT
BEGIN:VEVENT
DTSTART;TZID=America/Indiana/Indianapolis:20240219T183000
DTEND;TZID=America/Indiana/Indianapolis:20240219T193000
DTSTAMP:20260422T064958
CREATED:20220114T194043Z
LAST-MODIFIED:20240110T160838Z
UID:10000115-1708367400-1708371000@vwpresby.org
SUMMARY:Cub Scouts
DESCRIPTION:Cub Scouts Every Monday 6:30PM – 7:30PM
URL:https://vwpresby.org/event/cub-scouts/2024-02-19/
END:VEVENT
BEGIN:VEVENT
DTSTART;TZID=America/Indiana/Indianapolis:20240221T103000
DTEND;TZID=America/Indiana/Indianapolis:20240221T113000
DTSTAMP:20260422T064958
CREATED:20220114T194334Z
LAST-MODIFIED:20240110T161852Z
UID:10000378-1708511400-1708515000@vwpresby.org
SUMMARY:Women's Bible Study
DESCRIPTION:Women’s Bible Study every Wednesday 10:30AM
URL:https://vwpresby.org/event/womens-bible-study/2024-02-21/
END:VEVENT
BEGIN:VEVENT
DTSTART;TZID=America/Indiana/Indianapolis:20240222T181500
DTEND;TZID=America/Indiana/Indianapolis:20240222T190000
DTSTAMP:20260422T064958
CREATED:20240110T161130Z
LAST-MODIFIED:20240110T161432Z
UID:10001143-1708625700-1708628400@vwpresby.org
SUMMARY:Bell Practice
DESCRIPTION:Bell Practice every Thursday at 6:15pm
URL:https://vwpresby.org/event/bell-practice/2024-02-22/
END:VEVENT
BEGIN:VEVENT
DTSTART;TZID=America/Indiana/Indianapolis:20240225T100000
DTEND;TZID=America/Indiana/Indianapolis:20240225T110000
DTSTAMP:20260422T064958
CREATED:20220127T162551Z
LAST-MODIFIED:20240110T160338Z
UID:10000507-1708855200-1708858800@vwpresby.org
SUMMARY:Worship Service
DESCRIPTION:
URL:https://vwpresby.org/event/worship-service/2024-02-25/
END:VEVENT
BEGIN:VEVENT
DTSTART;TZID=America/Indiana/Indianapolis:20240225T100000
DTEND;TZID=America/Indiana/Indianapolis:20240225T120000
DTSTAMP:20260422T064958
CREATED:20240216T144626Z
LAST-MODIFIED:20240216T144626Z
UID:10001162-1708855200-1708862400@vwpresby.org
SUMMARY:Scout Sunday
DESCRIPTION:
URL:https://vwpresby.org/event/scout-sunday-2/
END:VEVENT
BEGIN:VEVENT
DTSTART;TZID=America/Indiana/Indianapolis:20240226T183000
DTEND;TZID=America/Indiana/Indianapolis:20240226T193000
DTSTAMP:20260422T064958
CREATED:20220114T194043Z
LAST-MODIFIED:20240110T160838Z
UID:10000116-1708972200-1708975800@vwpresby.org
SUMMARY:Cub Scouts
DESCRIPTION:Cub Scouts Every Monday 6:30PM – 7:30PM
URL:https://vwpresby.org/event/cub-scouts/2024-02-26/
END:VEVENT
BEGIN:VEVENT
DTSTART;TZID=America/Indiana/Indianapolis:20240228T103000
DTEND;TZID=America/Indiana/Indianapolis:20240228T113000
DTSTAMP:20260422T064958
CREATED:20220114T194334Z
LAST-MODIFIED:20240110T161852Z
UID:10000379-1709116200-1709119800@vwpresby.org
SUMMARY:Women's Bible Study
DESCRIPTION:Women’s Bible Study every Wednesday 10:30AM
URL:https://vwpresby.org/event/womens-bible-study/2024-02-28/
END:VEVENT
BEGIN:VEVENT
DTSTART;TZID=America/Indiana/Indianapolis:20240229T181500
DTEND;TZID=America/Indiana/Indianapolis:20240229T190000
DTSTAMP:20260422T064958
CREATED:20240110T161130Z
LAST-MODIFIED:20240110T161432Z
UID:10001144-1709230500-1709233200@vwpresby.org
SUMMARY:Bell Practice
DESCRIPTION:Bell Practice every Thursday at 6:15pm
URL:https://vwpresby.org/event/bell-practice/2024-02-29/
END:VEVENT
END:VCALENDAR