BEGIN:VCALENDAR
VERSION:2.0
PRODID:-//First Presbyterian Church of Van Wert - ECPv6.15.20//NONSGML v1.0//EN
CALSCALE:GREGORIAN
METHOD:PUBLISH
X-ORIGINAL-URL:https://vwpresby.org
X-WR-CALDESC:Events for First Presbyterian Church of Van Wert
REFRESH-INTERVAL;VALUE=DURATION:PT1H
X-Robots-Tag:noindex
X-PUBLISHED-TTL:PT1H
BEGIN:VTIMEZONE
TZID:America/Indiana/Indianapolis
BEGIN:DAYLIGHT
TZOFFSETFROM:-0500
TZOFFSETTO:-0400
TZNAME:EDT
DTSTART:20220313T070000
END:DAYLIGHT
BEGIN:STANDARD
TZOFFSETFROM:-0400
TZOFFSETTO:-0500
TZNAME:EST
DTSTART:20221106T060000
END:STANDARD
BEGIN:DAYLIGHT
TZOFFSETFROM:-0500
TZOFFSETTO:-0400
TZNAME:EDT
DTSTART:20230312T070000
END:DAYLIGHT
BEGIN:STANDARD
TZOFFSETFROM:-0400
TZOFFSETTO:-0500
TZNAME:EST
DTSTART:20231105T060000
END:STANDARD
BEGIN:DAYLIGHT
TZOFFSETFROM:-0500
TZOFFSETTO:-0400
TZNAME:EDT
DTSTART:20240310T070000
END:DAYLIGHT
BEGIN:STANDARD
TZOFFSETFROM:-0400
TZOFFSETTO:-0500
TZNAME:EST
DTSTART:20241103T060000
END:STANDARD
END:VTIMEZONE
BEGIN:VEVENT
DTSTART;TZID=America/Indiana/Indianapolis:20231203T100000
DTEND;TZID=America/Indiana/Indianapolis:20231203T110000
DTSTAMP:20260422T125442
CREATED:20220127T162551Z
LAST-MODIFIED:20240110T160338Z
UID:10000495-1701597600-1701601200@vwpresby.org
SUMMARY:Worship Service
DESCRIPTION:
URL:https://vwpresby.org/event/worship-service/2023-12-03/
END:VEVENT
BEGIN:VEVENT
DTSTART;TZID=America/Indiana/Indianapolis:20231203T100000
DTEND;TZID=America/Indiana/Indianapolis:20231203T110000
DTSTAMP:20260422T125442
CREATED:20230908T154122Z
LAST-MODIFIED:20230908T154122Z
UID:10001119-1701597600-1701601200@vwpresby.org
SUMMARY:Communion
DESCRIPTION:
URL:https://vwpresby.org/event/communion-21/
END:VEVENT
BEGIN:VEVENT
DTSTART;TZID=America/Indiana/Indianapolis:20231204T183000
DTEND;TZID=America/Indiana/Indianapolis:20231204T193000
DTSTAMP:20260422T125442
CREATED:20220114T194043Z
LAST-MODIFIED:20240110T160838Z
UID:10000104-1701714600-1701718200@vwpresby.org
SUMMARY:Cub Scouts
DESCRIPTION:Cub Scouts Every Monday 6:30PM – 7:30PM
URL:https://vwpresby.org/event/cub-scouts/2023-12-04/
END:VEVENT
BEGIN:VEVENT
DTSTART;TZID=America/Indiana/Indianapolis:20231204T183000
DTEND;TZID=America/Indiana/Indianapolis:20231204T193000
DTSTAMP:20260422T125442
CREATED:20221229T165114Z
LAST-MODIFIED:20221229T165114Z
UID:10000791-1701714600-1701718200@vwpresby.org
SUMMARY:Cub Scouts
DESCRIPTION:
URL:https://vwpresby.org/event/cub-scouts-2/2023-12-04/
END:VEVENT
BEGIN:VEVENT
DTSTART;TZID=America/Indiana/Indianapolis:20231205T190000
DTEND;TZID=America/Indiana/Indianapolis:20231205T203000
DTSTAMP:20260422T125442
CREATED:20220114T194246Z
LAST-MODIFIED:20221229T164812Z
UID:10000262-1701802800-1701808200@vwpresby.org
SUMMARY:Boy Scouts
DESCRIPTION:Boy Scouts Every Tuesday 7:00PM – 8:30PM
URL:https://vwpresby.org/event/boy-scouts/2023-12-05/
END:VEVENT
BEGIN:VEVENT
DTSTART;TZID=America/Indiana/Indianapolis:20231206T103000
DTEND;TZID=America/Indiana/Indianapolis:20231206T113000
DTSTAMP:20260422T125442
CREATED:20220114T194334Z
LAST-MODIFIED:20240110T161852Z
UID:10000367-1701858600-1701862200@vwpresby.org
SUMMARY:Women's Bible Study
DESCRIPTION:Women’s Bible Study every Wednesday 10:30AM
URL:https://vwpresby.org/event/womens-bible-study/2023-12-06/
END:VEVENT
BEGIN:VEVENT
DTSTART;TZID=America/Indiana/Indianapolis:20231206T153000
DTEND;TZID=America/Indiana/Indianapolis:20231206T173000
DTSTAMP:20260422T125442
CREATED:20230828T134243Z
LAST-MODIFIED:20230828T134803Z
UID:10001105-1701876600-1701883800@vwpresby.org
SUMMARY:JAM
DESCRIPTION:JAM (JESUS AND ME) AFTER SCHOOL PROGRAM
URL:https://vwpresby.org/event/jam/2023-12-06/
END:VEVENT
BEGIN:VEVENT
DTSTART;TZID=America/Indiana/Indianapolis:20231207T120000
DTEND;TZID=America/Indiana/Indianapolis:20231207T133000
DTSTAMP:20260422T125442
CREATED:20230908T154302Z
LAST-MODIFIED:20230908T154302Z
UID:10001121-1701950400-1701955800@vwpresby.org
SUMMARY:Book Club
DESCRIPTION:
URL:https://vwpresby.org/event/book-club-6/
END:VEVENT
BEGIN:VEVENT
DTSTART;TZID=America/Indiana/Indianapolis:20231210T100000
DTEND;TZID=America/Indiana/Indianapolis:20231210T110000
DTSTAMP:20260422T125442
CREATED:20220127T162551Z
LAST-MODIFIED:20240110T160338Z
UID:10000496-1702202400-1702206000@vwpresby.org
SUMMARY:Worship Service
DESCRIPTION:
URL:https://vwpresby.org/event/worship-service/2023-12-10/
END:VEVENT
BEGIN:VEVENT
DTSTART;TZID=America/Indiana/Indianapolis:20231211T183000
DTEND;TZID=America/Indiana/Indianapolis:20231211T193000
DTSTAMP:20260422T125442
CREATED:20220114T194043Z
LAST-MODIFIED:20240110T160838Z
UID:10000105-1702319400-1702323000@vwpresby.org
SUMMARY:Cub Scouts
DESCRIPTION:Cub Scouts Every Monday 6:30PM – 7:30PM
URL:https://vwpresby.org/event/cub-scouts/2023-12-11/
END:VEVENT
BEGIN:VEVENT
DTSTART;TZID=America/Indiana/Indianapolis:20231211T183000
DTEND;TZID=America/Indiana/Indianapolis:20231211T193000
DTSTAMP:20260422T125442
CREATED:20221229T165114Z
LAST-MODIFIED:20221229T165114Z
UID:10000792-1702319400-1702323000@vwpresby.org
SUMMARY:Cub Scouts
DESCRIPTION:
URL:https://vwpresby.org/event/cub-scouts-2/2023-12-11/
END:VEVENT
BEGIN:VEVENT
DTSTART;TZID=America/Indiana/Indianapolis:20231212T190000
DTEND;TZID=America/Indiana/Indianapolis:20231212T203000
DTSTAMP:20260422T125442
CREATED:20220114T194246Z
LAST-MODIFIED:20221229T164812Z
UID:10000263-1702407600-1702413000@vwpresby.org
SUMMARY:Boy Scouts
DESCRIPTION:Boy Scouts Every Tuesday 7:00PM – 8:30PM
URL:https://vwpresby.org/event/boy-scouts/2023-12-12/
END:VEVENT
BEGIN:VEVENT
DTSTART;TZID=America/Indiana/Indianapolis:20231213T103000
DTEND;TZID=America/Indiana/Indianapolis:20231213T113000
DTSTAMP:20260422T125442
CREATED:20220114T194334Z
LAST-MODIFIED:20240110T161852Z
UID:10000368-1702463400-1702467000@vwpresby.org
SUMMARY:Women's Bible Study
DESCRIPTION:Women’s Bible Study every Wednesday 10:30AM
URL:https://vwpresby.org/event/womens-bible-study/2023-12-13/
END:VEVENT
BEGIN:VEVENT
DTSTART;TZID=America/Indiana/Indianapolis:20231217T100000
DTEND;TZID=America/Indiana/Indianapolis:20231217T110000
DTSTAMP:20260422T125442
CREATED:20220127T162551Z
LAST-MODIFIED:20240110T160338Z
UID:10000497-1702807200-1702810800@vwpresby.org
SUMMARY:Worship Service
DESCRIPTION:
URL:https://vwpresby.org/event/worship-service/2023-12-17/
END:VEVENT
BEGIN:VEVENT
DTSTART;TZID=America/Indiana/Indianapolis:20231217T110000
DTEND;TZID=America/Indiana/Indianapolis:20231217T111500
DTSTAMP:20260422T125442
CREATED:20230928T140144Z
LAST-MODIFIED:20231109T150526Z
UID:10000718-1702810800-1702811700@vwpresby.org
SUMMARY:Congregational Meeting
DESCRIPTION:
URL:https://vwpresby.org/event/congregational-meeting-3/
END:VEVENT
BEGIN:VEVENT
DTSTART;TZID=America/Indiana/Indianapolis:20231217T190000
DTEND;TZID=America/Indiana/Indianapolis:20231217T203000
DTSTAMP:20260422T125442
CREATED:20230928T135420Z
LAST-MODIFIED:20230928T135420Z
UID:10001125-1702839600-1702845000@vwpresby.org
SUMMARY:The People's "Messiah" - A "Messiah" Sing-Along
DESCRIPTION:
URL:https://vwpresby.org/event/the-peoples-messiah-a-messiah-sing-along/
END:VEVENT
BEGIN:VEVENT
DTSTART;TZID=America/Indiana/Indianapolis:20231218T183000
DTEND;TZID=America/Indiana/Indianapolis:20231218T193000
DTSTAMP:20260422T125442
CREATED:20220114T194043Z
LAST-MODIFIED:20240110T160838Z
UID:10000106-1702924200-1702927800@vwpresby.org
SUMMARY:Cub Scouts
DESCRIPTION:Cub Scouts Every Monday 6:30PM – 7:30PM
URL:https://vwpresby.org/event/cub-scouts/2023-12-18/
END:VEVENT
BEGIN:VEVENT
DTSTART;TZID=America/Indiana/Indianapolis:20231218T183000
DTEND;TZID=America/Indiana/Indianapolis:20231218T193000
DTSTAMP:20260422T125442
CREATED:20221229T165114Z
LAST-MODIFIED:20221229T165114Z
UID:10000793-1702924200-1702927800@vwpresby.org
SUMMARY:Cub Scouts
DESCRIPTION:
URL:https://vwpresby.org/event/cub-scouts-2/2023-12-18/
END:VEVENT
BEGIN:VEVENT
DTSTART;TZID=America/Indiana/Indianapolis:20231219T190000
DTEND;TZID=America/Indiana/Indianapolis:20231219T203000
DTSTAMP:20260422T125442
CREATED:20220114T194246Z
LAST-MODIFIED:20221229T164812Z
UID:10000264-1703012400-1703017800@vwpresby.org
SUMMARY:Boy Scouts
DESCRIPTION:Boy Scouts Every Tuesday 7:00PM – 8:30PM
URL:https://vwpresby.org/event/boy-scouts/2023-12-19/
END:VEVENT
BEGIN:VEVENT
DTSTART;TZID=America/Indiana/Indianapolis:20231220T103000
DTEND;TZID=America/Indiana/Indianapolis:20231220T113000
DTSTAMP:20260422T125442
CREATED:20220114T194334Z
LAST-MODIFIED:20240110T161852Z
UID:10000369-1703068200-1703071800@vwpresby.org
SUMMARY:Women's Bible Study
DESCRIPTION:Women’s Bible Study every Wednesday 10:30AM
URL:https://vwpresby.org/event/womens-bible-study/2023-12-20/
END:VEVENT
BEGIN:VEVENT
DTSTART;TZID=America/Indiana/Indianapolis:20231224T100000
DTEND;TZID=America/Indiana/Indianapolis:20231224T110000
DTSTAMP:20260422T125442
CREATED:20220127T162551Z
LAST-MODIFIED:20240110T160338Z
UID:10000498-1703412000-1703415600@vwpresby.org
SUMMARY:Worship Service
DESCRIPTION:
URL:https://vwpresby.org/event/worship-service/2023-12-24/
END:VEVENT
BEGIN:VEVENT
DTSTART;TZID=America/Indiana/Indianapolis:20231224T190000
DTEND;TZID=America/Indiana/Indianapolis:20231224T200000
DTSTAMP:20260422T125442
CREATED:20230928T140030Z
LAST-MODIFIED:20230928T140030Z
UID:10000716-1703444400-1703448000@vwpresby.org
SUMMARY:Christmas Eve Service 7pm
DESCRIPTION:
URL:https://vwpresby.org/event/christmas-eve-service-7pm/
END:VEVENT
BEGIN:VEVENT
DTSTART;VALUE=DATE:20231225
DTEND;VALUE=DATE:20231226
DTSTAMP:20260422T125442
CREATED:20230928T135800Z
LAST-MODIFIED:20230928T135800Z
UID:10000714-1703462400-1703548799@vwpresby.org
SUMMARY:Christmas Day *Office Closed*
DESCRIPTION:
URL:https://vwpresby.org/event/christmas-day-office-closed/
END:VEVENT
BEGIN:VEVENT
DTSTART;VALUE=DATE:20231225
DTEND;VALUE=DATE:20231227
DTSTAMP:20260422T125442
CREATED:20231129T150344Z
LAST-MODIFIED:20231129T150344Z
UID:10001126-1703462400-1703635199@vwpresby.org
SUMMARY:Office Closed
DESCRIPTION:
URL:https://vwpresby.org/event/office-closed-5/
END:VEVENT
BEGIN:VEVENT
DTSTART;TZID=America/Indiana/Indianapolis:20231225T183000
DTEND;TZID=America/Indiana/Indianapolis:20231225T193000
DTSTAMP:20260422T125442
CREATED:20220114T194043Z
LAST-MODIFIED:20240110T160838Z
UID:10000107-1703529000-1703532600@vwpresby.org
SUMMARY:Cub Scouts
DESCRIPTION:Cub Scouts Every Monday 6:30PM – 7:30PM
URL:https://vwpresby.org/event/cub-scouts/2023-12-25/
END:VEVENT
BEGIN:VEVENT
DTSTART;TZID=America/Indiana/Indianapolis:20231225T183000
DTEND;TZID=America/Indiana/Indianapolis:20231225T193000
DTSTAMP:20260422T125442
CREATED:20221229T165114Z
LAST-MODIFIED:20221229T165114Z
UID:10000794-1703529000-1703532600@vwpresby.org
SUMMARY:Cub Scouts
DESCRIPTION:
URL:https://vwpresby.org/event/cub-scouts-2/2023-12-25/
END:VEVENT
BEGIN:VEVENT
DTSTART;TZID=America/Indiana/Indianapolis:20231226T190000
DTEND;TZID=America/Indiana/Indianapolis:20231226T203000
DTSTAMP:20260422T125442
CREATED:20220114T194246Z
LAST-MODIFIED:20221229T164812Z
UID:10000265-1703617200-1703622600@vwpresby.org
SUMMARY:Boy Scouts
DESCRIPTION:Boy Scouts Every Tuesday 7:00PM – 8:30PM
URL:https://vwpresby.org/event/boy-scouts/2023-12-26/
END:VEVENT
BEGIN:VEVENT
DTSTART;TZID=America/Indiana/Indianapolis:20231227T103000
DTEND;TZID=America/Indiana/Indianapolis:20231227T113000
DTSTAMP:20260422T125442
CREATED:20220114T194334Z
LAST-MODIFIED:20240110T161852Z
UID:10000370-1703673000-1703676600@vwpresby.org
SUMMARY:Women's Bible Study
DESCRIPTION:Women’s Bible Study every Wednesday 10:30AM
URL:https://vwpresby.org/event/womens-bible-study/2023-12-27/
END:VEVENT
BEGIN:VEVENT
DTSTART;VALUE=DATE:20231228
DTEND;VALUE=DATE:20231229
DTSTAMP:20260422T125442
CREATED:20231228T164413Z
LAST-MODIFIED:20231228T164413Z
UID:10001134-1703721600-1703807999@vwpresby.org
SUMMARY:MLK Day *Office Closed*
DESCRIPTION:
URL:https://vwpresby.org/event/mlk-day-office-closed/
END:VEVENT
BEGIN:VEVENT
DTSTART;TZID=America/Indiana/Indianapolis:20231231T100000
DTEND;TZID=America/Indiana/Indianapolis:20231231T110000
DTSTAMP:20260422T125442
CREATED:20220127T162551Z
LAST-MODIFIED:20240110T160338Z
UID:10000499-1704016800-1704020400@vwpresby.org
SUMMARY:Worship Service
DESCRIPTION:
URL:https://vwpresby.org/event/worship-service/2023-12-31/
END:VEVENT
END:VCALENDAR