BEGIN:VCALENDAR
VERSION:2.0
PRODID:-//First Presbyterian Church of Van Wert - ECPv6.15.20//NONSGML v1.0//EN
CALSCALE:GREGORIAN
METHOD:PUBLISH
X-WR-CALNAME:First Presbyterian Church of Van Wert
X-ORIGINAL-URL:https://vwpresby.org
X-WR-CALDESC:Events for First Presbyterian Church of Van Wert
REFRESH-INTERVAL;VALUE=DURATION:PT1H
X-Robots-Tag:noindex
X-PUBLISHED-TTL:PT1H
BEGIN:VTIMEZONE
TZID:America/Indiana/Indianapolis
BEGIN:DAYLIGHT
TZOFFSETFROM:-0500
TZOFFSETTO:-0400
TZNAME:EDT
DTSTART:20220313T070000
END:DAYLIGHT
BEGIN:STANDARD
TZOFFSETFROM:-0400
TZOFFSETTO:-0500
TZNAME:EST
DTSTART:20221106T060000
END:STANDARD
BEGIN:DAYLIGHT
TZOFFSETFROM:-0500
TZOFFSETTO:-0400
TZNAME:EDT
DTSTART:20230312T070000
END:DAYLIGHT
BEGIN:STANDARD
TZOFFSETFROM:-0400
TZOFFSETTO:-0500
TZNAME:EST
DTSTART:20231105T060000
END:STANDARD
BEGIN:DAYLIGHT
TZOFFSETFROM:-0500
TZOFFSETTO:-0400
TZNAME:EDT
DTSTART:20240310T070000
END:DAYLIGHT
BEGIN:STANDARD
TZOFFSETFROM:-0400
TZOFFSETTO:-0500
TZNAME:EST
DTSTART:20241103T060000
END:STANDARD
END:VTIMEZONE
BEGIN:VEVENT
DTSTART;TZID=America/Indiana/Indianapolis:20231001T100000
DTEND;TZID=America/Indiana/Indianapolis:20231001T110000
DTSTAMP:20260422T184134
CREATED:20220127T162551Z
LAST-MODIFIED:20240110T160338Z
UID:10000486-1696154400-1696158000@vwpresby.org
SUMMARY:Worship Service
DESCRIPTION:
URL:https://vwpresby.org/event/worship-service/2023-10-01/
END:VEVENT
BEGIN:VEVENT
DTSTART;TZID=America/Indiana/Indianapolis:20231001T100000
DTEND;TZID=America/Indiana/Indianapolis:20231001T110000
DTSTAMP:20260422T184134
CREATED:20230908T153829Z
LAST-MODIFIED:20230908T153829Z
UID:10001114-1696154400-1696158000@vwpresby.org
SUMMARY:Communion
DESCRIPTION:
URL:https://vwpresby.org/event/communion-19/
END:VEVENT
BEGIN:VEVENT
DTSTART;TZID=America/Indiana/Indianapolis:20231002T183000
DTEND;TZID=America/Indiana/Indianapolis:20231002T193000
DTSTAMP:20260422T184134
CREATED:20220114T194043Z
LAST-MODIFIED:20240110T160838Z
UID:10000095-1696271400-1696275000@vwpresby.org
SUMMARY:Cub Scouts
DESCRIPTION:Cub Scouts Every Monday 6:30PM – 7:30PM
URL:https://vwpresby.org/event/cub-scouts/2023-10-02/
END:VEVENT
BEGIN:VEVENT
DTSTART;TZID=America/Indiana/Indianapolis:20231002T183000
DTEND;TZID=America/Indiana/Indianapolis:20231002T193000
DTSTAMP:20260422T184134
CREATED:20221229T165114Z
LAST-MODIFIED:20221229T165114Z
UID:10000782-1696271400-1696275000@vwpresby.org
SUMMARY:Cub Scouts
DESCRIPTION:
URL:https://vwpresby.org/event/cub-scouts-2/2023-10-02/
END:VEVENT
BEGIN:VEVENT
DTSTART;TZID=America/Indiana/Indianapolis:20231003T190000
DTEND;TZID=America/Indiana/Indianapolis:20231003T203000
DTSTAMP:20260422T184134
CREATED:20220114T194246Z
LAST-MODIFIED:20221229T164812Z
UID:10000253-1696359600-1696365000@vwpresby.org
SUMMARY:Boy Scouts
DESCRIPTION:Boy Scouts Every Tuesday 7:00PM – 8:30PM
URL:https://vwpresby.org/event/boy-scouts/2023-10-03/
END:VEVENT
BEGIN:VEVENT
DTSTART;TZID=America/Indiana/Indianapolis:20231004T103000
DTEND;TZID=America/Indiana/Indianapolis:20231004T113000
DTSTAMP:20260422T184134
CREATED:20220114T194334Z
LAST-MODIFIED:20240110T161852Z
UID:10000358-1696415400-1696419000@vwpresby.org
SUMMARY:Women's Bible Study
DESCRIPTION:Women’s Bible Study every Wednesday 10:30AM
URL:https://vwpresby.org/event/womens-bible-study/2023-10-04/
END:VEVENT
BEGIN:VEVENT
DTSTART;TZID=America/Indiana/Indianapolis:20231004T153000
DTEND;TZID=America/Indiana/Indianapolis:20231004T173000
DTSTAMP:20260422T184134
CREATED:20230828T134243Z
LAST-MODIFIED:20230828T134803Z
UID:10001096-1696433400-1696440600@vwpresby.org
SUMMARY:JAM
DESCRIPTION:JAM (JESUS AND ME) AFTER SCHOOL PROGRAM
URL:https://vwpresby.org/event/jam/2023-10-04/
END:VEVENT
BEGIN:VEVENT
DTSTART;TZID=America/Indiana/Indianapolis:20231005T120000
DTEND;TZID=America/Indiana/Indianapolis:20231005T133000
DTSTAMP:20260422T184134
CREATED:20230814T153951Z
LAST-MODIFIED:20230814T153951Z
UID:10001094-1696507200-1696512600@vwpresby.org
SUMMARY:Book Club
DESCRIPTION:
URL:https://vwpresby.org/event/book-club-4/
END:VEVENT
BEGIN:VEVENT
DTSTART;TZID=America/Indiana/Indianapolis:20231008T100000
DTEND;TZID=America/Indiana/Indianapolis:20231008T110000
DTSTAMP:20260422T184134
CREATED:20220127T162551Z
LAST-MODIFIED:20240110T160338Z
UID:10000487-1696759200-1696762800@vwpresby.org
SUMMARY:Worship Service
DESCRIPTION:
URL:https://vwpresby.org/event/worship-service/2023-10-08/
END:VEVENT
BEGIN:VEVENT
DTSTART;TZID=America/Indiana/Indianapolis:20231008T111500
DTEND;TZID=America/Indiana/Indianapolis:20231008T121500
DTSTAMP:20260422T184134
CREATED:20230908T153920Z
LAST-MODIFIED:20230908T153920Z
UID:10001115-1696763700-1696767300@vwpresby.org
SUMMARY:Acts Class
DESCRIPTION:Chapter 21
URL:https://vwpresby.org/event/acts-class-3/
END:VEVENT
BEGIN:VEVENT
DTSTART;TZID=America/Indiana/Indianapolis:20231009T183000
DTEND;TZID=America/Indiana/Indianapolis:20231009T193000
DTSTAMP:20260422T184134
CREATED:20220114T194043Z
LAST-MODIFIED:20240110T160838Z
UID:10000096-1696876200-1696879800@vwpresby.org
SUMMARY:Cub Scouts
DESCRIPTION:Cub Scouts Every Monday 6:30PM – 7:30PM
URL:https://vwpresby.org/event/cub-scouts/2023-10-09/
END:VEVENT
BEGIN:VEVENT
DTSTART;TZID=America/Indiana/Indianapolis:20231009T183000
DTEND;TZID=America/Indiana/Indianapolis:20231009T193000
DTSTAMP:20260422T184134
CREATED:20221229T165114Z
LAST-MODIFIED:20221229T165114Z
UID:10000783-1696876200-1696879800@vwpresby.org
SUMMARY:Cub Scouts
DESCRIPTION:
URL:https://vwpresby.org/event/cub-scouts-2/2023-10-09/
END:VEVENT
BEGIN:VEVENT
DTSTART;TZID=America/Indiana/Indianapolis:20231010T190000
DTEND;TZID=America/Indiana/Indianapolis:20231010T203000
DTSTAMP:20260422T184134
CREATED:20220114T194246Z
LAST-MODIFIED:20221229T164812Z
UID:10000254-1696964400-1696969800@vwpresby.org
SUMMARY:Boy Scouts
DESCRIPTION:Boy Scouts Every Tuesday 7:00PM – 8:30PM
URL:https://vwpresby.org/event/boy-scouts/2023-10-10/
END:VEVENT
BEGIN:VEVENT
DTSTART;TZID=America/Indiana/Indianapolis:20231011T103000
DTEND;TZID=America/Indiana/Indianapolis:20231011T113000
DTSTAMP:20260422T184134
CREATED:20220114T194334Z
LAST-MODIFIED:20240110T161852Z
UID:10000359-1697020200-1697023800@vwpresby.org
SUMMARY:Women's Bible Study
DESCRIPTION:Women’s Bible Study every Wednesday 10:30AM
URL:https://vwpresby.org/event/womens-bible-study/2023-10-11/
END:VEVENT
BEGIN:VEVENT
DTSTART;TZID=America/Indiana/Indianapolis:20231011T153000
DTEND;TZID=America/Indiana/Indianapolis:20231011T173000
DTSTAMP:20260422T184134
CREATED:20230828T134243Z
LAST-MODIFIED:20230828T134803Z
UID:10001097-1697038200-1697045400@vwpresby.org
SUMMARY:JAM
DESCRIPTION:JAM (JESUS AND ME) AFTER SCHOOL PROGRAM
URL:https://vwpresby.org/event/jam/2023-10-11/
END:VEVENT
BEGIN:VEVENT
DTSTART;TZID=America/Indiana/Indianapolis:20231015T100000
DTEND;TZID=America/Indiana/Indianapolis:20231015T110000
DTSTAMP:20260422T184134
CREATED:20220127T162551Z
LAST-MODIFIED:20240110T160338Z
UID:10000488-1697364000-1697367600@vwpresby.org
SUMMARY:Worship Service
DESCRIPTION:
URL:https://vwpresby.org/event/worship-service/2023-10-15/
END:VEVENT
BEGIN:VEVENT
DTSTART;TZID=America/Indiana/Indianapolis:20231016T183000
DTEND;TZID=America/Indiana/Indianapolis:20231016T193000
DTSTAMP:20260422T184134
CREATED:20220114T194043Z
LAST-MODIFIED:20240110T160838Z
UID:10000097-1697481000-1697484600@vwpresby.org
SUMMARY:Cub Scouts
DESCRIPTION:Cub Scouts Every Monday 6:30PM – 7:30PM
URL:https://vwpresby.org/event/cub-scouts/2023-10-16/
END:VEVENT
BEGIN:VEVENT
DTSTART;TZID=America/Indiana/Indianapolis:20231016T183000
DTEND;TZID=America/Indiana/Indianapolis:20231016T193000
DTSTAMP:20260422T184134
CREATED:20221229T165114Z
LAST-MODIFIED:20221229T165114Z
UID:10000784-1697481000-1697484600@vwpresby.org
SUMMARY:Cub Scouts
DESCRIPTION:
URL:https://vwpresby.org/event/cub-scouts-2/2023-10-16/
END:VEVENT
BEGIN:VEVENT
DTSTART;TZID=America/Indiana/Indianapolis:20231017T190000
DTEND;TZID=America/Indiana/Indianapolis:20231017T203000
DTSTAMP:20260422T184134
CREATED:20220114T194246Z
LAST-MODIFIED:20221229T164812Z
UID:10000255-1697569200-1697574600@vwpresby.org
SUMMARY:Boy Scouts
DESCRIPTION:Boy Scouts Every Tuesday 7:00PM – 8:30PM
URL:https://vwpresby.org/event/boy-scouts/2023-10-17/
END:VEVENT
BEGIN:VEVENT
DTSTART;TZID=America/Indiana/Indianapolis:20231018T103000
DTEND;TZID=America/Indiana/Indianapolis:20231018T113000
DTSTAMP:20260422T184134
CREATED:20220114T194334Z
LAST-MODIFIED:20240110T161852Z
UID:10000360-1697625000-1697628600@vwpresby.org
SUMMARY:Women's Bible Study
DESCRIPTION:Women’s Bible Study every Wednesday 10:30AM
URL:https://vwpresby.org/event/womens-bible-study/2023-10-18/
END:VEVENT
BEGIN:VEVENT
DTSTART;TZID=America/Indiana/Indianapolis:20231018T153000
DTEND;TZID=America/Indiana/Indianapolis:20231018T173000
DTSTAMP:20260422T184134
CREATED:20230828T134243Z
LAST-MODIFIED:20230828T134803Z
UID:10001098-1697643000-1697650200@vwpresby.org
SUMMARY:JAM
DESCRIPTION:JAM (JESUS AND ME) AFTER SCHOOL PROGRAM
URL:https://vwpresby.org/event/jam/2023-10-18/
END:VEVENT
BEGIN:VEVENT
DTSTART;TZID=America/Indiana/Indianapolis:20231022T100000
DTEND;TZID=America/Indiana/Indianapolis:20231022T110000
DTSTAMP:20260422T184134
CREATED:20220127T162551Z
LAST-MODIFIED:20240110T160338Z
UID:10000489-1697968800-1697972400@vwpresby.org
SUMMARY:Worship Service
DESCRIPTION:
URL:https://vwpresby.org/event/worship-service/2023-10-22/
END:VEVENT
BEGIN:VEVENT
DTSTART;TZID=America/Indiana/Indianapolis:20231022T111500
DTEND;TZID=America/Indiana/Indianapolis:20231022T121500
DTSTAMP:20260422T184134
CREATED:20230908T153954Z
LAST-MODIFIED:20230908T153954Z
UID:10001116-1697973300-1697976900@vwpresby.org
SUMMARY:Acts Class
DESCRIPTION:Chapter 22
URL:https://vwpresby.org/event/acts-class-4/
END:VEVENT
BEGIN:VEVENT
DTSTART;TZID=America/Indiana/Indianapolis:20231023T183000
DTEND;TZID=America/Indiana/Indianapolis:20231023T193000
DTSTAMP:20260422T184134
CREATED:20220114T194043Z
LAST-MODIFIED:20240110T160838Z
UID:10000098-1698085800-1698089400@vwpresby.org
SUMMARY:Cub Scouts
DESCRIPTION:Cub Scouts Every Monday 6:30PM – 7:30PM
URL:https://vwpresby.org/event/cub-scouts/2023-10-23/
END:VEVENT
BEGIN:VEVENT
DTSTART;TZID=America/Indiana/Indianapolis:20231023T183000
DTEND;TZID=America/Indiana/Indianapolis:20231023T193000
DTSTAMP:20260422T184134
CREATED:20221229T165114Z
LAST-MODIFIED:20221229T165114Z
UID:10000785-1698085800-1698089400@vwpresby.org
SUMMARY:Cub Scouts
DESCRIPTION:
URL:https://vwpresby.org/event/cub-scouts-2/2023-10-23/
END:VEVENT
BEGIN:VEVENT
DTSTART;TZID=America/Indiana/Indianapolis:20231024T190000
DTEND;TZID=America/Indiana/Indianapolis:20231024T200000
DTSTAMP:20260422T184134
CREATED:20230908T154029Z
LAST-MODIFIED:20230908T154029Z
UID:10001117-1698174000-1698177600@vwpresby.org
SUMMARY:Session meeting
DESCRIPTION:
URL:https://vwpresby.org/event/session-meeting-3/
END:VEVENT
BEGIN:VEVENT
DTSTART;TZID=America/Indiana/Indianapolis:20231024T190000
DTEND;TZID=America/Indiana/Indianapolis:20231024T203000
DTSTAMP:20260422T184134
CREATED:20220114T194246Z
LAST-MODIFIED:20221229T164812Z
UID:10000256-1698174000-1698179400@vwpresby.org
SUMMARY:Boy Scouts
DESCRIPTION:Boy Scouts Every Tuesday 7:00PM – 8:30PM
URL:https://vwpresby.org/event/boy-scouts/2023-10-24/
END:VEVENT
BEGIN:VEVENT
DTSTART;TZID=America/Indiana/Indianapolis:20231025T103000
DTEND;TZID=America/Indiana/Indianapolis:20231025T113000
DTSTAMP:20260422T184134
CREATED:20220114T194334Z
LAST-MODIFIED:20240110T161852Z
UID:10000361-1698229800-1698233400@vwpresby.org
SUMMARY:Women's Bible Study
DESCRIPTION:Women’s Bible Study every Wednesday 10:30AM
URL:https://vwpresby.org/event/womens-bible-study/2023-10-25/
END:VEVENT
BEGIN:VEVENT
DTSTART;TZID=America/Indiana/Indianapolis:20231025T153000
DTEND;TZID=America/Indiana/Indianapolis:20231025T173000
DTSTAMP:20260422T184134
CREATED:20230828T134243Z
LAST-MODIFIED:20230828T134803Z
UID:10001099-1698247800-1698255000@vwpresby.org
SUMMARY:JAM
DESCRIPTION:JAM (JESUS AND ME) AFTER SCHOOL PROGRAM
URL:https://vwpresby.org/event/jam/2023-10-25/
END:VEVENT
BEGIN:VEVENT
DTSTART;TZID=America/Indiana/Indianapolis:20231028T160000
DTEND;TZID=America/Indiana/Indianapolis:20231028T180000
DTSTAMP:20260422T184134
CREATED:20231013T151059Z
LAST-MODIFIED:20231013T151059Z
UID:10000720-1698508800-1698516000@vwpresby.org
SUMMARY:Trunk or Treat in Church Parking Lot
DESCRIPTION:
URL:https://vwpresby.org/event/trunk-or-treat-in-church-parking-lot/
END:VEVENT
END:VCALENDAR