BEGIN:VCALENDAR
VERSION:2.0
PRODID:-//First Presbyterian Church of Van Wert - ECPv6.15.20//NONSGML v1.0//EN
CALSCALE:GREGORIAN
METHOD:PUBLISH
X-WR-CALNAME:First Presbyterian Church of Van Wert
X-ORIGINAL-URL:https://vwpresby.org
X-WR-CALDESC:Events for First Presbyterian Church of Van Wert
REFRESH-INTERVAL;VALUE=DURATION:PT1H
X-Robots-Tag:noindex
X-PUBLISHED-TTL:PT1H
BEGIN:VTIMEZONE
TZID:America/Indiana/Indianapolis
BEGIN:DAYLIGHT
TZOFFSETFROM:-0500
TZOFFSETTO:-0400
TZNAME:EDT
DTSTART:20220313T070000
END:DAYLIGHT
BEGIN:STANDARD
TZOFFSETFROM:-0400
TZOFFSETTO:-0500
TZNAME:EST
DTSTART:20221106T060000
END:STANDARD
BEGIN:DAYLIGHT
TZOFFSETFROM:-0500
TZOFFSETTO:-0400
TZNAME:EDT
DTSTART:20230312T070000
END:DAYLIGHT
BEGIN:STANDARD
TZOFFSETFROM:-0400
TZOFFSETTO:-0500
TZNAME:EST
DTSTART:20231105T060000
END:STANDARD
BEGIN:DAYLIGHT
TZOFFSETFROM:-0500
TZOFFSETTO:-0400
TZNAME:EDT
DTSTART:20240310T070000
END:DAYLIGHT
BEGIN:STANDARD
TZOFFSETFROM:-0400
TZOFFSETTO:-0500
TZNAME:EST
DTSTART:20241103T060000
END:STANDARD
END:VTIMEZONE
BEGIN:VEVENT
DTSTART;TZID=America/Indiana/Indianapolis:20230702T100000
DTEND;TZID=America/Indiana/Indianapolis:20230702T110000
DTSTAMP:20260423T020748
CREATED:20220127T162551Z
LAST-MODIFIED:20240110T160338Z
UID:10000473-1688292000-1688295600@vwpresby.org
SUMMARY:Worship Service
DESCRIPTION:
URL:https://vwpresby.org/event/worship-service/2023-07-02/
END:VEVENT
BEGIN:VEVENT
DTSTART;TZID=America/Indiana/Indianapolis:20230702T100000
DTEND;TZID=America/Indiana/Indianapolis:20230702T110000
DTSTAMP:20260423T020748
CREATED:20230504T144110Z
LAST-MODIFIED:20230504T144110Z
UID:10000975-1688292000-1688295600@vwpresby.org
SUMMARY:Communion
DESCRIPTION:
URL:https://vwpresby.org/event/communion-16/
END:VEVENT
BEGIN:VEVENT
DTSTART;TZID=America/Indiana/Indianapolis:20230703T183000
DTEND;TZID=America/Indiana/Indianapolis:20230703T193000
DTSTAMP:20260423T020748
CREATED:20220114T194043Z
LAST-MODIFIED:20240110T160838Z
UID:10000082-1688409000-1688412600@vwpresby.org
SUMMARY:Cub Scouts
DESCRIPTION:Cub Scouts Every Monday 6:30PM – 7:30PM
URL:https://vwpresby.org/event/cub-scouts/2023-07-03/
END:VEVENT
BEGIN:VEVENT
DTSTART;TZID=America/Indiana/Indianapolis:20230703T183000
DTEND;TZID=America/Indiana/Indianapolis:20230703T193000
DTSTAMP:20260423T020748
CREATED:20221229T165114Z
LAST-MODIFIED:20221229T165114Z
UID:10000769-1688409000-1688412600@vwpresby.org
SUMMARY:Cub Scouts
DESCRIPTION:
URL:https://vwpresby.org/event/cub-scouts-2/2023-07-03/
END:VEVENT
BEGIN:VEVENT
DTSTART;TZID=America/Indiana/Indianapolis:20230704T190000
DTEND;TZID=America/Indiana/Indianapolis:20230704T203000
DTSTAMP:20260423T020748
CREATED:20220114T194246Z
LAST-MODIFIED:20221229T164812Z
UID:10000240-1688497200-1688502600@vwpresby.org
SUMMARY:Boy Scouts
DESCRIPTION:Boy Scouts Every Tuesday 7:00PM – 8:30PM
URL:https://vwpresby.org/event/boy-scouts/2023-07-04/
END:VEVENT
BEGIN:VEVENT
DTSTART;TZID=America/Indiana/Indianapolis:20230705T103000
DTEND;TZID=America/Indiana/Indianapolis:20230705T113000
DTSTAMP:20260423T020748
CREATED:20220114T194334Z
LAST-MODIFIED:20240110T161852Z
UID:10000345-1688553000-1688556600@vwpresby.org
SUMMARY:Women's Bible Study
DESCRIPTION:Women’s Bible Study every Wednesday 10:30AM
URL:https://vwpresby.org/event/womens-bible-study/2023-07-05/
END:VEVENT
BEGIN:VEVENT
DTSTART;TZID=America/Indiana/Indianapolis:20230709T100000
DTEND;TZID=America/Indiana/Indianapolis:20230709T110000
DTSTAMP:20260423T020748
CREATED:20220127T162551Z
LAST-MODIFIED:20240110T160338Z
UID:10000474-1688896800-1688900400@vwpresby.org
SUMMARY:Worship Service
DESCRIPTION:
URL:https://vwpresby.org/event/worship-service/2023-07-09/
END:VEVENT
BEGIN:VEVENT
DTSTART;TZID=America/Indiana/Indianapolis:20230709T111500
DTEND;TZID=America/Indiana/Indianapolis:20230709T121500
DTSTAMP:20260423T020748
CREATED:20230706T160934Z
LAST-MODIFIED:20230706T160934Z
UID:10000694-1688901300-1688904900@vwpresby.org
SUMMARY:Acts Study
DESCRIPTION:
URL:https://vwpresby.org/event/acts-study/
END:VEVENT
BEGIN:VEVENT
DTSTART;TZID=America/Indiana/Indianapolis:20230710T120000
DTEND;TZID=America/Indiana/Indianapolis:20230710T130000
DTSTAMP:20260423T020748
CREATED:20230706T160712Z
LAST-MODIFIED:20230706T160712Z
UID:10001091-1688990400-1688994000@vwpresby.org
SUMMARY:Mission Committee Meeting
DESCRIPTION:
URL:https://vwpresby.org/event/mission-committee-meeting/
END:VEVENT
BEGIN:VEVENT
DTSTART;TZID=America/Indiana/Indianapolis:20230710T180000
DTEND;TZID=America/Indiana/Indianapolis:20230712T200000
DTSTAMP:20260423T020748
CREATED:20230628T160236Z
LAST-MODIFIED:20230706T160506Z
UID:10001018-1689012000-1689192000@vwpresby.org
SUMMARY:VBS
DESCRIPTION:
URL:https://vwpresby.org/event/vbs-4/
END:VEVENT
BEGIN:VEVENT
DTSTART;TZID=America/Indiana/Indianapolis:20230710T183000
DTEND;TZID=America/Indiana/Indianapolis:20230710T193000
DTSTAMP:20260423T020748
CREATED:20220114T194043Z
LAST-MODIFIED:20240110T160838Z
UID:10000083-1689013800-1689017400@vwpresby.org
SUMMARY:Cub Scouts
DESCRIPTION:Cub Scouts Every Monday 6:30PM – 7:30PM
URL:https://vwpresby.org/event/cub-scouts/2023-07-10/
END:VEVENT
BEGIN:VEVENT
DTSTART;TZID=America/Indiana/Indianapolis:20230710T183000
DTEND;TZID=America/Indiana/Indianapolis:20230710T193000
DTSTAMP:20260423T020748
CREATED:20221229T165114Z
LAST-MODIFIED:20221229T165114Z
UID:10000770-1689013800-1689017400@vwpresby.org
SUMMARY:Cub Scouts
DESCRIPTION:
URL:https://vwpresby.org/event/cub-scouts-2/2023-07-10/
END:VEVENT
BEGIN:VEVENT
DTSTART;TZID=America/Indiana/Indianapolis:20230711T190000
DTEND;TZID=America/Indiana/Indianapolis:20230711T203000
DTSTAMP:20260423T020748
CREATED:20220114T194246Z
LAST-MODIFIED:20221229T164812Z
UID:10000241-1689102000-1689107400@vwpresby.org
SUMMARY:Boy Scouts
DESCRIPTION:Boy Scouts Every Tuesday 7:00PM – 8:30PM
URL:https://vwpresby.org/event/boy-scouts/2023-07-11/
END:VEVENT
BEGIN:VEVENT
DTSTART;TZID=America/Indiana/Indianapolis:20230712T103000
DTEND;TZID=America/Indiana/Indianapolis:20230712T113000
DTSTAMP:20260423T020748
CREATED:20220114T194334Z
LAST-MODIFIED:20240110T161852Z
UID:10000346-1689157800-1689161400@vwpresby.org
SUMMARY:Women's Bible Study
DESCRIPTION:Women’s Bible Study every Wednesday 10:30AM
URL:https://vwpresby.org/event/womens-bible-study/2023-07-12/
END:VEVENT
BEGIN:VEVENT
DTSTART;TZID=America/Indiana/Indianapolis:20230713T183000
DTEND;TZID=America/Indiana/Indianapolis:20230713T193000
DTSTAMP:20260423T020748
CREATED:20230706T160840Z
LAST-MODIFIED:20230706T160840Z
UID:10000690-1689273000-1689276600@vwpresby.org
SUMMARY:John Calvin Study
DESCRIPTION:
URL:https://vwpresby.org/event/john-calvin-study-2/
END:VEVENT
BEGIN:VEVENT
DTSTART;TZID=America/Indiana/Indianapolis:20230716T100000
DTEND;TZID=America/Indiana/Indianapolis:20230716T110000
DTSTAMP:20260423T020748
CREATED:20220127T162551Z
LAST-MODIFIED:20240110T160338Z
UID:10000475-1689501600-1689505200@vwpresby.org
SUMMARY:Worship Service
DESCRIPTION:
URL:https://vwpresby.org/event/worship-service/2023-07-16/
END:VEVENT
BEGIN:VEVENT
DTSTART;TZID=America/Indiana/Indianapolis:20230716T100000
DTEND;TZID=America/Indiana/Indianapolis:20230716T130000
DTSTAMP:20260423T020748
CREATED:20230706T160619Z
LAST-MODIFIED:20230706T160619Z
UID:10001090-1689501600-1689512400@vwpresby.org
SUMMARY:VBS Childrens presentation & Indian meal in Fellowship Hall
DESCRIPTION:
URL:https://vwpresby.org/event/vbs-childrens-presentation-indian-meal-in-fellowship-hall/
END:VEVENT
BEGIN:VEVENT
DTSTART;TZID=America/Indiana/Indianapolis:20230717T183000
DTEND;TZID=America/Indiana/Indianapolis:20230717T193000
DTSTAMP:20260423T020748
CREATED:20220114T194043Z
LAST-MODIFIED:20240110T160838Z
UID:10000084-1689618600-1689622200@vwpresby.org
SUMMARY:Cub Scouts
DESCRIPTION:Cub Scouts Every Monday 6:30PM – 7:30PM
URL:https://vwpresby.org/event/cub-scouts/2023-07-17/
END:VEVENT
BEGIN:VEVENT
DTSTART;TZID=America/Indiana/Indianapolis:20230717T183000
DTEND;TZID=America/Indiana/Indianapolis:20230717T193000
DTSTAMP:20260423T020748
CREATED:20221229T165114Z
LAST-MODIFIED:20221229T165114Z
UID:10000771-1689618600-1689622200@vwpresby.org
SUMMARY:Cub Scouts
DESCRIPTION:
URL:https://vwpresby.org/event/cub-scouts-2/2023-07-17/
END:VEVENT
BEGIN:VEVENT
DTSTART;TZID=America/Indiana/Indianapolis:20230718T190000
DTEND;TZID=America/Indiana/Indianapolis:20230718T203000
DTSTAMP:20260423T020748
CREATED:20220114T194246Z
LAST-MODIFIED:20221229T164812Z
UID:10000242-1689706800-1689712200@vwpresby.org
SUMMARY:Boy Scouts
DESCRIPTION:Boy Scouts Every Tuesday 7:00PM – 8:30PM
URL:https://vwpresby.org/event/boy-scouts/2023-07-18/
END:VEVENT
BEGIN:VEVENT
DTSTART;TZID=America/Indiana/Indianapolis:20230719T103000
DTEND;TZID=America/Indiana/Indianapolis:20230719T113000
DTSTAMP:20260423T020748
CREATED:20220114T194334Z
LAST-MODIFIED:20240110T161852Z
UID:10000347-1689762600-1689766200@vwpresby.org
SUMMARY:Women's Bible Study
DESCRIPTION:Women’s Bible Study every Wednesday 10:30AM
URL:https://vwpresby.org/event/womens-bible-study/2023-07-19/
END:VEVENT
BEGIN:VEVENT
DTSTART;TZID=America/Indiana/Indianapolis:20230723T090000
DTEND;TZID=America/Indiana/Indianapolis:20230723T100000
DTSTAMP:20260423T020748
CREATED:20230706T160752Z
LAST-MODIFIED:20230706T160752Z
UID:10001092-1690102800-1690106400@vwpresby.org
SUMMARY:Coffee & Donuts
DESCRIPTION:
URL:https://vwpresby.org/event/coffee-donuts-8/
END:VEVENT
BEGIN:VEVENT
DTSTART;TZID=America/Indiana/Indianapolis:20230723T100000
DTEND;TZID=America/Indiana/Indianapolis:20230723T110000
DTSTAMP:20260423T020748
CREATED:20220127T162551Z
LAST-MODIFIED:20240110T160338Z
UID:10000476-1690106400-1690110000@vwpresby.org
SUMMARY:Worship Service
DESCRIPTION:
URL:https://vwpresby.org/event/worship-service/2023-07-23/
END:VEVENT
BEGIN:VEVENT
DTSTART;TZID=America/Indiana/Indianapolis:20230723T111500
DTEND;TZID=America/Indiana/Indianapolis:20230723T121500
DTSTAMP:20260423T020748
CREATED:20230706T161012Z
LAST-MODIFIED:20230706T161012Z
UID:10000696-1690110900-1690114500@vwpresby.org
SUMMARY:Acts Study
DESCRIPTION:
URL:https://vwpresby.org/event/acts-study-2/
END:VEVENT
BEGIN:VEVENT
DTSTART;TZID=America/Indiana/Indianapolis:20230724T183000
DTEND;TZID=America/Indiana/Indianapolis:20230724T193000
DTSTAMP:20260423T020748
CREATED:20220114T194043Z
LAST-MODIFIED:20240110T160838Z
UID:10000085-1690223400-1690227000@vwpresby.org
SUMMARY:Cub Scouts
DESCRIPTION:Cub Scouts Every Monday 6:30PM – 7:30PM
URL:https://vwpresby.org/event/cub-scouts/2023-07-24/
END:VEVENT
BEGIN:VEVENT
DTSTART;TZID=America/Indiana/Indianapolis:20230724T183000
DTEND;TZID=America/Indiana/Indianapolis:20230724T193000
DTSTAMP:20260423T020748
CREATED:20221229T165114Z
LAST-MODIFIED:20221229T165114Z
UID:10000772-1690223400-1690227000@vwpresby.org
SUMMARY:Cub Scouts
DESCRIPTION:
URL:https://vwpresby.org/event/cub-scouts-2/2023-07-24/
END:VEVENT
BEGIN:VEVENT
DTSTART;TZID=America/Indiana/Indianapolis:20230725T190000
DTEND;TZID=America/Indiana/Indianapolis:20230725T203000
DTSTAMP:20260423T020748
CREATED:20220114T194246Z
LAST-MODIFIED:20221229T164812Z
UID:10000243-1690311600-1690317000@vwpresby.org
SUMMARY:Boy Scouts
DESCRIPTION:Boy Scouts Every Tuesday 7:00PM – 8:30PM
URL:https://vwpresby.org/event/boy-scouts/2023-07-25/
END:VEVENT
BEGIN:VEVENT
DTSTART;TZID=America/Indiana/Indianapolis:20230725T190000
DTEND;TZID=America/Indiana/Indianapolis:20230725T203000
DTSTAMP:20260423T020748
CREATED:20230706T161301Z
LAST-MODIFIED:20230706T161301Z
UID:10000704-1690311600-1690317000@vwpresby.org
SUMMARY:Session
DESCRIPTION:
URL:https://vwpresby.org/event/session-3/
END:VEVENT
BEGIN:VEVENT
DTSTART;TZID=America/Indiana/Indianapolis:20230726T103000
DTEND;TZID=America/Indiana/Indianapolis:20230726T113000
DTSTAMP:20260423T020748
CREATED:20220114T194334Z
LAST-MODIFIED:20240110T161852Z
UID:10000348-1690367400-1690371000@vwpresby.org
SUMMARY:Women's Bible Study
DESCRIPTION:Women’s Bible Study every Wednesday 10:30AM
URL:https://vwpresby.org/event/womens-bible-study/2023-07-26/
END:VEVENT
BEGIN:VEVENT
DTSTART;TZID=America/Indiana/Indianapolis:20230727T183000
DTEND;TZID=America/Indiana/Indianapolis:20230727T193000
DTSTAMP:20260423T020748
CREATED:20230706T160901Z
LAST-MODIFIED:20230706T160901Z
UID:10000692-1690482600-1690486200@vwpresby.org
SUMMARY:John Calvin Study
DESCRIPTION:
URL:https://vwpresby.org/event/john-calvin-study-3/
END:VEVENT
END:VCALENDAR