BEGIN:VCALENDAR
VERSION:2.0
PRODID:-//First Presbyterian Church of Van Wert - ECPv6.15.20//NONSGML v1.0//EN
CALSCALE:GREGORIAN
METHOD:PUBLISH
X-WR-CALNAME:First Presbyterian Church of Van Wert
X-ORIGINAL-URL:https://vwpresby.org
X-WR-CALDESC:Events for First Presbyterian Church of Van Wert
REFRESH-INTERVAL;VALUE=DURATION:PT1H
X-Robots-Tag:noindex
X-PUBLISHED-TTL:PT1H
BEGIN:VTIMEZONE
TZID:America/Indiana/Indianapolis
BEGIN:DAYLIGHT
TZOFFSETFROM:-0500
TZOFFSETTO:-0400
TZNAME:EDT
DTSTART:20220313T070000
END:DAYLIGHT
BEGIN:STANDARD
TZOFFSETFROM:-0400
TZOFFSETTO:-0500
TZNAME:EST
DTSTART:20221106T060000
END:STANDARD
BEGIN:DAYLIGHT
TZOFFSETFROM:-0500
TZOFFSETTO:-0400
TZNAME:EDT
DTSTART:20230312T070000
END:DAYLIGHT
BEGIN:STANDARD
TZOFFSETFROM:-0400
TZOFFSETTO:-0500
TZNAME:EST
DTSTART:20231105T060000
END:STANDARD
BEGIN:DAYLIGHT
TZOFFSETFROM:-0500
TZOFFSETTO:-0400
TZNAME:EDT
DTSTART:20240310T070000
END:DAYLIGHT
BEGIN:STANDARD
TZOFFSETFROM:-0400
TZOFFSETTO:-0500
TZNAME:EST
DTSTART:20241103T060000
END:STANDARD
END:VTIMEZONE
BEGIN:VEVENT
DTSTART;TZID=America/Indiana/Indianapolis:20230401T100000
DTEND;TZID=America/Indiana/Indianapolis:20230401T120000
DTSTAMP:20260423T074355
CREATED:20230328T141138Z
LAST-MODIFIED:20230328T141138Z
UID:10000958-1680343200-1680350400@vwpresby.org
SUMMARY:Laurie Purmort Memorial
DESCRIPTION:
URL:https://vwpresby.org/event/laurie-purmort-memorial/
END:VEVENT
BEGIN:VEVENT
DTSTART;VALUE=DATE:20230402
DTEND;VALUE=DATE:20230403
DTSTAMP:20260423T074355
CREATED:20230328T140940Z
LAST-MODIFIED:20230328T140940Z
UID:10000952-1680393600-1680479999@vwpresby.org
SUMMARY:Palm Sunday
DESCRIPTION:
URL:https://vwpresby.org/event/palm-sunday-2/
END:VEVENT
BEGIN:VEVENT
DTSTART;TZID=America/Indiana/Indianapolis:20230402T100000
DTEND;TZID=America/Indiana/Indianapolis:20230402T110000
DTSTAMP:20260423T074355
CREATED:20220127T162551Z
LAST-MODIFIED:20240110T160338Z
UID:10000460-1680429600-1680433200@vwpresby.org
SUMMARY:Worship Service
DESCRIPTION:
URL:https://vwpresby.org/event/worship-service/2023-04-02/
END:VEVENT
BEGIN:VEVENT
DTSTART;TZID=America/Indiana/Indianapolis:20230402T171500
DTEND;TZID=America/Indiana/Indianapolis:20230402T180000
DTSTAMP:20260423T074355
CREATED:20230328T141219Z
LAST-MODIFIED:20230328T141219Z
UID:10000960-1680455700-1680458400@vwpresby.org
SUMMARY:Confirmation Class
DESCRIPTION:
URL:https://vwpresby.org/event/confirmation-class-3/
END:VEVENT
BEGIN:VEVENT
DTSTART;TZID=America/Indiana/Indianapolis:20230403T171500
DTEND;TZID=America/Indiana/Indianapolis:20230403T180000
DTSTAMP:20260423T074355
CREATED:20230328T141248Z
LAST-MODIFIED:20230328T141248Z
UID:10000961-1680542100-1680544800@vwpresby.org
SUMMARY:Confirmation Class
DESCRIPTION:
URL:https://vwpresby.org/event/confirmation-class-4/
END:VEVENT
BEGIN:VEVENT
DTSTART;TZID=America/Indiana/Indianapolis:20230403T183000
DTEND;TZID=America/Indiana/Indianapolis:20230403T193000
DTSTAMP:20260423T074355
CREATED:20220114T194043Z
LAST-MODIFIED:20240110T160838Z
UID:10000069-1680546600-1680550200@vwpresby.org
SUMMARY:Cub Scouts
DESCRIPTION:Cub Scouts Every Monday 6:30PM – 7:30PM
URL:https://vwpresby.org/event/cub-scouts/2023-04-03/
END:VEVENT
BEGIN:VEVENT
DTSTART;TZID=America/Indiana/Indianapolis:20230403T183000
DTEND;TZID=America/Indiana/Indianapolis:20230403T193000
DTSTAMP:20260423T074355
CREATED:20221229T165114Z
LAST-MODIFIED:20221229T165114Z
UID:10000756-1680546600-1680550200@vwpresby.org
SUMMARY:Cub Scouts
DESCRIPTION:
URL:https://vwpresby.org/event/cub-scouts-2/2023-04-03/
END:VEVENT
BEGIN:VEVENT
DTSTART;TZID=America/Indiana/Indianapolis:20230404T190000
DTEND;TZID=America/Indiana/Indianapolis:20230404T203000
DTSTAMP:20260423T074355
CREATED:20220114T194246Z
LAST-MODIFIED:20221229T164812Z
UID:10000227-1680634800-1680640200@vwpresby.org
SUMMARY:Boy Scouts
DESCRIPTION:Boy Scouts Every Tuesday 7:00PM – 8:30PM
URL:https://vwpresby.org/event/boy-scouts/2023-04-04/
END:VEVENT
BEGIN:VEVENT
DTSTART;TZID=America/Indiana/Indianapolis:20230405T103000
DTEND;TZID=America/Indiana/Indianapolis:20230405T113000
DTSTAMP:20260423T074355
CREATED:20220114T194334Z
LAST-MODIFIED:20240110T161852Z
UID:10000332-1680690600-1680694200@vwpresby.org
SUMMARY:Women's Bible Study
DESCRIPTION:Women’s Bible Study every Wednesday 10:30AM
URL:https://vwpresby.org/event/womens-bible-study/2023-04-05/
END:VEVENT
BEGIN:VEVENT
DTSTART;TZID=America/Indiana/Indianapolis:20230406T190000
DTEND;TZID=America/Indiana/Indianapolis:20230406T200000
DTSTAMP:20260423T074355
CREATED:20230314T154003Z
LAST-MODIFIED:20230314T154003Z
UID:10000668-1680807600-1680811200@vwpresby.org
SUMMARY:Maundy Thursday Service
DESCRIPTION:
URL:https://vwpresby.org/event/maundy-thursday-service/
END:VEVENT
BEGIN:VEVENT
DTSTART;VALUE=DATE:20230407
DTEND;VALUE=DATE:20230408
DTSTAMP:20260423T074355
CREATED:20230328T140830Z
LAST-MODIFIED:20230328T140830Z
UID:10000948-1680825600-1680911999@vwpresby.org
SUMMARY:Good Friday *office closed*
DESCRIPTION:
URL:https://vwpresby.org/event/good-friday-office-closed/
END:VEVENT
BEGIN:VEVENT
DTSTART;VALUE=DATE:20230409
DTEND;VALUE=DATE:20230410
DTSTAMP:20260423T074355
CREATED:20230328T140914Z
LAST-MODIFIED:20230328T140914Z
UID:10000950-1680998400-1681084799@vwpresby.org
SUMMARY:Easter Sunday
DESCRIPTION:
URL:https://vwpresby.org/event/easter-sunday/
END:VEVENT
BEGIN:VEVENT
DTSTART;TZID=America/Indiana/Indianapolis:20230409T100000
DTEND;TZID=America/Indiana/Indianapolis:20230409T110000
DTSTAMP:20260423T074355
CREATED:20220127T162551Z
LAST-MODIFIED:20240110T160338Z
UID:10000461-1681034400-1681038000@vwpresby.org
SUMMARY:Worship Service
DESCRIPTION:
URL:https://vwpresby.org/event/worship-service/2023-04-09/
END:VEVENT
BEGIN:VEVENT
DTSTART;TZID=America/Indiana/Indianapolis:20230409T100000
DTEND;TZID=America/Indiana/Indianapolis:20230409T110000
DTSTAMP:20260423T074355
CREATED:20230314T154958Z
LAST-MODIFIED:20230314T154958Z
UID:10000670-1681034400-1681038000@vwpresby.org
SUMMARY:One Great Hour of Sharing
DESCRIPTION:
URL:https://vwpresby.org/event/one-great-hour-of-sharing/
END:VEVENT
BEGIN:VEVENT
DTSTART;TZID=America/Indiana/Indianapolis:20230409T171500
DTEND;TZID=America/Indiana/Indianapolis:20230409T180000
DTSTAMP:20260423T074355
CREATED:20230328T141313Z
LAST-MODIFIED:20230328T141313Z
UID:10000962-1681060500-1681063200@vwpresby.org
SUMMARY:Confirmation Class
DESCRIPTION:
URL:https://vwpresby.org/event/confirmation-class-5/
END:VEVENT
BEGIN:VEVENT
DTSTART;TZID=America/Indiana/Indianapolis:20230410T171500
DTEND;TZID=America/Indiana/Indianapolis:20230410T180000
DTSTAMP:20260423T074355
CREATED:20230328T141337Z
LAST-MODIFIED:20230328T141337Z
UID:10000963-1681146900-1681149600@vwpresby.org
SUMMARY:Confirmation Class
DESCRIPTION:
URL:https://vwpresby.org/event/confirmation-class-6/
END:VEVENT
BEGIN:VEVENT
DTSTART;TZID=America/Indiana/Indianapolis:20230410T183000
DTEND;TZID=America/Indiana/Indianapolis:20230410T193000
DTSTAMP:20260423T074355
CREATED:20220114T194043Z
LAST-MODIFIED:20240110T160838Z
UID:10000070-1681151400-1681155000@vwpresby.org
SUMMARY:Cub Scouts
DESCRIPTION:Cub Scouts Every Monday 6:30PM – 7:30PM
URL:https://vwpresby.org/event/cub-scouts/2023-04-10/
END:VEVENT
BEGIN:VEVENT
DTSTART;TZID=America/Indiana/Indianapolis:20230410T183000
DTEND;TZID=America/Indiana/Indianapolis:20230410T193000
DTSTAMP:20260423T074355
CREATED:20221229T165114Z
LAST-MODIFIED:20221229T165114Z
UID:10000757-1681151400-1681155000@vwpresby.org
SUMMARY:Cub Scouts
DESCRIPTION:
URL:https://vwpresby.org/event/cub-scouts-2/2023-04-10/
END:VEVENT
BEGIN:VEVENT
DTSTART;TZID=America/Indiana/Indianapolis:20230411T190000
DTEND;TZID=America/Indiana/Indianapolis:20230411T203000
DTSTAMP:20260423T074355
CREATED:20220114T194246Z
LAST-MODIFIED:20221229T164812Z
UID:10000228-1681239600-1681245000@vwpresby.org
SUMMARY:Boy Scouts
DESCRIPTION:Boy Scouts Every Tuesday 7:00PM – 8:30PM
URL:https://vwpresby.org/event/boy-scouts/2023-04-11/
END:VEVENT
BEGIN:VEVENT
DTSTART;TZID=America/Indiana/Indianapolis:20230412T103000
DTEND;TZID=America/Indiana/Indianapolis:20230412T113000
DTSTAMP:20260423T074355
CREATED:20220114T194334Z
LAST-MODIFIED:20240110T161852Z
UID:10000333-1681295400-1681299000@vwpresby.org
SUMMARY:Women's Bible Study
DESCRIPTION:Women’s Bible Study every Wednesday 10:30AM
URL:https://vwpresby.org/event/womens-bible-study/2023-04-12/
END:VEVENT
BEGIN:VEVENT
DTSTART;TZID=America/Indiana/Indianapolis:20230416T100000
DTEND;TZID=America/Indiana/Indianapolis:20230416T110000
DTSTAMP:20260423T074355
CREATED:20220127T162551Z
LAST-MODIFIED:20240110T160338Z
UID:10000462-1681639200-1681642800@vwpresby.org
SUMMARY:Worship Service
DESCRIPTION:
URL:https://vwpresby.org/event/worship-service/2023-04-16/
END:VEVENT
BEGIN:VEVENT
DTSTART;TZID=America/Indiana/Indianapolis:20230416T171500
DTEND;TZID=America/Indiana/Indianapolis:20230416T180000
DTSTAMP:20260423T074355
CREATED:20230328T141405Z
LAST-MODIFIED:20230328T141405Z
UID:10000964-1681665300-1681668000@vwpresby.org
SUMMARY:Confirmation Class
DESCRIPTION:
URL:https://vwpresby.org/event/confirmation-class-7/
END:VEVENT
BEGIN:VEVENT
DTSTART;TZID=America/Indiana/Indianapolis:20230417T140000
DTEND;TZID=America/Indiana/Indianapolis:20230417T200000
DTSTAMP:20260423T074355
CREATED:20230314T155045Z
LAST-MODIFIED:20230314T155045Z
UID:10000672-1681740000-1681761600@vwpresby.org
SUMMARY:Church Directory Pictures
DESCRIPTION:
URL:https://vwpresby.org/event/church-directory-pictures/
END:VEVENT
BEGIN:VEVENT
DTSTART;TZID=America/Indiana/Indianapolis:20230417T140000
DTEND;TZID=America/Indiana/Indianapolis:20230418T200000
DTSTAMP:20260423T074355
CREATED:20230328T141027Z
LAST-MODIFIED:20230328T141027Z
UID:10000954-1681740000-1681848000@vwpresby.org
SUMMARY:Directory Pictures
DESCRIPTION:
URL:https://vwpresby.org/event/directory-pictures/
END:VEVENT
BEGIN:VEVENT
DTSTART;TZID=America/Indiana/Indianapolis:20230417T171500
DTEND;TZID=America/Indiana/Indianapolis:20230417T180000
DTSTAMP:20260423T074355
CREATED:20230328T141428Z
LAST-MODIFIED:20230328T141428Z
UID:10000965-1681751700-1681754400@vwpresby.org
SUMMARY:Confirmation Class
DESCRIPTION:
URL:https://vwpresby.org/event/confirmation-class-8/
END:VEVENT
BEGIN:VEVENT
DTSTART;TZID=America/Indiana/Indianapolis:20230417T183000
DTEND;TZID=America/Indiana/Indianapolis:20230417T193000
DTSTAMP:20260423T074355
CREATED:20220114T194043Z
LAST-MODIFIED:20240110T160838Z
UID:10000071-1681756200-1681759800@vwpresby.org
SUMMARY:Cub Scouts
DESCRIPTION:Cub Scouts Every Monday 6:30PM – 7:30PM
URL:https://vwpresby.org/event/cub-scouts/2023-04-17/
END:VEVENT
BEGIN:VEVENT
DTSTART;TZID=America/Indiana/Indianapolis:20230417T183000
DTEND;TZID=America/Indiana/Indianapolis:20230417T193000
DTSTAMP:20260423T074355
CREATED:20221229T165114Z
LAST-MODIFIED:20221229T165114Z
UID:10000758-1681756200-1681759800@vwpresby.org
SUMMARY:Cub Scouts
DESCRIPTION:
URL:https://vwpresby.org/event/cub-scouts-2/2023-04-17/
END:VEVENT
BEGIN:VEVENT
DTSTART;TZID=America/Indiana/Indianapolis:20230418T150000
DTEND;TZID=America/Indiana/Indianapolis:20230418T200000
DTSTAMP:20260423T074355
CREATED:20230314T155112Z
LAST-MODIFIED:20230314T155112Z
UID:10000674-1681830000-1681848000@vwpresby.org
SUMMARY:Church Directory Picutres
DESCRIPTION:
URL:https://vwpresby.org/event/church-directory-picutres/
END:VEVENT
BEGIN:VEVENT
DTSTART;TZID=America/Indiana/Indianapolis:20230418T190000
DTEND;TZID=America/Indiana/Indianapolis:20230418T203000
DTSTAMP:20260423T074355
CREATED:20220114T194246Z
LAST-MODIFIED:20221229T164812Z
UID:10000229-1681844400-1681849800@vwpresby.org
SUMMARY:Boy Scouts
DESCRIPTION:Boy Scouts Every Tuesday 7:00PM – 8:30PM
URL:https://vwpresby.org/event/boy-scouts/2023-04-18/
END:VEVENT
BEGIN:VEVENT
DTSTART;TZID=America/Indiana/Indianapolis:20230419T103000
DTEND;TZID=America/Indiana/Indianapolis:20230419T113000
DTSTAMP:20260423T074355
CREATED:20220114T194334Z
LAST-MODIFIED:20240110T161852Z
UID:10000334-1681900200-1681903800@vwpresby.org
SUMMARY:Women's Bible Study
DESCRIPTION:Women’s Bible Study every Wednesday 10:30AM
URL:https://vwpresby.org/event/womens-bible-study/2023-04-19/
END:VEVENT
END:VCALENDAR