BEGIN:VCALENDAR
VERSION:2.0
PRODID:-//First Presbyterian Church of Van Wert - ECPv6.15.20//NONSGML v1.0//EN
CALSCALE:GREGORIAN
METHOD:PUBLISH
X-WR-CALNAME:First Presbyterian Church of Van Wert
X-ORIGINAL-URL:https://vwpresby.org
X-WR-CALDESC:Events for First Presbyterian Church of Van Wert
REFRESH-INTERVAL;VALUE=DURATION:PT1H
X-Robots-Tag:noindex
X-PUBLISHED-TTL:PT1H
BEGIN:VTIMEZONE
TZID:America/Indiana/Indianapolis
BEGIN:DAYLIGHT
TZOFFSETFROM:-0500
TZOFFSETTO:-0400
TZNAME:EDT
DTSTART:20220313T070000
END:DAYLIGHT
BEGIN:STANDARD
TZOFFSETFROM:-0400
TZOFFSETTO:-0500
TZNAME:EST
DTSTART:20221106T060000
END:STANDARD
BEGIN:DAYLIGHT
TZOFFSETFROM:-0500
TZOFFSETTO:-0400
TZNAME:EDT
DTSTART:20230312T070000
END:DAYLIGHT
BEGIN:STANDARD
TZOFFSETFROM:-0400
TZOFFSETTO:-0500
TZNAME:EST
DTSTART:20231105T060000
END:STANDARD
BEGIN:DAYLIGHT
TZOFFSETFROM:-0500
TZOFFSETTO:-0400
TZNAME:EDT
DTSTART:20240310T070000
END:DAYLIGHT
BEGIN:STANDARD
TZOFFSETFROM:-0400
TZOFFSETTO:-0500
TZNAME:EST
DTSTART:20241103T060000
END:STANDARD
END:VTIMEZONE
BEGIN:VEVENT
DTSTART;TZID=America/Indiana/Indianapolis:20230201T103000
DTEND;TZID=America/Indiana/Indianapolis:20230201T113000
DTSTAMP:20260423T132931
CREATED:20220114T194334Z
LAST-MODIFIED:20240110T161852Z
UID:10000323-1675247400-1675251000@vwpresby.org
SUMMARY:Women's Bible Study
DESCRIPTION:Women’s Bible Study every Wednesday 10:30AM
URL:https://vwpresby.org/event/womens-bible-study/2023-02-01/
END:VEVENT
BEGIN:VEVENT
DTSTART;TZID=America/Indiana/Indianapolis:20230202T120000
DTEND;TZID=America/Indiana/Indianapolis:20230202T133000
DTSTAMP:20260423T132931
CREATED:20230113T193933Z
LAST-MODIFIED:20230113T193933Z
UID:10000801-1675339200-1675344600@vwpresby.org
SUMMARY:Book Club in Fellowship Hall
DESCRIPTION:
URL:https://vwpresby.org/event/book-club-in-fellowship-hall/
END:VEVENT
BEGIN:VEVENT
DTSTART;TZID=America/Indiana/Indianapolis:20230205T100000
DTEND;TZID=America/Indiana/Indianapolis:20230205T110000
DTSTAMP:20260423T132931
CREATED:20220127T162551Z
LAST-MODIFIED:20240110T160338Z
UID:10000452-1675591200-1675594800@vwpresby.org
SUMMARY:Worship Service
DESCRIPTION:
URL:https://vwpresby.org/event/worship-service/2023-02-05/
END:VEVENT
BEGIN:VEVENT
DTSTART;TZID=America/Indiana/Indianapolis:20230205T100000
DTEND;TZID=America/Indiana/Indianapolis:20230205T110000
DTSTAMP:20260423T132931
CREATED:20230113T193825Z
LAST-MODIFIED:20230113T193825Z
UID:10000799-1675591200-1675594800@vwpresby.org
SUMMARY:Communion
DESCRIPTION:
URL:https://vwpresby.org/event/communion-12/
END:VEVENT
BEGIN:VEVENT
DTSTART;TZID=America/Indiana/Indianapolis:20230206T183000
DTEND;TZID=America/Indiana/Indianapolis:20230206T193000
DTSTAMP:20260423T132931
CREATED:20220114T194043Z
LAST-MODIFIED:20240110T160838Z
UID:10000061-1675708200-1675711800@vwpresby.org
SUMMARY:Cub Scouts
DESCRIPTION:Cub Scouts Every Monday 6:30PM – 7:30PM
URL:https://vwpresby.org/event/cub-scouts/2023-02-06/
END:VEVENT
BEGIN:VEVENT
DTSTART;TZID=America/Indiana/Indianapolis:20230206T183000
DTEND;TZID=America/Indiana/Indianapolis:20230206T193000
DTSTAMP:20260423T132931
CREATED:20221229T165114Z
LAST-MODIFIED:20221229T165114Z
UID:10000748-1675708200-1675711800@vwpresby.org
SUMMARY:Cub Scouts
DESCRIPTION:
URL:https://vwpresby.org/event/cub-scouts-2/2023-02-06/
END:VEVENT
BEGIN:VEVENT
DTSTART;TZID=America/Indiana/Indianapolis:20230207T190000
DTEND;TZID=America/Indiana/Indianapolis:20230207T203000
DTSTAMP:20260423T132931
CREATED:20220114T194246Z
LAST-MODIFIED:20221229T164812Z
UID:10000219-1675796400-1675801800@vwpresby.org
SUMMARY:Boy Scouts
DESCRIPTION:Boy Scouts Every Tuesday 7:00PM – 8:30PM
URL:https://vwpresby.org/event/boy-scouts/2023-02-07/
END:VEVENT
BEGIN:VEVENT
DTSTART;TZID=America/Indiana/Indianapolis:20230208T103000
DTEND;TZID=America/Indiana/Indianapolis:20230208T113000
DTSTAMP:20260423T132931
CREATED:20220114T194334Z
LAST-MODIFIED:20240110T161852Z
UID:10000324-1675852200-1675855800@vwpresby.org
SUMMARY:Women's Bible Study
DESCRIPTION:Women’s Bible Study every Wednesday 10:30AM
URL:https://vwpresby.org/event/womens-bible-study/2023-02-08/
END:VEVENT
BEGIN:VEVENT
DTSTART;TZID=America/Indiana/Indianapolis:20230209T183000
DTEND;TZID=America/Indiana/Indianapolis:20230209T193000
DTSTAMP:20260423T132931
CREATED:20230113T193959Z
LAST-MODIFIED:20230113T193959Z
UID:10000803-1675967400-1675971000@vwpresby.org
SUMMARY:Study Group
DESCRIPTION:
URL:https://vwpresby.org/event/study-group-18/
END:VEVENT
BEGIN:VEVENT
DTSTART;TZID=America/Indiana/Indianapolis:20230212T100000
DTEND;TZID=America/Indiana/Indianapolis:20230212T110000
DTSTAMP:20260423T132931
CREATED:20220127T162551Z
LAST-MODIFIED:20240110T160338Z
UID:10000453-1676196000-1676199600@vwpresby.org
SUMMARY:Worship Service
DESCRIPTION:
URL:https://vwpresby.org/event/worship-service/2023-02-12/
END:VEVENT
BEGIN:VEVENT
DTSTART;TZID=America/Indiana/Indianapolis:20230212T110000
DTEND;TZID=America/Indiana/Indianapolis:20230212T113000
DTSTAMP:20260423T132931
CREATED:20230113T194315Z
LAST-MODIFIED:20230113T194315Z
UID:10000807-1676199600-1676201400@vwpresby.org
SUMMARY:Congregational Meeting after Worship
DESCRIPTION:
URL:https://vwpresby.org/event/congregational-meeting-after-worship-2/
END:VEVENT
BEGIN:VEVENT
DTSTART;TZID=America/Indiana/Indianapolis:20230212T111500
DTEND;TZID=America/Indiana/Indianapolis:20230212T121500
DTSTAMP:20260423T132931
CREATED:20230113T194030Z
LAST-MODIFIED:20230113T194030Z
UID:10000813-1676200500-1676204100@vwpresby.org
SUMMARY:Study Group
DESCRIPTION:
URL:https://vwpresby.org/event/study-group-19/
END:VEVENT
BEGIN:VEVENT
DTSTART;TZID=America/Indiana/Indianapolis:20230213T183000
DTEND;TZID=America/Indiana/Indianapolis:20230213T193000
DTSTAMP:20260423T132931
CREATED:20220114T194043Z
LAST-MODIFIED:20240110T160838Z
UID:10000062-1676313000-1676316600@vwpresby.org
SUMMARY:Cub Scouts
DESCRIPTION:Cub Scouts Every Monday 6:30PM – 7:30PM
URL:https://vwpresby.org/event/cub-scouts/2023-02-13/
END:VEVENT
BEGIN:VEVENT
DTSTART;TZID=America/Indiana/Indianapolis:20230213T183000
DTEND;TZID=America/Indiana/Indianapolis:20230213T193000
DTSTAMP:20260423T132931
CREATED:20221229T165114Z
LAST-MODIFIED:20221229T165114Z
UID:10000749-1676313000-1676316600@vwpresby.org
SUMMARY:Cub Scouts
DESCRIPTION:
URL:https://vwpresby.org/event/cub-scouts-2/2023-02-13/
END:VEVENT
BEGIN:VEVENT
DTSTART;TZID=America/Indiana/Indianapolis:20230214T190000
DTEND;TZID=America/Indiana/Indianapolis:20230214T203000
DTSTAMP:20260423T132931
CREATED:20220114T194246Z
LAST-MODIFIED:20221229T164812Z
UID:10000220-1676401200-1676406600@vwpresby.org
SUMMARY:Boy Scouts
DESCRIPTION:Boy Scouts Every Tuesday 7:00PM – 8:30PM
URL:https://vwpresby.org/event/boy-scouts/2023-02-14/
END:VEVENT
BEGIN:VEVENT
DTSTART;TZID=America/Indiana/Indianapolis:20230215T103000
DTEND;TZID=America/Indiana/Indianapolis:20230215T113000
DTSTAMP:20260423T132931
CREATED:20220114T194334Z
LAST-MODIFIED:20240110T161852Z
UID:10000325-1676457000-1676460600@vwpresby.org
SUMMARY:Women's Bible Study
DESCRIPTION:Women’s Bible Study every Wednesday 10:30AM
URL:https://vwpresby.org/event/womens-bible-study/2023-02-15/
END:VEVENT
BEGIN:VEVENT
DTSTART;TZID=America/Indiana/Indianapolis:20230219T100000
DTEND;TZID=America/Indiana/Indianapolis:20230219T110000
DTSTAMP:20260423T132931
CREATED:20220127T162551Z
LAST-MODIFIED:20240110T160338Z
UID:10000454-1676800800-1676804400@vwpresby.org
SUMMARY:Worship Service
DESCRIPTION:
URL:https://vwpresby.org/event/worship-service/2023-02-19/
END:VEVENT
BEGIN:VEVENT
DTSTART;TZID=America/Indiana/Indianapolis:20230220T183000
DTEND;TZID=America/Indiana/Indianapolis:20230220T193000
DTSTAMP:20260423T132931
CREATED:20220114T194043Z
LAST-MODIFIED:20240110T160838Z
UID:10000063-1676917800-1676921400@vwpresby.org
SUMMARY:Cub Scouts
DESCRIPTION:Cub Scouts Every Monday 6:30PM – 7:30PM
URL:https://vwpresby.org/event/cub-scouts/2023-02-20/
END:VEVENT
BEGIN:VEVENT
DTSTART;TZID=America/Indiana/Indianapolis:20230220T183000
DTEND;TZID=America/Indiana/Indianapolis:20230220T193000
DTSTAMP:20260423T132931
CREATED:20221229T165114Z
LAST-MODIFIED:20221229T165114Z
UID:10000750-1676917800-1676921400@vwpresby.org
SUMMARY:Cub Scouts
DESCRIPTION:
URL:https://vwpresby.org/event/cub-scouts-2/2023-02-20/
END:VEVENT
BEGIN:VEVENT
DTSTART;TZID=America/Indiana/Indianapolis:20230221T190000
DTEND;TZID=America/Indiana/Indianapolis:20230221T203000
DTSTAMP:20260423T132931
CREATED:20220114T194246Z
LAST-MODIFIED:20221229T164812Z
UID:10000221-1677006000-1677011400@vwpresby.org
SUMMARY:Boy Scouts
DESCRIPTION:Boy Scouts Every Tuesday 7:00PM – 8:30PM
URL:https://vwpresby.org/event/boy-scouts/2023-02-21/
END:VEVENT
BEGIN:VEVENT
DTSTART;TZID=America/Indiana/Indianapolis:20230222T103000
DTEND;TZID=America/Indiana/Indianapolis:20230222T113000
DTSTAMP:20260423T132931
CREATED:20220114T194334Z
LAST-MODIFIED:20240110T161852Z
UID:10000326-1677061800-1677065400@vwpresby.org
SUMMARY:Women's Bible Study
DESCRIPTION:Women’s Bible Study every Wednesday 10:30AM
URL:https://vwpresby.org/event/womens-bible-study/2023-02-22/
END:VEVENT
BEGIN:VEVENT
DTSTART;TZID=America/Indiana/Indianapolis:20230222T183000
DTEND;TZID=America/Indiana/Indianapolis:20230222T193000
DTSTAMP:20260423T132931
CREATED:20230208T140737Z
LAST-MODIFIED:20230208T140737Z
UID:10000815-1677090600-1677094200@vwpresby.org
SUMMARY:Ash Wednesday Service
DESCRIPTION:
URL:https://vwpresby.org/event/ash-wednesday-service/
END:VEVENT
BEGIN:VEVENT
DTSTART;TZID=America/Indiana/Indianapolis:20230223T183000
DTEND;TZID=America/Indiana/Indianapolis:20230223T193000
DTSTAMP:20260423T132931
CREATED:20230113T194108Z
LAST-MODIFIED:20230113T194108Z
UID:10000811-1677177000-1677180600@vwpresby.org
SUMMARY:Study Group
DESCRIPTION:
URL:https://vwpresby.org/event/study-group-20/
END:VEVENT
BEGIN:VEVENT
DTSTART;TZID=America/Indiana/Indianapolis:20230226T100000
DTEND;TZID=America/Indiana/Indianapolis:20230226T110000
DTSTAMP:20260423T132931
CREATED:20220127T162551Z
LAST-MODIFIED:20240110T160338Z
UID:10000455-1677405600-1677409200@vwpresby.org
SUMMARY:Worship Service
DESCRIPTION:
URL:https://vwpresby.org/event/worship-service/2023-02-26/
END:VEVENT
BEGIN:VEVENT
DTSTART;TZID=America/Indiana/Indianapolis:20230226T100000
DTEND;TZID=America/Indiana/Indianapolis:20230226T110000
DTSTAMP:20260423T132931
CREATED:20230113T194207Z
LAST-MODIFIED:20230113T194207Z
UID:10000805-1677405600-1677409200@vwpresby.org
SUMMARY:Scout Sunday
DESCRIPTION:
URL:https://vwpresby.org/event/scout-sunday/
END:VEVENT
BEGIN:VEVENT
DTSTART;TZID=America/Indiana/Indianapolis:20230226T111500
DTEND;TZID=America/Indiana/Indianapolis:20230226T121500
DTSTAMP:20260423T132931
CREATED:20230113T194136Z
LAST-MODIFIED:20230113T194136Z
UID:10000809-1677410100-1677413700@vwpresby.org
SUMMARY:Study Group
DESCRIPTION:
URL:https://vwpresby.org/event/study-group-21/
END:VEVENT
BEGIN:VEVENT
DTSTART;TZID=America/Indiana/Indianapolis:20230227T183000
DTEND;TZID=America/Indiana/Indianapolis:20230227T193000
DTSTAMP:20260423T132931
CREATED:20220114T194043Z
LAST-MODIFIED:20240110T160838Z
UID:10000064-1677522600-1677526200@vwpresby.org
SUMMARY:Cub Scouts
DESCRIPTION:Cub Scouts Every Monday 6:30PM – 7:30PM
URL:https://vwpresby.org/event/cub-scouts/2023-02-27/
END:VEVENT
BEGIN:VEVENT
DTSTART;TZID=America/Indiana/Indianapolis:20230227T183000
DTEND;TZID=America/Indiana/Indianapolis:20230227T193000
DTSTAMP:20260423T132931
CREATED:20221229T165114Z
LAST-MODIFIED:20221229T165114Z
UID:10000751-1677522600-1677526200@vwpresby.org
SUMMARY:Cub Scouts
DESCRIPTION:
URL:https://vwpresby.org/event/cub-scouts-2/2023-02-27/
END:VEVENT
BEGIN:VEVENT
DTSTART;TZID=America/Indiana/Indianapolis:20230228T190000
DTEND;TZID=America/Indiana/Indianapolis:20230228T203000
DTSTAMP:20260423T132931
CREATED:20220114T194246Z
LAST-MODIFIED:20221229T164812Z
UID:10000222-1677610800-1677616200@vwpresby.org
SUMMARY:Boy Scouts
DESCRIPTION:Boy Scouts Every Tuesday 7:00PM – 8:30PM
URL:https://vwpresby.org/event/boy-scouts/2023-02-28/
END:VEVENT
END:VCALENDAR