BEGIN:VCALENDAR
VERSION:2.0
PRODID:-//First Presbyterian Church of Van Wert - ECPv6.15.20//NONSGML v1.0//EN
CALSCALE:GREGORIAN
METHOD:PUBLISH
X-ORIGINAL-URL:https://vwpresby.org
X-WR-CALDESC:Events for First Presbyterian Church of Van Wert
REFRESH-INTERVAL;VALUE=DURATION:PT1H
X-Robots-Tag:noindex
X-PUBLISHED-TTL:PT1H
BEGIN:VTIMEZONE
TZID:America/Indiana/Indianapolis
BEGIN:DAYLIGHT
TZOFFSETFROM:-0500
TZOFFSETTO:-0400
TZNAME:EDT
DTSTART:20220313T070000
END:DAYLIGHT
BEGIN:STANDARD
TZOFFSETFROM:-0400
TZOFFSETTO:-0500
TZNAME:EST
DTSTART:20221106T060000
END:STANDARD
BEGIN:DAYLIGHT
TZOFFSETFROM:-0500
TZOFFSETTO:-0400
TZNAME:EDT
DTSTART:20230312T070000
END:DAYLIGHT
BEGIN:STANDARD
TZOFFSETFROM:-0400
TZOFFSETTO:-0500
TZNAME:EST
DTSTART:20231105T060000
END:STANDARD
BEGIN:DAYLIGHT
TZOFFSETFROM:-0500
TZOFFSETTO:-0400
TZNAME:EDT
DTSTART:20240310T070000
END:DAYLIGHT
BEGIN:STANDARD
TZOFFSETFROM:-0400
TZOFFSETTO:-0500
TZNAME:EST
DTSTART:20241103T060000
END:STANDARD
END:VTIMEZONE
BEGIN:VEVENT
DTSTART;TZID=America/Indiana/Indianapolis:20230101T100000
DTEND;TZID=America/Indiana/Indianapolis:20230101T110000
DTSTAMP:20260423T161341
CREATED:20220127T162551Z
LAST-MODIFIED:20240110T160338Z
UID:10000447-1672567200-1672570800@vwpresby.org
SUMMARY:Worship Service
DESCRIPTION:
URL:https://vwpresby.org/event/worship-service/2023-01-01/
END:VEVENT
BEGIN:VEVENT
DTSTART;VALUE=DATE:20230102
DTEND;VALUE=DATE:20230103
DTSTAMP:20260423T161341
CREATED:20221229T164919Z
LAST-MODIFIED:20221229T164919Z
UID:10000740-1672617600-1672703999@vwpresby.org
SUMMARY:Office Closed
DESCRIPTION:
URL:https://vwpresby.org/event/office-closed-4/
END:VEVENT
BEGIN:VEVENT
DTSTART;TZID=America/Indiana/Indianapolis:20230102T183000
DTEND;TZID=America/Indiana/Indianapolis:20230102T193000
DTSTAMP:20260423T161341
CREATED:20220114T194043Z
LAST-MODIFIED:20240110T160838Z
UID:10000056-1672684200-1672687800@vwpresby.org
SUMMARY:Cub Scouts
DESCRIPTION:Cub Scouts Every Monday 6:30PM – 7:30PM
URL:https://vwpresby.org/event/cub-scouts/2023-01-02/
END:VEVENT
BEGIN:VEVENT
DTSTART;TZID=America/Indiana/Indianapolis:20230102T183000
DTEND;TZID=America/Indiana/Indianapolis:20230102T193000
DTSTAMP:20260423T161341
CREATED:20221229T165114Z
LAST-MODIFIED:20221229T165114Z
UID:10000743-1672684200-1672687800@vwpresby.org
SUMMARY:Cub Scouts
DESCRIPTION:
URL:https://vwpresby.org/event/cub-scouts-2/2023-01-02/
END:VEVENT
BEGIN:VEVENT
DTSTART;TZID=America/Indiana/Indianapolis:20230103T190000
DTEND;TZID=America/Indiana/Indianapolis:20230103T203000
DTSTAMP:20260423T161341
CREATED:20220114T194246Z
LAST-MODIFIED:20221229T164812Z
UID:10000214-1672772400-1672777800@vwpresby.org
SUMMARY:Boy Scouts
DESCRIPTION:Boy Scouts Every Tuesday 7:00PM – 8:30PM
URL:https://vwpresby.org/event/boy-scouts/2023-01-03/
END:VEVENT
BEGIN:VEVENT
DTSTART;TZID=America/Indiana/Indianapolis:20230104T103000
DTEND;TZID=America/Indiana/Indianapolis:20230104T113000
DTSTAMP:20260423T161341
CREATED:20220114T194334Z
LAST-MODIFIED:20240110T161852Z
UID:10000319-1672828200-1672831800@vwpresby.org
SUMMARY:Women's Bible Study
DESCRIPTION:Women’s Bible Study every Wednesday 10:30AM
URL:https://vwpresby.org/event/womens-bible-study/2023-01-04/
END:VEVENT
BEGIN:VEVENT
DTSTART;TZID=America/Indiana/Indianapolis:20230108T100000
DTEND;TZID=America/Indiana/Indianapolis:20230108T110000
DTSTAMP:20260423T161341
CREATED:20220127T162551Z
LAST-MODIFIED:20240110T160338Z
UID:10000448-1673172000-1673175600@vwpresby.org
SUMMARY:Worship Service
DESCRIPTION:
URL:https://vwpresby.org/event/worship-service/2023-01-08/
END:VEVENT
BEGIN:VEVENT
DTSTART;TZID=America/Indiana/Indianapolis:20230108T100000
DTEND;TZID=America/Indiana/Indianapolis:20230108T110000
DTSTAMP:20260423T161341
CREATED:20221214T141734Z
LAST-MODIFIED:20221221T191135Z
UID:10000644-1673172000-1673175600@vwpresby.org
SUMMARY:Communion
DESCRIPTION:
URL:https://vwpresby.org/event/communion-11/
END:VEVENT
BEGIN:VEVENT
DTSTART;TZID=America/Indiana/Indianapolis:20230108T100000
DTEND;TZID=America/Indiana/Indianapolis:20230108T110000
DTSTAMP:20260423T161341
CREATED:20221221T191231Z
LAST-MODIFIED:20221221T191231Z
UID:10000652-1673172000-1673175600@vwpresby.org
SUMMARY:Ordination & Installation
DESCRIPTION:
URL:https://vwpresby.org/event/ordination-installation/
END:VEVENT
BEGIN:VEVENT
DTSTART;TZID=America/Indiana/Indianapolis:20230108T110000
DTEND;TZID=America/Indiana/Indianapolis:20230108T130000
DTSTAMP:20260423T161341
CREATED:20221229T160632Z
LAST-MODIFIED:20221229T160632Z
UID:10000737-1673175600-1673182800@vwpresby.org
SUMMARY:Taking Down the Greens
DESCRIPTION:
URL:https://vwpresby.org/event/taking-down-the-greens/
END:VEVENT
BEGIN:VEVENT
DTSTART;TZID=America/Indiana/Indianapolis:20230108T111500
DTEND;TZID=America/Indiana/Indianapolis:20230108T121500
DTSTAMP:20260423T161341
CREATED:20221214T141837Z
LAST-MODIFIED:20221214T141837Z
UID:10000646-1673176500-1673180100@vwpresby.org
SUMMARY:Study Group
DESCRIPTION:
URL:https://vwpresby.org/event/study-group-14/
END:VEVENT
BEGIN:VEVENT
DTSTART;TZID=America/Indiana/Indianapolis:20230109T183000
DTEND;TZID=America/Indiana/Indianapolis:20230109T193000
DTSTAMP:20260423T161341
CREATED:20220114T194043Z
LAST-MODIFIED:20240110T160838Z
UID:10000057-1673289000-1673292600@vwpresby.org
SUMMARY:Cub Scouts
DESCRIPTION:Cub Scouts Every Monday 6:30PM – 7:30PM
URL:https://vwpresby.org/event/cub-scouts/2023-01-09/
END:VEVENT
BEGIN:VEVENT
DTSTART;TZID=America/Indiana/Indianapolis:20230109T183000
DTEND;TZID=America/Indiana/Indianapolis:20230109T193000
DTSTAMP:20260423T161341
CREATED:20221229T165114Z
LAST-MODIFIED:20221229T165114Z
UID:10000744-1673289000-1673292600@vwpresby.org
SUMMARY:Cub Scouts
DESCRIPTION:
URL:https://vwpresby.org/event/cub-scouts-2/2023-01-09/
END:VEVENT
BEGIN:VEVENT
DTSTART;TZID=America/Indiana/Indianapolis:20230110T190000
DTEND;TZID=America/Indiana/Indianapolis:20230110T203000
DTSTAMP:20260423T161341
CREATED:20220114T194246Z
LAST-MODIFIED:20221229T164812Z
UID:10000215-1673377200-1673382600@vwpresby.org
SUMMARY:Boy Scouts
DESCRIPTION:Boy Scouts Every Tuesday 7:00PM – 8:30PM
URL:https://vwpresby.org/event/boy-scouts/2023-01-10/
END:VEVENT
BEGIN:VEVENT
DTSTART;TZID=America/Indiana/Indianapolis:20230111T103000
DTEND;TZID=America/Indiana/Indianapolis:20230111T113000
DTSTAMP:20260423T161341
CREATED:20220114T194334Z
LAST-MODIFIED:20240110T161852Z
UID:10000320-1673433000-1673436600@vwpresby.org
SUMMARY:Women's Bible Study
DESCRIPTION:Women’s Bible Study every Wednesday 10:30AM
URL:https://vwpresby.org/event/womens-bible-study/2023-01-11/
END:VEVENT
BEGIN:VEVENT
DTSTART;TZID=America/Indiana/Indianapolis:20230112T190000
DTEND;TZID=America/Indiana/Indianapolis:20230112T200000
DTSTAMP:20260423T161341
CREATED:20221214T141924Z
LAST-MODIFIED:20221214T141924Z
UID:10000648-1673550000-1673553600@vwpresby.org
SUMMARY:Study Group
DESCRIPTION:
URL:https://vwpresby.org/event/study-group-15/
END:VEVENT
BEGIN:VEVENT
DTSTART;TZID=America/Indiana/Indianapolis:20230115T100000
DTEND;TZID=America/Indiana/Indianapolis:20230115T110000
DTSTAMP:20260423T161341
CREATED:20220127T162551Z
LAST-MODIFIED:20240110T160338Z
UID:10000449-1673776800-1673780400@vwpresby.org
SUMMARY:Worship Service
DESCRIPTION:
URL:https://vwpresby.org/event/worship-service/2023-01-15/
END:VEVENT
BEGIN:VEVENT
DTSTART;TZID=America/Indiana/Indianapolis:20230115T110000
DTEND;TZID=America/Indiana/Indianapolis:20230115T113000
DTSTAMP:20260423T161341
CREATED:20221229T164234Z
LAST-MODIFIED:20221229T164234Z
UID:10000738-1673780400-1673782200@vwpresby.org
SUMMARY:Deacons Meeting after Worship Service
DESCRIPTION:
URL:https://vwpresby.org/event/deacons-meeting-after-worship-service/
END:VEVENT
BEGIN:VEVENT
DTSTART;VALUE=DATE:20230116
DTEND;VALUE=DATE:20230117
DTSTAMP:20260423T161341
CREATED:20221229T164956Z
LAST-MODIFIED:20221229T164956Z
UID:10000741-1673827200-1673913599@vwpresby.org
SUMMARY:Office Closed Martin Luther King Jr. Day
DESCRIPTION:
URL:https://vwpresby.org/event/office-closed-martin-luther-king-jr-day/
END:VEVENT
BEGIN:VEVENT
DTSTART;TZID=America/Indiana/Indianapolis:20230116T183000
DTEND;TZID=America/Indiana/Indianapolis:20230116T193000
DTSTAMP:20260423T161341
CREATED:20220114T194043Z
LAST-MODIFIED:20240110T160838Z
UID:10000058-1673893800-1673897400@vwpresby.org
SUMMARY:Cub Scouts
DESCRIPTION:Cub Scouts Every Monday 6:30PM – 7:30PM
URL:https://vwpresby.org/event/cub-scouts/2023-01-16/
END:VEVENT
BEGIN:VEVENT
DTSTART;TZID=America/Indiana/Indianapolis:20230116T183000
DTEND;TZID=America/Indiana/Indianapolis:20230116T193000
DTSTAMP:20260423T161341
CREATED:20221229T165114Z
LAST-MODIFIED:20221229T165114Z
UID:10000745-1673893800-1673897400@vwpresby.org
SUMMARY:Cub Scouts
DESCRIPTION:
URL:https://vwpresby.org/event/cub-scouts-2/2023-01-16/
END:VEVENT
BEGIN:VEVENT
DTSTART;TZID=America/Indiana/Indianapolis:20230117T190000
DTEND;TZID=America/Indiana/Indianapolis:20230117T203000
DTSTAMP:20260423T161341
CREATED:20220114T194246Z
LAST-MODIFIED:20221229T164812Z
UID:10000216-1673982000-1673987400@vwpresby.org
SUMMARY:Boy Scouts
DESCRIPTION:Boy Scouts Every Tuesday 7:00PM – 8:30PM
URL:https://vwpresby.org/event/boy-scouts/2023-01-17/
END:VEVENT
BEGIN:VEVENT
DTSTART;TZID=America/Indiana/Indianapolis:20230118T103000
DTEND;TZID=America/Indiana/Indianapolis:20230118T113000
DTSTAMP:20260423T161341
CREATED:20220114T194334Z
LAST-MODIFIED:20240110T161852Z
UID:10000321-1674037800-1674041400@vwpresby.org
SUMMARY:Women's Bible Study
DESCRIPTION:Women’s Bible Study every Wednesday 10:30AM
URL:https://vwpresby.org/event/womens-bible-study/2023-01-18/
END:VEVENT
BEGIN:VEVENT
DTSTART;TZID=America/Indiana/Indianapolis:20230120T183000
DTEND;TZID=America/Indiana/Indianapolis:20230121T120000
DTSTAMP:20260423T161341
CREATED:20221229T164404Z
LAST-MODIFIED:20221229T164404Z
UID:10000739-1674239400-1674302400@vwpresby.org
SUMMARY:Polar Bear Sleepover CUB SCOUTS
DESCRIPTION:
URL:https://vwpresby.org/event/polar-bear-sleepover-cub-scouts/
END:VEVENT
BEGIN:VEVENT
DTSTART;TZID=America/Indiana/Indianapolis:20230121T100000
DTEND;TZID=America/Indiana/Indianapolis:20230121T130000
DTSTAMP:20260423T161341
CREATED:20230119T173434Z
LAST-MODIFIED:20230119T173434Z
UID:10000814-1674295200-1674306000@vwpresby.org
SUMMARY:Helen Jewett Memorial Service
DESCRIPTION:
URL:https://vwpresby.org/event/helen-jewett-memorial-service/
END:VEVENT
BEGIN:VEVENT
DTSTART;TZID=America/Indiana/Indianapolis:20230122T090000
DTEND;TZID=America/Indiana/Indianapolis:20230122T100000
DTSTAMP:20260423T161341
CREATED:20221214T142050Z
LAST-MODIFIED:20221214T142050Z
UID:10000650-1674378000-1674381600@vwpresby.org
SUMMARY:Coffee & Donuts
DESCRIPTION:
URL:https://vwpresby.org/event/coffee-donuts-4/
END:VEVENT
BEGIN:VEVENT
DTSTART;TZID=America/Indiana/Indianapolis:20230122T100000
DTEND;TZID=America/Indiana/Indianapolis:20230122T110000
DTSTAMP:20260423T161341
CREATED:20220127T162551Z
LAST-MODIFIED:20240110T160338Z
UID:10000450-1674381600-1674385200@vwpresby.org
SUMMARY:Worship Service
DESCRIPTION:
URL:https://vwpresby.org/event/worship-service/2023-01-22/
END:VEVENT
BEGIN:VEVENT
DTSTART;TZID=America/Indiana/Indianapolis:20230122T111500
DTEND;TZID=America/Indiana/Indianapolis:20230122T121500
DTSTAMP:20260423T161341
CREATED:20221214T142019Z
LAST-MODIFIED:20221214T142019Z
UID:10000649-1674386100-1674389700@vwpresby.org
SUMMARY:Study Group
DESCRIPTION:
URL:https://vwpresby.org/event/study-group-16/
END:VEVENT
BEGIN:VEVENT
DTSTART;TZID=America/Indiana/Indianapolis:20230123T183000
DTEND;TZID=America/Indiana/Indianapolis:20230123T193000
DTSTAMP:20260423T161341
CREATED:20220114T194043Z
LAST-MODIFIED:20240110T160838Z
UID:10000059-1674498600-1674502200@vwpresby.org
SUMMARY:Cub Scouts
DESCRIPTION:Cub Scouts Every Monday 6:30PM – 7:30PM
URL:https://vwpresby.org/event/cub-scouts/2023-01-23/
END:VEVENT
BEGIN:VEVENT
DTSTART;TZID=America/Indiana/Indianapolis:20230123T183000
DTEND;TZID=America/Indiana/Indianapolis:20230123T193000
DTSTAMP:20260423T161341
CREATED:20221229T165114Z
LAST-MODIFIED:20221229T165114Z
UID:10000746-1674498600-1674502200@vwpresby.org
SUMMARY:Cub Scouts
DESCRIPTION:
URL:https://vwpresby.org/event/cub-scouts-2/2023-01-23/
END:VEVENT
END:VCALENDAR