BEGIN:VCALENDAR
VERSION:2.0
PRODID:-//First Presbyterian Church of Van Wert - ECPv6.15.20//NONSGML v1.0//EN
CALSCALE:GREGORIAN
METHOD:PUBLISH
X-ORIGINAL-URL:https://vwpresby.org
X-WR-CALDESC:Events for First Presbyterian Church of Van Wert
REFRESH-INTERVAL;VALUE=DURATION:PT1H
X-Robots-Tag:noindex
X-PUBLISHED-TTL:PT1H
BEGIN:VTIMEZONE
TZID:America/Indiana/Indianapolis
BEGIN:DAYLIGHT
TZOFFSETFROM:-0500
TZOFFSETTO:-0400
TZNAME:EDT
DTSTART:20210314T070000
END:DAYLIGHT
BEGIN:STANDARD
TZOFFSETFROM:-0400
TZOFFSETTO:-0500
TZNAME:EST
DTSTART:20211107T060000
END:STANDARD
BEGIN:DAYLIGHT
TZOFFSETFROM:-0500
TZOFFSETTO:-0400
TZNAME:EDT
DTSTART:20220313T070000
END:DAYLIGHT
BEGIN:STANDARD
TZOFFSETFROM:-0400
TZOFFSETTO:-0500
TZNAME:EST
DTSTART:20221106T060000
END:STANDARD
BEGIN:DAYLIGHT
TZOFFSETFROM:-0500
TZOFFSETTO:-0400
TZNAME:EDT
DTSTART:20230312T070000
END:DAYLIGHT
BEGIN:STANDARD
TZOFFSETFROM:-0400
TZOFFSETTO:-0500
TZNAME:EST
DTSTART:20231105T060000
END:STANDARD
END:VTIMEZONE
BEGIN:VEVENT
DTSTART;TZID=America/Indiana/Indianapolis:20220901T120000
DTEND;TZID=America/Indiana/Indianapolis:20220901T133000
DTSTAMP:20260424T050422
CREATED:20220727T164618Z
LAST-MODIFIED:20220727T164618Z
UID:10000621-1662033600-1662039000@vwpresby.org
SUMMARY:Book Club
DESCRIPTION:
URL:https://vwpresby.org/event/book-club/
END:VEVENT
BEGIN:VEVENT
DTSTART;TZID=America/Indiana/Indianapolis:20220904T100000
DTEND;TZID=America/Indiana/Indianapolis:20220904T110000
DTSTAMP:20260424T050422
CREATED:20220127T162551Z
LAST-MODIFIED:20240110T160338Z
UID:10000430-1662285600-1662289200@vwpresby.org
SUMMARY:Worship Service
DESCRIPTION:
URL:https://vwpresby.org/event/worship-service/2022-09-04/
END:VEVENT
BEGIN:VEVENT
DTSTART;TZID=America/Indiana/Indianapolis:20220904T100000
DTEND;TZID=America/Indiana/Indianapolis:20220904T110000
DTSTAMP:20260424T050422
CREATED:20220721T162218Z
LAST-MODIFIED:20220721T162218Z
UID:10000617-1662285600-1662289200@vwpresby.org
SUMMARY:Communion
DESCRIPTION:
URL:https://vwpresby.org/event/communion-7/
END:VEVENT
BEGIN:VEVENT
DTSTART;TZID=America/Indiana/Indianapolis:20220904T100000
DTEND;TZID=America/Indiana/Indianapolis:20220904T110000
DTSTAMP:20260424T050422
CREATED:20220902T132116Z
LAST-MODIFIED:20220902T132116Z
UID:10000715-1662285600-1662289200@vwpresby.org
SUMMARY:Handbell Trio
DESCRIPTION:
URL:https://vwpresby.org/event/handbell-trio/
END:VEVENT
BEGIN:VEVENT
DTSTART;TZID=America/Indiana/Indianapolis:20220905T080000
DTEND;TZID=America/Indiana/Indianapolis:20220905T170000
DTSTAMP:20260424T050422
CREATED:20220721T162016Z
LAST-MODIFIED:20220721T162016Z
UID:10000613-1662364800-1662397200@vwpresby.org
SUMMARY:Labor Day *Office Closed*
DESCRIPTION:
URL:https://vwpresby.org/event/labor-day-office-closed/
END:VEVENT
BEGIN:VEVENT
DTSTART;TZID=America/Indiana/Indianapolis:20220905T183000
DTEND;TZID=America/Indiana/Indianapolis:20220905T193000
DTSTAMP:20260424T050422
CREATED:20220114T194043Z
LAST-MODIFIED:20240110T160838Z
UID:10000039-1662402600-1662406200@vwpresby.org
SUMMARY:Cub Scouts
DESCRIPTION:Cub Scouts Every Monday 6:30PM – 7:30PM
URL:https://vwpresby.org/event/cub-scouts/2022-09-05/
END:VEVENT
BEGIN:VEVENT
DTSTART;TZID=America/Indiana/Indianapolis:20220907T103000
DTEND;TZID=America/Indiana/Indianapolis:20220907T113000
DTSTAMP:20260424T050422
CREATED:20220114T194334Z
LAST-MODIFIED:20240110T161852Z
UID:10000302-1662546600-1662550200@vwpresby.org
SUMMARY:Women's Bible Study
DESCRIPTION:Women’s Bible Study every Wednesday 10:30AM
URL:https://vwpresby.org/event/womens-bible-study/2022-09-07/
END:VEVENT
BEGIN:VEVENT
DTSTART;TZID=America/Indiana/Indianapolis:20220911T100000
DTEND;TZID=America/Indiana/Indianapolis:20220911T110000
DTSTAMP:20260424T050422
CREATED:20220127T162551Z
LAST-MODIFIED:20240110T160338Z
UID:10000431-1662890400-1662894000@vwpresby.org
SUMMARY:Worship Service
DESCRIPTION:
URL:https://vwpresby.org/event/worship-service/2022-09-11/
END:VEVENT
BEGIN:VEVENT
DTSTART;TZID=America/Indiana/Indianapolis:20220911T110000
DTEND;TZID=America/Indiana/Indianapolis:20220911T111500
DTSTAMP:20260424T050422
CREATED:20220811T141154Z
LAST-MODIFIED:20220811T141154Z
UID:10000713-1662894000-1662894900@vwpresby.org
SUMMARY:Deacons Meeting
DESCRIPTION:
URL:https://vwpresby.org/event/deacons-meeting-2/
END:VEVENT
BEGIN:VEVENT
DTSTART;TZID=America/Indiana/Indianapolis:20220911T111500
DTEND;TZID=America/Indiana/Indianapolis:20220911T121500
DTSTAMP:20260424T050422
CREATED:20220811T140449Z
LAST-MODIFIED:20220811T140449Z
UID:10000693-1662894900-1662898500@vwpresby.org
SUMMARY:Study Group
DESCRIPTION:
URL:https://vwpresby.org/event/study-group-2/
END:VEVENT
BEGIN:VEVENT
DTSTART;TZID=America/Indiana/Indianapolis:20220912T183000
DTEND;TZID=America/Indiana/Indianapolis:20220912T193000
DTSTAMP:20260424T050422
CREATED:20220114T194043Z
LAST-MODIFIED:20240110T160838Z
UID:10000040-1663007400-1663011000@vwpresby.org
SUMMARY:Cub Scouts
DESCRIPTION:Cub Scouts Every Monday 6:30PM – 7:30PM
URL:https://vwpresby.org/event/cub-scouts/2022-09-12/
END:VEVENT
BEGIN:VEVENT
DTSTART;TZID=America/Indiana/Indianapolis:20220914T103000
DTEND;TZID=America/Indiana/Indianapolis:20220914T113000
DTSTAMP:20260424T050422
CREATED:20220114T194334Z
LAST-MODIFIED:20240110T161852Z
UID:10000303-1663151400-1663155000@vwpresby.org
SUMMARY:Women's Bible Study
DESCRIPTION:Women’s Bible Study every Wednesday 10:30AM
URL:https://vwpresby.org/event/womens-bible-study/2022-09-14/
END:VEVENT
BEGIN:VEVENT
DTSTART;TZID=America/Indiana/Indianapolis:20220915T190000
DTEND;TZID=America/Indiana/Indianapolis:20220915T200000
DTSTAMP:20260424T050422
CREATED:20220811T140722Z
LAST-MODIFIED:20220811T140722Z
UID:10000701-1663268400-1663272000@vwpresby.org
SUMMARY:Study Group
DESCRIPTION:
URL:https://vwpresby.org/event/study-group-6/
END:VEVENT
BEGIN:VEVENT
DTSTART;TZID=America/Indiana/Indianapolis:20220918T100000
DTEND;TZID=America/Indiana/Indianapolis:20220918T110000
DTSTAMP:20260424T050422
CREATED:20220127T162551Z
LAST-MODIFIED:20240110T160338Z
UID:10000432-1663495200-1663498800@vwpresby.org
SUMMARY:Worship Service
DESCRIPTION:
URL:https://vwpresby.org/event/worship-service/2022-09-18/
END:VEVENT
BEGIN:VEVENT
DTSTART;TZID=America/Indiana/Indianapolis:20220919T183000
DTEND;TZID=America/Indiana/Indianapolis:20220919T193000
DTSTAMP:20260424T050422
CREATED:20220114T194043Z
LAST-MODIFIED:20240110T160838Z
UID:10000041-1663612200-1663615800@vwpresby.org
SUMMARY:Cub Scouts
DESCRIPTION:Cub Scouts Every Monday 6:30PM – 7:30PM
URL:https://vwpresby.org/event/cub-scouts/2022-09-19/
END:VEVENT
BEGIN:VEVENT
DTSTART;TZID=America/Indiana/Indianapolis:20220921T103000
DTEND;TZID=America/Indiana/Indianapolis:20220921T113000
DTSTAMP:20260424T050422
CREATED:20220114T194334Z
LAST-MODIFIED:20240110T161852Z
UID:10000304-1663756200-1663759800@vwpresby.org
SUMMARY:Women's Bible Study
DESCRIPTION:Women’s Bible Study every Wednesday 10:30AM
URL:https://vwpresby.org/event/womens-bible-study/2022-09-21/
END:VEVENT
BEGIN:VEVENT
DTSTART;TZID=America/Indiana/Indianapolis:20220925T000000
DTEND;TZID=America/Indiana/Indianapolis:20220925T000000
DTSTAMP:20260424T050422
CREATED:20220711T170744Z
LAST-MODIFIED:20220711T170744Z
UID:10000685-1664064000-1664064000@vwpresby.org
SUMMARY:Fall Homecoming
DESCRIPTION:
URL:https://vwpresby.org/event/fall-homecoming/
END:VEVENT
BEGIN:VEVENT
DTSTART;TZID=America/Indiana/Indianapolis:20220925T100000
DTEND;TZID=America/Indiana/Indianapolis:20220925T110000
DTSTAMP:20260424T050422
CREATED:20220127T162551Z
LAST-MODIFIED:20240110T160338Z
UID:10000433-1664100000-1664103600@vwpresby.org
SUMMARY:Worship Service
DESCRIPTION:
URL:https://vwpresby.org/event/worship-service/2022-09-25/
END:VEVENT
BEGIN:VEVENT
DTSTART;TZID=America/Indiana/Indianapolis:20220925T100000
DTEND;TZID=America/Indiana/Indianapolis:20220925T110000
DTSTAMP:20260424T050422
CREATED:20220902T132149Z
LAST-MODIFIED:20220902T132149Z
UID:10000717-1664100000-1664103600@vwpresby.org
SUMMARY:Choir/Bells
DESCRIPTION:
URL:https://vwpresby.org/event/choir-bells/
END:VEVENT
BEGIN:VEVENT
DTSTART;TZID=America/Indiana/Indianapolis:20220926T183000
DTEND;TZID=America/Indiana/Indianapolis:20220926T193000
DTSTAMP:20260424T050422
CREATED:20220114T194043Z
LAST-MODIFIED:20240110T160838Z
UID:10000042-1664217000-1664220600@vwpresby.org
SUMMARY:Cub Scouts
DESCRIPTION:Cub Scouts Every Monday 6:30PM – 7:30PM
URL:https://vwpresby.org/event/cub-scouts/2022-09-26/
END:VEVENT
BEGIN:VEVENT
DTSTART;TZID=America/Indiana/Indianapolis:20220928T101500
DTEND;TZID=America/Indiana/Indianapolis:20220928T130000
DTSTAMP:20260424T050422
CREATED:20220721T162423Z
LAST-MODIFIED:20220721T162423Z
UID:10000619-1664360100-1664370000@vwpresby.org
SUMMARY:Soup Kitchen meet up @ Church
DESCRIPTION:
URL:https://vwpresby.org/event/soup-kitchen-meet-up-church-3/
END:VEVENT
BEGIN:VEVENT
DTSTART;TZID=America/Indiana/Indianapolis:20220928T103000
DTEND;TZID=America/Indiana/Indianapolis:20220928T113000
DTSTAMP:20260424T050422
CREATED:20220114T194334Z
LAST-MODIFIED:20240110T161852Z
UID:10000305-1664361000-1664364600@vwpresby.org
SUMMARY:Women's Bible Study
DESCRIPTION:Women’s Bible Study every Wednesday 10:30AM
URL:https://vwpresby.org/event/womens-bible-study/2022-09-28/
END:VEVENT
BEGIN:VEVENT
DTSTART;TZID=America/Indiana/Indianapolis:20220929T190000
DTEND;TZID=America/Indiana/Indianapolis:20220929T200000
DTSTAMP:20260424T050422
CREATED:20220811T140752Z
LAST-MODIFIED:20220811T140752Z
UID:10000703-1664478000-1664481600@vwpresby.org
SUMMARY:Study Group
DESCRIPTION:
URL:https://vwpresby.org/event/study-group-7/
END:VEVENT
END:VCALENDAR