BEGIN:VCALENDAR
VERSION:2.0
PRODID:-//First Presbyterian Church of Van Wert - ECPv6.15.20//NONSGML v1.0//EN
CALSCALE:GREGORIAN
METHOD:PUBLISH
X-ORIGINAL-URL:https://vwpresby.org
X-WR-CALDESC:Events for First Presbyterian Church of Van Wert
REFRESH-INTERVAL;VALUE=DURATION:PT1H
X-Robots-Tag:noindex
X-PUBLISHED-TTL:PT1H
BEGIN:VTIMEZONE
TZID:America/Indiana/Indianapolis
BEGIN:DAYLIGHT
TZOFFSETFROM:-0500
TZOFFSETTO:-0400
TZNAME:EDT
DTSTART:20210314T070000
END:DAYLIGHT
BEGIN:STANDARD
TZOFFSETFROM:-0400
TZOFFSETTO:-0500
TZNAME:EST
DTSTART:20211107T060000
END:STANDARD
BEGIN:DAYLIGHT
TZOFFSETFROM:-0500
TZOFFSETTO:-0400
TZNAME:EDT
DTSTART:20220313T070000
END:DAYLIGHT
BEGIN:STANDARD
TZOFFSETFROM:-0400
TZOFFSETTO:-0500
TZNAME:EST
DTSTART:20221106T060000
END:STANDARD
BEGIN:DAYLIGHT
TZOFFSETFROM:-0500
TZOFFSETTO:-0400
TZNAME:EDT
DTSTART:20230312T070000
END:DAYLIGHT
BEGIN:STANDARD
TZOFFSETFROM:-0400
TZOFFSETTO:-0500
TZNAME:EST
DTSTART:20231105T060000
END:STANDARD
END:VTIMEZONE
BEGIN:VEVENT
DTSTART;TZID=America/Indiana/Indianapolis:20220801T183000
DTEND;TZID=America/Indiana/Indianapolis:20220801T193000
DTSTAMP:20260424T112919
CREATED:20220114T194043Z
LAST-MODIFIED:20240110T160838Z
UID:10000034-1659378600-1659382200@vwpresby.org
SUMMARY:Cub Scouts
DESCRIPTION:Cub Scouts Every Monday 6:30PM – 7:30PM
URL:https://vwpresby.org/event/cub-scouts/2022-08-01/
END:VEVENT
BEGIN:VEVENT
DTSTART;TZID=America/Indiana/Indianapolis:20220803T103000
DTEND;TZID=America/Indiana/Indianapolis:20220803T113000
DTSTAMP:20260424T112919
CREATED:20220114T194334Z
LAST-MODIFIED:20240110T161852Z
UID:10000297-1659522600-1659526200@vwpresby.org
SUMMARY:Women's Bible Study
DESCRIPTION:Women’s Bible Study every Wednesday 10:30AM
URL:https://vwpresby.org/event/womens-bible-study/2022-08-03/
END:VEVENT
BEGIN:VEVENT
DTSTART;TZID=America/Indiana/Indianapolis:20220807T100000
DTEND;TZID=America/Indiana/Indianapolis:20220807T110000
DTSTAMP:20260424T112919
CREATED:20220127T162551Z
LAST-MODIFIED:20240110T160338Z
UID:10000426-1659866400-1659870000@vwpresby.org
SUMMARY:Worship Service
DESCRIPTION:
URL:https://vwpresby.org/event/worship-service/2022-08-07/
END:VEVENT
BEGIN:VEVENT
DTSTART;TZID=America/Indiana/Indianapolis:20220807T100000
DTEND;TZID=America/Indiana/Indianapolis:20220807T110000
DTSTAMP:20260424T112919
CREATED:20220711T170303Z
LAST-MODIFIED:20220711T170303Z
UID:10000682-1659866400-1659870000@vwpresby.org
SUMMARY:Communion
DESCRIPTION:
URL:https://vwpresby.org/event/communion-6/
END:VEVENT
BEGIN:VEVENT
DTSTART;TZID=America/Indiana/Indianapolis:20220807T110000
DTEND;TZID=America/Indiana/Indianapolis:20220807T113000
DTSTAMP:20260424T112919
CREATED:20220711T170400Z
LAST-MODIFIED:20220711T170400Z
UID:10000683-1659870000-1659871800@vwpresby.org
SUMMARY:Deacons Meeting after Service
DESCRIPTION:
URL:https://vwpresby.org/event/deacons-meeting-after-service/
END:VEVENT
BEGIN:VEVENT
DTSTART;TZID=America/Indiana/Indianapolis:20220808T183000
DTEND;TZID=America/Indiana/Indianapolis:20220808T193000
DTSTAMP:20260424T112919
CREATED:20220114T194043Z
LAST-MODIFIED:20240110T160838Z
UID:10000035-1659983400-1659987000@vwpresby.org
SUMMARY:Cub Scouts
DESCRIPTION:Cub Scouts Every Monday 6:30PM – 7:30PM
URL:https://vwpresby.org/event/cub-scouts/2022-08-08/
END:VEVENT
BEGIN:VEVENT
DTSTART;TZID=America/Indiana/Indianapolis:20220810T103000
DTEND;TZID=America/Indiana/Indianapolis:20220810T113000
DTSTAMP:20260424T112919
CREATED:20220114T194334Z
LAST-MODIFIED:20240110T161852Z
UID:10000298-1660127400-1660131000@vwpresby.org
SUMMARY:Women's Bible Study
DESCRIPTION:Women’s Bible Study every Wednesday 10:30AM
URL:https://vwpresby.org/event/womens-bible-study/2022-08-10/
END:VEVENT
BEGIN:VEVENT
DTSTART;TZID=America/Indiana/Indianapolis:20220814T100000
DTEND;TZID=America/Indiana/Indianapolis:20220814T110000
DTSTAMP:20260424T112919
CREATED:20220127T162551Z
LAST-MODIFIED:20240110T160338Z
UID:10000427-1660471200-1660474800@vwpresby.org
SUMMARY:Worship Service
DESCRIPTION:
URL:https://vwpresby.org/event/worship-service/2022-08-14/
END:VEVENT
BEGIN:VEVENT
DTSTART;TZID=America/Indiana/Indianapolis:20220814T100000
DTEND;TZID=America/Indiana/Indianapolis:20220814T110000
DTSTAMP:20260424T112919
CREATED:20220721T161652Z
LAST-MODIFIED:20220721T161652Z
UID:10000609-1660471200-1660474800@vwpresby.org
SUMMARY:Blessing of the Backpacks
DESCRIPTION:
URL:https://vwpresby.org/event/blessing-of-the-backpacks/
END:VEVENT
BEGIN:VEVENT
DTSTART;TZID=America/Indiana/Indianapolis:20220814T100000
DTEND;TZID=America/Indiana/Indianapolis:20220814T110000
DTSTAMP:20260424T112919
CREATED:20220811T141026Z
LAST-MODIFIED:20220811T141026Z
UID:10000711-1660471200-1660474800@vwpresby.org
SUMMARY:Special Music
DESCRIPTION:
URL:https://vwpresby.org/event/special-music-3/
END:VEVENT
BEGIN:VEVENT
DTSTART;TZID=America/Indiana/Indianapolis:20220815T183000
DTEND;TZID=America/Indiana/Indianapolis:20220815T193000
DTSTAMP:20260424T112919
CREATED:20220114T194043Z
LAST-MODIFIED:20240110T160838Z
UID:10000036-1660588200-1660591800@vwpresby.org
SUMMARY:Cub Scouts
DESCRIPTION:Cub Scouts Every Monday 6:30PM – 7:30PM
URL:https://vwpresby.org/event/cub-scouts/2022-08-15/
END:VEVENT
BEGIN:VEVENT
DTSTART;TZID=America/Indiana/Indianapolis:20220817T103000
DTEND;TZID=America/Indiana/Indianapolis:20220817T113000
DTSTAMP:20260424T112919
CREATED:20220114T194334Z
LAST-MODIFIED:20240110T161852Z
UID:10000299-1660732200-1660735800@vwpresby.org
SUMMARY:Women's Bible Study
DESCRIPTION:Women’s Bible Study every Wednesday 10:30AM
URL:https://vwpresby.org/event/womens-bible-study/2022-08-17/
END:VEVENT
BEGIN:VEVENT
DTSTART;TZID=America/Indiana/Indianapolis:20220821T100000
DTEND;TZID=America/Indiana/Indianapolis:20220821T110000
DTSTAMP:20260424T112919
CREATED:20220127T162551Z
LAST-MODIFIED:20240110T160338Z
UID:10000428-1661076000-1661079600@vwpresby.org
SUMMARY:Worship Service
DESCRIPTION:
URL:https://vwpresby.org/event/worship-service/2022-08-21/
END:VEVENT
BEGIN:VEVENT
DTSTART;TZID=America/Indiana/Indianapolis:20220822T183000
DTEND;TZID=America/Indiana/Indianapolis:20220822T193000
DTSTAMP:20260424T112919
CREATED:20220114T194043Z
LAST-MODIFIED:20240110T160838Z
UID:10000037-1661193000-1661196600@vwpresby.org
SUMMARY:Cub Scouts
DESCRIPTION:Cub Scouts Every Monday 6:30PM – 7:30PM
URL:https://vwpresby.org/event/cub-scouts/2022-08-22/
END:VEVENT
BEGIN:VEVENT
DTSTART;TZID=America/Indiana/Indianapolis:20220824T101500
DTEND;TZID=America/Indiana/Indianapolis:20220824T130000
DTSTAMP:20260424T112919
CREATED:20220721T161852Z
LAST-MODIFIED:20220721T161852Z
UID:10000611-1661336100-1661346000@vwpresby.org
SUMMARY:Soup Kitchen\, meet @ Church
DESCRIPTION:
URL:https://vwpresby.org/event/soup-kitchen-meet-church/
END:VEVENT
BEGIN:VEVENT
DTSTART;TZID=America/Indiana/Indianapolis:20220824T103000
DTEND;TZID=America/Indiana/Indianapolis:20220824T113000
DTSTAMP:20260424T112919
CREATED:20220114T194334Z
LAST-MODIFIED:20240110T161852Z
UID:10000300-1661337000-1661340600@vwpresby.org
SUMMARY:Women's Bible Study
DESCRIPTION:Women’s Bible Study every Wednesday 10:30AM
URL:https://vwpresby.org/event/womens-bible-study/2022-08-24/
END:VEVENT
BEGIN:VEVENT
DTSTART;TZID=America/Indiana/Indianapolis:20220828T090000
DTEND;TZID=America/Indiana/Indianapolis:20220828T100000
DTSTAMP:20260424T112919
CREATED:20220721T162146Z
LAST-MODIFIED:20220721T162146Z
UID:10000615-1661677200-1661680800@vwpresby.org
SUMMARY:Coffee & Donuts before worship!
DESCRIPTION:
URL:https://vwpresby.org/event/coffee-donuts-before-worship-6/
END:VEVENT
BEGIN:VEVENT
DTSTART;TZID=America/Indiana/Indianapolis:20220828T100000
DTEND;TZID=America/Indiana/Indianapolis:20220828T110000
DTSTAMP:20260424T112919
CREATED:20220127T162551Z
LAST-MODIFIED:20240110T160338Z
UID:10000429-1661680800-1661684400@vwpresby.org
SUMMARY:Worship Service
DESCRIPTION:
URL:https://vwpresby.org/event/worship-service/2022-08-28/
END:VEVENT
BEGIN:VEVENT
DTSTART;TZID=America/Indiana/Indianapolis:20220828T100000
DTEND;TZID=America/Indiana/Indianapolis:20220828T110000
DTSTAMP:20260424T112919
CREATED:20220711T170524Z
LAST-MODIFIED:20220711T170524Z
UID:10000684-1661680800-1661684400@vwpresby.org
SUMMARY:Special music!
DESCRIPTION:
URL:https://vwpresby.org/event/special-music-2/
END:VEVENT
BEGIN:VEVENT
DTSTART;TZID=America/Indiana/Indianapolis:20220828T111500
DTEND;TZID=America/Indiana/Indianapolis:20220828T121500
DTSTAMP:20260424T112919
CREATED:20220811T140410Z
LAST-MODIFIED:20220811T140410Z
UID:10000691-1661685300-1661688900@vwpresby.org
SUMMARY:Study Group
DESCRIPTION:
URL:https://vwpresby.org/event/study-group/
END:VEVENT
BEGIN:VEVENT
DTSTART;TZID=America/Indiana/Indianapolis:20220829T183000
DTEND;TZID=America/Indiana/Indianapolis:20220829T193000
DTSTAMP:20260424T112919
CREATED:20220114T194043Z
LAST-MODIFIED:20240110T160838Z
UID:10000038-1661797800-1661801400@vwpresby.org
SUMMARY:Cub Scouts
DESCRIPTION:Cub Scouts Every Monday 6:30PM – 7:30PM
URL:https://vwpresby.org/event/cub-scouts/2022-08-29/
END:VEVENT
BEGIN:VEVENT
DTSTART;TZID=America/Indiana/Indianapolis:20220831T103000
DTEND;TZID=America/Indiana/Indianapolis:20220831T113000
DTSTAMP:20260424T112919
CREATED:20220114T194334Z
LAST-MODIFIED:20240110T161852Z
UID:10000301-1661941800-1661945400@vwpresby.org
SUMMARY:Women's Bible Study
DESCRIPTION:Women’s Bible Study every Wednesday 10:30AM
URL:https://vwpresby.org/event/womens-bible-study/2022-08-31/
END:VEVENT
END:VCALENDAR