BEGIN:VCALENDAR
VERSION:2.0
PRODID:-//First Presbyterian Church of Van Wert - ECPv6.15.20//NONSGML v1.0//EN
CALSCALE:GREGORIAN
METHOD:PUBLISH
X-WR-CALNAME:First Presbyterian Church of Van Wert
X-ORIGINAL-URL:https://vwpresby.org
X-WR-CALDESC:Events for First Presbyterian Church of Van Wert
REFRESH-INTERVAL;VALUE=DURATION:PT1H
X-Robots-Tag:noindex
X-PUBLISHED-TTL:PT1H
BEGIN:VTIMEZONE
TZID:America/Indiana/Indianapolis
BEGIN:DAYLIGHT
TZOFFSETFROM:-0500
TZOFFSETTO:-0400
TZNAME:EDT
DTSTART:20210314T070000
END:DAYLIGHT
BEGIN:STANDARD
TZOFFSETFROM:-0400
TZOFFSETTO:-0500
TZNAME:EST
DTSTART:20211107T060000
END:STANDARD
BEGIN:DAYLIGHT
TZOFFSETFROM:-0500
TZOFFSETTO:-0400
TZNAME:EDT
DTSTART:20220313T070000
END:DAYLIGHT
BEGIN:STANDARD
TZOFFSETFROM:-0400
TZOFFSETTO:-0500
TZNAME:EST
DTSTART:20221106T060000
END:STANDARD
BEGIN:DAYLIGHT
TZOFFSETFROM:-0500
TZOFFSETTO:-0400
TZNAME:EDT
DTSTART:20230312T070000
END:DAYLIGHT
BEGIN:STANDARD
TZOFFSETFROM:-0400
TZOFFSETTO:-0500
TZNAME:EST
DTSTART:20231105T060000
END:STANDARD
END:VTIMEZONE
BEGIN:VEVENT
DTSTART;TZID=America/Indiana/Indianapolis:20220703T100000
DTEND;TZID=America/Indiana/Indianapolis:20220703T110000
DTSTAMP:20260424T141547
CREATED:20220127T162551Z
LAST-MODIFIED:20240110T160338Z
UID:10000421-1656842400-1656846000@vwpresby.org
SUMMARY:Worship Service
DESCRIPTION:
URL:https://vwpresby.org/event/worship-service/2022-07-03/
END:VEVENT
BEGIN:VEVENT
DTSTART;TZID=America/Indiana/Indianapolis:20220703T100000
DTEND;TZID=America/Indiana/Indianapolis:20220703T110000
DTSTAMP:20260424T141547
CREATED:20220525T151505Z
LAST-MODIFIED:20220525T151505Z
UID:10000665-1656842400-1656846000@vwpresby.org
SUMMARY:Communion
DESCRIPTION:
URL:https://vwpresby.org/event/communion-4/
END:VEVENT
BEGIN:VEVENT
DTSTART;TZID=America/Indiana/Indianapolis:20220703T100000
DTEND;TZID=America/Indiana/Indianapolis:20220703T110000
DTSTAMP:20260424T141547
CREATED:20220615T175423Z
LAST-MODIFIED:20220615T175423Z
UID:10000673-1656842400-1656846000@vwpresby.org
SUMMARY:Special Music-1st Presby Vocal Ensemble
DESCRIPTION:
URL:https://vwpresby.org/event/special-music-1st-presby-vocal-ensemble/
END:VEVENT
BEGIN:VEVENT
DTSTART;VALUE=DATE:20220704
DTEND;VALUE=DATE:20220705
DTSTAMP:20260424T141547
CREATED:20220525T151306Z
LAST-MODIFIED:20220525T151411Z
UID:10000663-1656892800-1656979199@vwpresby.org
SUMMARY:*Independence Day* Office Closed
DESCRIPTION:
URL:https://vwpresby.org/event/independence-day-office-closed/
END:VEVENT
BEGIN:VEVENT
DTSTART;TZID=America/Indiana/Indianapolis:20220704T183000
DTEND;TZID=America/Indiana/Indianapolis:20220704T193000
DTSTAMP:20260424T141547
CREATED:20220114T194043Z
LAST-MODIFIED:20240110T160838Z
UID:10000030-1656959400-1656963000@vwpresby.org
SUMMARY:Cub Scouts
DESCRIPTION:Cub Scouts Every Monday 6:30PM – 7:30PM
URL:https://vwpresby.org/event/cub-scouts/2022-07-04/
END:VEVENT
BEGIN:VEVENT
DTSTART;TZID=America/Indiana/Indianapolis:20220706T103000
DTEND;TZID=America/Indiana/Indianapolis:20220706T113000
DTSTAMP:20260424T141547
CREATED:20220114T194334Z
LAST-MODIFIED:20240110T161852Z
UID:10000293-1657103400-1657107000@vwpresby.org
SUMMARY:Women's Bible Study
DESCRIPTION:Women’s Bible Study every Wednesday 10:30AM
URL:https://vwpresby.org/event/womens-bible-study/2022-07-06/
END:VEVENT
BEGIN:VEVENT
DTSTART;TZID=America/Indiana/Indianapolis:20220710T100000
DTEND;TZID=America/Indiana/Indianapolis:20220710T110000
DTSTAMP:20260424T141547
CREATED:20220127T162551Z
LAST-MODIFIED:20240110T160338Z
UID:10000422-1657447200-1657450800@vwpresby.org
SUMMARY:Worship Service
DESCRIPTION:
URL:https://vwpresby.org/event/worship-service/2022-07-10/
END:VEVENT
BEGIN:VEVENT
DTSTART;TZID=America/Indiana/Indianapolis:20220711T183000
DTEND;TZID=America/Indiana/Indianapolis:20220711T193000
DTSTAMP:20260424T141547
CREATED:20220114T194043Z
LAST-MODIFIED:20240110T160838Z
UID:10000031-1657564200-1657567800@vwpresby.org
SUMMARY:Cub Scouts
DESCRIPTION:Cub Scouts Every Monday 6:30PM – 7:30PM
URL:https://vwpresby.org/event/cub-scouts/2022-07-11/
END:VEVENT
BEGIN:VEVENT
DTSTART;TZID=America/Indiana/Indianapolis:20220713T103000
DTEND;TZID=America/Indiana/Indianapolis:20220713T113000
DTSTAMP:20260424T141547
CREATED:20220114T194334Z
LAST-MODIFIED:20240110T161852Z
UID:10000294-1657708200-1657711800@vwpresby.org
SUMMARY:Women's Bible Study
DESCRIPTION:Women’s Bible Study every Wednesday 10:30AM
URL:https://vwpresby.org/event/womens-bible-study/2022-07-13/
END:VEVENT
BEGIN:VEVENT
DTSTART;TZID=America/Indiana/Indianapolis:20220717T100000
DTEND;TZID=America/Indiana/Indianapolis:20220717T110000
DTSTAMP:20260424T141547
CREATED:20220127T162551Z
LAST-MODIFIED:20240110T160338Z
UID:10000423-1658052000-1658055600@vwpresby.org
SUMMARY:Worship Service
DESCRIPTION:
URL:https://vwpresby.org/event/worship-service/2022-07-17/
END:VEVENT
BEGIN:VEVENT
DTSTART;TZID=America/Indiana/Indianapolis:20220718T183000
DTEND;TZID=America/Indiana/Indianapolis:20220718T193000
DTSTAMP:20260424T141547
CREATED:20220114T194043Z
LAST-MODIFIED:20240110T160838Z
UID:10000032-1658169000-1658172600@vwpresby.org
SUMMARY:Cub Scouts
DESCRIPTION:Cub Scouts Every Monday 6:30PM – 7:30PM
URL:https://vwpresby.org/event/cub-scouts/2022-07-18/
END:VEVENT
BEGIN:VEVENT
DTSTART;TZID=America/Indiana/Indianapolis:20220720T103000
DTEND;TZID=America/Indiana/Indianapolis:20220720T113000
DTSTAMP:20260424T141547
CREATED:20220114T194334Z
LAST-MODIFIED:20240110T161852Z
UID:10000295-1658313000-1658316600@vwpresby.org
SUMMARY:Women's Bible Study
DESCRIPTION:Women’s Bible Study every Wednesday 10:30AM
URL:https://vwpresby.org/event/womens-bible-study/2022-07-20/
END:VEVENT
BEGIN:VEVENT
DTSTART;TZID=America/Indiana/Indianapolis:20220724T090000
DTEND;TZID=America/Indiana/Indianapolis:20220724T100000
DTSTAMP:20260424T141547
CREATED:20220715T150646Z
LAST-MODIFIED:20220715T150646Z
UID:10000607-1658653200-1658656800@vwpresby.org
SUMMARY:Coffee & Donuts before Worship
DESCRIPTION:
URL:https://vwpresby.org/event/coffee-donuts-before-worship-5/
END:VEVENT
BEGIN:VEVENT
DTSTART;TZID=America/Indiana/Indianapolis:20220724T100000
DTEND;TZID=America/Indiana/Indianapolis:20220724T110000
DTSTAMP:20260424T141547
CREATED:20220127T162551Z
LAST-MODIFIED:20240110T160338Z
UID:10000424-1658656800-1658660400@vwpresby.org
SUMMARY:Worship Service
DESCRIPTION:
URL:https://vwpresby.org/event/worship-service/2022-07-24/
END:VEVENT
BEGIN:VEVENT
DTSTART;TZID=America/Indiana/Indianapolis:20220724T100000
DTEND;TZID=America/Indiana/Indianapolis:20220724T110000
DTSTAMP:20260424T141547
CREATED:20220711T165912Z
LAST-MODIFIED:20220711T165912Z
UID:10000679-1658656800-1658660400@vwpresby.org
SUMMARY:Congregational Meeting after Worship
DESCRIPTION:
URL:https://vwpresby.org/event/congregational-meeting-after-worship/
END:VEVENT
BEGIN:VEVENT
DTSTART;TZID=America/Indiana/Indianapolis:20220724T100000
DTEND;TZID=America/Indiana/Indianapolis:20220724T110000
DTSTAMP:20260424T141547
CREATED:20220711T170111Z
LAST-MODIFIED:20220711T170111Z
UID:10000680-1658656800-1658660400@vwpresby.org
SUMMARY:Special Music!
DESCRIPTION:
URL:https://vwpresby.org/event/special-music/
END:VEVENT
BEGIN:VEVENT
DTSTART;TZID=America/Indiana/Indianapolis:20220725T183000
DTEND;TZID=America/Indiana/Indianapolis:20220725T193000
DTSTAMP:20260424T141547
CREATED:20220114T194043Z
LAST-MODIFIED:20240110T160838Z
UID:10000033-1658773800-1658777400@vwpresby.org
SUMMARY:Cub Scouts
DESCRIPTION:Cub Scouts Every Monday 6:30PM – 7:30PM
URL:https://vwpresby.org/event/cub-scouts/2022-07-25/
END:VEVENT
BEGIN:VEVENT
DTSTART;TZID=America/Indiana/Indianapolis:20220726T190000
DTEND;TZID=America/Indiana/Indianapolis:20220726T200000
DTSTAMP:20260424T141547
CREATED:20220711T170201Z
LAST-MODIFIED:20220711T170201Z
UID:10000681-1658862000-1658865600@vwpresby.org
SUMMARY:Session 7pm
DESCRIPTION:
URL:https://vwpresby.org/event/session-7pm/
END:VEVENT
BEGIN:VEVENT
DTSTART;TZID=America/Indiana/Indianapolis:20220727T101500
DTEND;TZID=America/Indiana/Indianapolis:20220727T130000
DTSTAMP:20260424T141547
CREATED:20220615T175620Z
LAST-MODIFIED:20220615T175620Z
UID:10000675-1658916900-1658926800@vwpresby.org
SUMMARY:Soup Kitchen Meet Up @ Church
DESCRIPTION:
URL:https://vwpresby.org/event/soup-kitchen-meet-up-church/
END:VEVENT
BEGIN:VEVENT
DTSTART;TZID=America/Indiana/Indianapolis:20220727T103000
DTEND;TZID=America/Indiana/Indianapolis:20220727T113000
DTSTAMP:20260424T141547
CREATED:20220114T194334Z
LAST-MODIFIED:20240110T161852Z
UID:10000296-1658917800-1658921400@vwpresby.org
SUMMARY:Women's Bible Study
DESCRIPTION:Women’s Bible Study every Wednesday 10:30AM
URL:https://vwpresby.org/event/womens-bible-study/2022-07-27/
END:VEVENT
BEGIN:VEVENT
DTSTART;TZID=America/Indiana/Indianapolis:20220731T100000
DTEND;TZID=America/Indiana/Indianapolis:20220731T110000
DTSTAMP:20260424T141547
CREATED:20220127T162551Z
LAST-MODIFIED:20240110T160338Z
UID:10000425-1659261600-1659265200@vwpresby.org
SUMMARY:Worship Service
DESCRIPTION:
URL:https://vwpresby.org/event/worship-service/2022-07-31/
END:VEVENT
END:VCALENDAR