BEGIN:VCALENDAR
VERSION:2.0
PRODID:-//First Presbyterian Church of Van Wert - ECPv6.15.20//NONSGML v1.0//EN
CALSCALE:GREGORIAN
METHOD:PUBLISH
X-ORIGINAL-URL:https://vwpresby.org
X-WR-CALDESC:Events for First Presbyterian Church of Van Wert
REFRESH-INTERVAL;VALUE=DURATION:PT1H
X-Robots-Tag:noindex
X-PUBLISHED-TTL:PT1H
BEGIN:VTIMEZONE
TZID:America/Indiana/Indianapolis
BEGIN:DAYLIGHT
TZOFFSETFROM:-0500
TZOFFSETTO:-0400
TZNAME:EDT
DTSTART:20210314T070000
END:DAYLIGHT
BEGIN:STANDARD
TZOFFSETFROM:-0400
TZOFFSETTO:-0500
TZNAME:EST
DTSTART:20211107T060000
END:STANDARD
BEGIN:DAYLIGHT
TZOFFSETFROM:-0500
TZOFFSETTO:-0400
TZNAME:EDT
DTSTART:20220313T070000
END:DAYLIGHT
BEGIN:STANDARD
TZOFFSETFROM:-0400
TZOFFSETTO:-0500
TZNAME:EST
DTSTART:20221106T060000
END:STANDARD
BEGIN:DAYLIGHT
TZOFFSETFROM:-0500
TZOFFSETTO:-0400
TZNAME:EDT
DTSTART:20230312T070000
END:DAYLIGHT
BEGIN:STANDARD
TZOFFSETFROM:-0400
TZOFFSETTO:-0500
TZNAME:EST
DTSTART:20231105T060000
END:STANDARD
END:VTIMEZONE
BEGIN:VEVENT
DTSTART;TZID=America/Indiana/Indianapolis:20220601T103000
DTEND;TZID=America/Indiana/Indianapolis:20220601T113000
DTSTAMP:20260424T185726
CREATED:20220114T194334Z
LAST-MODIFIED:20240110T161852Z
UID:10000288-1654079400-1654083000@vwpresby.org
SUMMARY:Women's Bible Study
DESCRIPTION:Women’s Bible Study every Wednesday 10:30AM
URL:https://vwpresby.org/event/womens-bible-study/2022-06-01/
END:VEVENT
BEGIN:VEVENT
DTSTART;TZID=America/Indiana/Indianapolis:20220605T100000
DTEND;TZID=America/Indiana/Indianapolis:20220605T110000
DTSTAMP:20260424T185726
CREATED:20220127T162551Z
LAST-MODIFIED:20240110T160338Z
UID:10000417-1654423200-1654426800@vwpresby.org
SUMMARY:Worship Service
DESCRIPTION:
URL:https://vwpresby.org/event/worship-service/2022-06-05/
END:VEVENT
BEGIN:VEVENT
DTSTART;TZID=America/Indiana/Indianapolis:20220605T100000
DTEND;TZID=America/Indiana/Indianapolis:20220605T110000
DTSTAMP:20260424T185726
CREATED:20220511T144653Z
LAST-MODIFIED:20220511T144653Z
UID:10000654-1654423200-1654426800@vwpresby.org
SUMMARY:Communion
DESCRIPTION:
URL:https://vwpresby.org/event/communion-5/
END:VEVENT
BEGIN:VEVENT
DTSTART;TZID=America/Indiana/Indianapolis:20220605T100000
DTEND;TZID=America/Indiana/Indianapolis:20220605T110000
DTSTAMP:20260424T185726
CREATED:20220525T150911Z
LAST-MODIFIED:20220525T150911Z
UID:10000658-1654423200-1654426800@vwpresby.org
SUMMARY:Special Music by Jake Wilder
DESCRIPTION:
URL:https://vwpresby.org/event/special-music-by-jake-wilder/
END:VEVENT
BEGIN:VEVENT
DTSTART;TZID=America/Indiana/Indianapolis:20220606T183000
DTEND;TZID=America/Indiana/Indianapolis:20220606T193000
DTSTAMP:20260424T185726
CREATED:20220114T194043Z
LAST-MODIFIED:20240110T160838Z
UID:10000026-1654540200-1654543800@vwpresby.org
SUMMARY:Cub Scouts
DESCRIPTION:Cub Scouts Every Monday 6:30PM – 7:30PM
URL:https://vwpresby.org/event/cub-scouts/2022-06-06/
END:VEVENT
BEGIN:VEVENT
DTSTART;TZID=America/Indiana/Indianapolis:20220608T103000
DTEND;TZID=America/Indiana/Indianapolis:20220608T113000
DTSTAMP:20260424T185726
CREATED:20220114T194334Z
LAST-MODIFIED:20240110T161852Z
UID:10000289-1654684200-1654687800@vwpresby.org
SUMMARY:Women's Bible Study
DESCRIPTION:Women’s Bible Study every Wednesday 10:30AM
URL:https://vwpresby.org/event/womens-bible-study/2022-06-08/
END:VEVENT
BEGIN:VEVENT
DTSTART;TZID=America/Indiana/Indianapolis:20220612T100000
DTEND;TZID=America/Indiana/Indianapolis:20220612T110000
DTSTAMP:20260424T185726
CREATED:20220127T162551Z
LAST-MODIFIED:20240110T160338Z
UID:10000418-1655028000-1655031600@vwpresby.org
SUMMARY:Worship Service
DESCRIPTION:
URL:https://vwpresby.org/event/worship-service/2022-06-12/
END:VEVENT
BEGIN:VEVENT
DTSTART;TZID=America/Indiana/Indianapolis:20220612T140000
DTEND;TZID=America/Indiana/Indianapolis:20220612T160000
DTSTAMP:20260424T185726
CREATED:20220511T144546Z
LAST-MODIFIED:20220525T150319Z
UID:10000653-1655042400-1655049600@vwpresby.org
SUMMARY:Ice Cream Social
DESCRIPTION:Ice Cream Social
URL:https://vwpresby.org/event/ice-cream-social/
END:VEVENT
BEGIN:VEVENT
DTSTART;TZID=America/Indiana/Indianapolis:20220613T173000
DTEND;TZID=America/Indiana/Indianapolis:20220613T203000
DTSTAMP:20260424T185726
CREATED:20220419T151153Z
LAST-MODIFIED:20220419T151153Z
UID:10000639-1655141400-1655152200@vwpresby.org
SUMMARY:VBS
DESCRIPTION:
URL:https://vwpresby.org/event/vbs/
END:VEVENT
BEGIN:VEVENT
DTSTART;TZID=America/Indiana/Indianapolis:20220613T183000
DTEND;TZID=America/Indiana/Indianapolis:20220613T193000
DTSTAMP:20260424T185726
CREATED:20220114T194043Z
LAST-MODIFIED:20240110T160838Z
UID:10000027-1655145000-1655148600@vwpresby.org
SUMMARY:Cub Scouts
DESCRIPTION:Cub Scouts Every Monday 6:30PM – 7:30PM
URL:https://vwpresby.org/event/cub-scouts/2022-06-13/
END:VEVENT
BEGIN:VEVENT
DTSTART;TZID=America/Indiana/Indianapolis:20220614T173000
DTEND;TZID=America/Indiana/Indianapolis:20220614T203000
DTSTAMP:20260424T185726
CREATED:20220419T151224Z
LAST-MODIFIED:20220419T151224Z
UID:10000641-1655227800-1655238600@vwpresby.org
SUMMARY:VBS
DESCRIPTION:
URL:https://vwpresby.org/event/vbs-2/
END:VEVENT
BEGIN:VEVENT
DTSTART;TZID=America/Indiana/Indianapolis:20220615T103000
DTEND;TZID=America/Indiana/Indianapolis:20220615T113000
DTSTAMP:20260424T185726
CREATED:20220114T194334Z
LAST-MODIFIED:20240110T161852Z
UID:10000290-1655289000-1655292600@vwpresby.org
SUMMARY:Women's Bible Study
DESCRIPTION:Women’s Bible Study every Wednesday 10:30AM
URL:https://vwpresby.org/event/womens-bible-study/2022-06-15/
END:VEVENT
BEGIN:VEVENT
DTSTART;TZID=America/Indiana/Indianapolis:20220615T173000
DTEND;TZID=America/Indiana/Indianapolis:20220615T203000
DTSTAMP:20260424T185726
CREATED:20220419T151253Z
LAST-MODIFIED:20220419T151253Z
UID:10000643-1655314200-1655325000@vwpresby.org
SUMMARY:VBS
DESCRIPTION:
URL:https://vwpresby.org/event/vbs-3/
END:VEVENT
BEGIN:VEVENT
DTSTART;VALUE=DATE:20220619
DTEND;VALUE=DATE:20220620
DTSTAMP:20260424T185726
CREATED:20220525T151143Z
LAST-MODIFIED:20220525T151143Z
UID:10000661-1655596800-1655683199@vwpresby.org
SUMMARY:Fathers Day
DESCRIPTION:
URL:https://vwpresby.org/event/fathers-day/
END:VEVENT
BEGIN:VEVENT
DTSTART;TZID=America/Indiana/Indianapolis:20220619T100000
DTEND;TZID=America/Indiana/Indianapolis:20220619T110000
DTSTAMP:20260424T185726
CREATED:20220127T162551Z
LAST-MODIFIED:20240110T160338Z
UID:10000419-1655632800-1655636400@vwpresby.org
SUMMARY:Worship Service
DESCRIPTION:
URL:https://vwpresby.org/event/worship-service/2022-06-19/
END:VEVENT
BEGIN:VEVENT
DTSTART;TZID=America/Indiana/Indianapolis:20220619T100000
DTEND;TZID=America/Indiana/Indianapolis:20220619T110000
DTSTAMP:20260424T185726
CREATED:20220525T145159Z
LAST-MODIFIED:20220525T145159Z
UID:10000655-1655632800-1655636400@vwpresby.org
SUMMARY:VBS Presentation
DESCRIPTION:
URL:https://vwpresby.org/event/vbs-presentation/
END:VEVENT
BEGIN:VEVENT
DTSTART;TZID=America/Indiana/Indianapolis:20220619T100000
DTEND;TZID=America/Indiana/Indianapolis:20220619T110000
DTSTAMP:20260424T185726
CREATED:20220615T175237Z
LAST-MODIFIED:20220615T175237Z
UID:10000669-1655632800-1655636400@vwpresby.org
SUMMARY:Special Music-Bethany Martinez
DESCRIPTION:
URL:https://vwpresby.org/event/special-music-bethany-martinez-2/
END:VEVENT
BEGIN:VEVENT
DTSTART;TZID=America/Indiana/Indianapolis:20220620T183000
DTEND;TZID=America/Indiana/Indianapolis:20220620T193000
DTSTAMP:20260424T185726
CREATED:20220114T194043Z
LAST-MODIFIED:20240110T160838Z
UID:10000028-1655749800-1655753400@vwpresby.org
SUMMARY:Cub Scouts
DESCRIPTION:Cub Scouts Every Monday 6:30PM – 7:30PM
URL:https://vwpresby.org/event/cub-scouts/2022-06-20/
END:VEVENT
BEGIN:VEVENT
DTSTART;TZID=America/Indiana/Indianapolis:20220622T101500
DTEND;TZID=America/Indiana/Indianapolis:20220622T130000
DTSTAMP:20260424T185726
CREATED:20220615T175712Z
LAST-MODIFIED:20220615T175712Z
UID:10000677-1655892900-1655902800@vwpresby.org
SUMMARY:Soup Kitchen Meet up @ Church
DESCRIPTION:
URL:https://vwpresby.org/event/soup-kitchen-meet-up-church-2/
END:VEVENT
BEGIN:VEVENT
DTSTART;TZID=America/Indiana/Indianapolis:20220622T103000
DTEND;TZID=America/Indiana/Indianapolis:20220622T113000
DTSTAMP:20260424T185726
CREATED:20220114T194334Z
LAST-MODIFIED:20240110T161852Z
UID:10000291-1655893800-1655897400@vwpresby.org
SUMMARY:Women's Bible Study
DESCRIPTION:Women’s Bible Study every Wednesday 10:30AM
URL:https://vwpresby.org/event/womens-bible-study/2022-06-22/
END:VEVENT
BEGIN:VEVENT
DTSTART;TZID=America/Indiana/Indianapolis:20220626T090000
DTEND;TZID=America/Indiana/Indianapolis:20220626T100000
DTSTAMP:20260424T185726
CREATED:20220525T150433Z
LAST-MODIFIED:20220525T150433Z
UID:10000656-1656234000-1656237600@vwpresby.org
SUMMARY:Coffee & Donuts Before Worship
DESCRIPTION:
URL:https://vwpresby.org/event/coffee-donuts-before-worship-4/
END:VEVENT
BEGIN:VEVENT
DTSTART;TZID=America/Indiana/Indianapolis:20220626T100000
DTEND;TZID=America/Indiana/Indianapolis:20220626T110000
DTSTAMP:20260424T185726
CREATED:20220127T162551Z
LAST-MODIFIED:20240110T160338Z
UID:10000420-1656237600-1656241200@vwpresby.org
SUMMARY:Worship Service
DESCRIPTION:
URL:https://vwpresby.org/event/worship-service/2022-06-26/
END:VEVENT
BEGIN:VEVENT
DTSTART;TZID=America/Indiana/Indianapolis:20220626T100000
DTEND;TZID=America/Indiana/Indianapolis:20220626T110000
DTSTAMP:20260424T185726
CREATED:20220615T175125Z
LAST-MODIFIED:20220615T175154Z
UID:10000667-1656237600-1656241200@vwpresby.org
SUMMARY:Special Music-Anna & Seth Baker
DESCRIPTION:
URL:https://vwpresby.org/event/special-music-bethany-martinez/
END:VEVENT
BEGIN:VEVENT
DTSTART;TZID=America/Indiana/Indianapolis:20220627T183000
DTEND;TZID=America/Indiana/Indianapolis:20220627T193000
DTSTAMP:20260424T185726
CREATED:20220114T194043Z
LAST-MODIFIED:20240110T160838Z
UID:10000029-1656354600-1656358200@vwpresby.org
SUMMARY:Cub Scouts
DESCRIPTION:Cub Scouts Every Monday 6:30PM – 7:30PM
URL:https://vwpresby.org/event/cub-scouts/2022-06-27/
END:VEVENT
BEGIN:VEVENT
DTSTART;TZID=America/Indiana/Indianapolis:20220628T190000
DTEND;TZID=America/Indiana/Indianapolis:20220628T203000
DTSTAMP:20260424T185726
CREATED:20220615T175324Z
LAST-MODIFIED:20220615T175324Z
UID:10000671-1656442800-1656448200@vwpresby.org
SUMMARY:Session
DESCRIPTION:
URL:https://vwpresby.org/event/session/
END:VEVENT
BEGIN:VEVENT
DTSTART;TZID=America/Indiana/Indianapolis:20220629T103000
DTEND;TZID=America/Indiana/Indianapolis:20220629T113000
DTSTAMP:20260424T185726
CREATED:20220114T194334Z
LAST-MODIFIED:20240110T161852Z
UID:10000292-1656498600-1656502200@vwpresby.org
SUMMARY:Women's Bible Study
DESCRIPTION:Women’s Bible Study every Wednesday 10:30AM
URL:https://vwpresby.org/event/womens-bible-study/2022-06-29/
END:VEVENT
END:VCALENDAR