BEGIN:VCALENDAR
VERSION:2.0
PRODID:-//First Presbyterian Church of Van Wert - ECPv6.15.20//NONSGML v1.0//EN
CALSCALE:GREGORIAN
METHOD:PUBLISH
X-ORIGINAL-URL:https://vwpresby.org
X-WR-CALDESC:Events for First Presbyterian Church of Van Wert
REFRESH-INTERVAL;VALUE=DURATION:PT1H
X-Robots-Tag:noindex
X-PUBLISHED-TTL:PT1H
BEGIN:VTIMEZONE
TZID:America/Indiana/Indianapolis
BEGIN:DAYLIGHT
TZOFFSETFROM:-0500
TZOFFSETTO:-0400
TZNAME:EDT
DTSTART:20210314T070000
END:DAYLIGHT
BEGIN:STANDARD
TZOFFSETFROM:-0400
TZOFFSETTO:-0500
TZNAME:EST
DTSTART:20211107T060000
END:STANDARD
BEGIN:DAYLIGHT
TZOFFSETFROM:-0500
TZOFFSETTO:-0400
TZNAME:EDT
DTSTART:20220313T070000
END:DAYLIGHT
BEGIN:STANDARD
TZOFFSETFROM:-0400
TZOFFSETTO:-0500
TZNAME:EST
DTSTART:20221106T060000
END:STANDARD
BEGIN:DAYLIGHT
TZOFFSETFROM:-0500
TZOFFSETTO:-0400
TZNAME:EDT
DTSTART:20230312T070000
END:DAYLIGHT
BEGIN:STANDARD
TZOFFSETFROM:-0400
TZOFFSETTO:-0500
TZNAME:EST
DTSTART:20231105T060000
END:STANDARD
END:VTIMEZONE
BEGIN:VEVENT
DTSTART;TZID=America/Indiana/Indianapolis:20220501T100000
DTEND;TZID=America/Indiana/Indianapolis:20220501T110000
DTSTAMP:20260424T204233
CREATED:20220127T162551Z
LAST-MODIFIED:20240110T160338Z
UID:10000412-1651399200-1651402800@vwpresby.org
SUMMARY:Worship Service
DESCRIPTION:
URL:https://vwpresby.org/event/worship-service/2022-05-01/
END:VEVENT
BEGIN:VEVENT
DTSTART;TZID=America/Indiana/Indianapolis:20220501T100000
DTEND;TZID=America/Indiana/Indianapolis:20220501T110000
DTSTAMP:20260424T204233
CREATED:20220419T150714Z
LAST-MODIFIED:20220419T150714Z
UID:10000634-1651399200-1651402800@vwpresby.org
SUMMARY:Communion
DESCRIPTION:
URL:https://vwpresby.org/event/communion-3/
END:VEVENT
BEGIN:VEVENT
DTSTART;TZID=America/Indiana/Indianapolis:20220502T183000
DTEND;TZID=America/Indiana/Indianapolis:20220502T193000
DTSTAMP:20260424T204233
CREATED:20220114T194043Z
LAST-MODIFIED:20240110T160838Z
UID:10000021-1651516200-1651519800@vwpresby.org
SUMMARY:Cub Scouts
DESCRIPTION:Cub Scouts Every Monday 6:30PM – 7:30PM
URL:https://vwpresby.org/event/cub-scouts/2022-05-02/
END:VEVENT
BEGIN:VEVENT
DTSTART;TZID=America/Indiana/Indianapolis:20220504T103000
DTEND;TZID=America/Indiana/Indianapolis:20220504T113000
DTSTAMP:20260424T204233
CREATED:20220114T194334Z
LAST-MODIFIED:20240110T161852Z
UID:10000284-1651660200-1651663800@vwpresby.org
SUMMARY:Women's Bible Study
DESCRIPTION:Women’s Bible Study every Wednesday 10:30AM
URL:https://vwpresby.org/event/womens-bible-study/2022-05-04/
END:VEVENT
BEGIN:VEVENT
DTSTART;TZID=America/Indiana/Indianapolis:20220508T100000
DTEND;TZID=America/Indiana/Indianapolis:20220508T110000
DTSTAMP:20260424T204233
CREATED:20220127T162551Z
LAST-MODIFIED:20240110T160338Z
UID:10000413-1652004000-1652007600@vwpresby.org
SUMMARY:Worship Service
DESCRIPTION:
URL:https://vwpresby.org/event/worship-service/2022-05-08/
END:VEVENT
BEGIN:VEVENT
DTSTART;TZID=America/Indiana/Indianapolis:20220509T183000
DTEND;TZID=America/Indiana/Indianapolis:20220509T193000
DTSTAMP:20260424T204233
CREATED:20220114T194043Z
LAST-MODIFIED:20240110T160838Z
UID:10000022-1652121000-1652124600@vwpresby.org
SUMMARY:Cub Scouts
DESCRIPTION:Cub Scouts Every Monday 6:30PM – 7:30PM
URL:https://vwpresby.org/event/cub-scouts/2022-05-09/
END:VEVENT
BEGIN:VEVENT
DTSTART;TZID=America/Indiana/Indianapolis:20220511T103000
DTEND;TZID=America/Indiana/Indianapolis:20220511T113000
DTSTAMP:20260424T204233
CREATED:20220114T194334Z
LAST-MODIFIED:20240110T161852Z
UID:10000285-1652265000-1652268600@vwpresby.org
SUMMARY:Women's Bible Study
DESCRIPTION:Women’s Bible Study every Wednesday 10:30AM
URL:https://vwpresby.org/event/womens-bible-study/2022-05-11/
END:VEVENT
BEGIN:VEVENT
DTSTART;TZID=America/Indiana/Indianapolis:20220513T180000
DTEND;TZID=America/Indiana/Indianapolis:20220514T140000
DTSTAMP:20260424T204233
CREATED:20220505T131914Z
LAST-MODIFIED:20220505T131914Z
UID:10000645-1652464800-1652536800@vwpresby.org
SUMMARY:Women's Conference
DESCRIPTION:
URL:https://vwpresby.org/event/womens-conference/
END:VEVENT
BEGIN:VEVENT
DTSTART;TZID=America/Indiana/Indianapolis:20220515T100000
DTEND;TZID=America/Indiana/Indianapolis:20220515T110000
DTSTAMP:20260424T204233
CREATED:20220127T162551Z
LAST-MODIFIED:20240110T160338Z
UID:10000414-1652608800-1652612400@vwpresby.org
SUMMARY:Worship Service
DESCRIPTION:
URL:https://vwpresby.org/event/worship-service/2022-05-15/
END:VEVENT
BEGIN:VEVENT
DTSTART;TZID=America/Indiana/Indianapolis:20220515T110000
DTEND;TZID=America/Indiana/Indianapolis:20220515T113000
DTSTAMP:20260424T204233
CREATED:20220419T151030Z
LAST-MODIFIED:20220419T151030Z
UID:10000637-1652612400-1652614200@vwpresby.org
SUMMARY:Deacons Meeting
DESCRIPTION:
URL:https://vwpresby.org/event/deacons-meeting/
END:VEVENT
BEGIN:VEVENT
DTSTART;TZID=America/Indiana/Indianapolis:20220516T183000
DTEND;TZID=America/Indiana/Indianapolis:20220516T193000
DTSTAMP:20260424T204233
CREATED:20220114T194043Z
LAST-MODIFIED:20240110T160838Z
UID:10000023-1652725800-1652729400@vwpresby.org
SUMMARY:Cub Scouts
DESCRIPTION:Cub Scouts Every Monday 6:30PM – 7:30PM
URL:https://vwpresby.org/event/cub-scouts/2022-05-16/
END:VEVENT
BEGIN:VEVENT
DTSTART;TZID=America/Indiana/Indianapolis:20220518T103000
DTEND;TZID=America/Indiana/Indianapolis:20220518T113000
DTSTAMP:20260424T204233
CREATED:20220114T194334Z
LAST-MODIFIED:20240110T161852Z
UID:10000286-1652869800-1652873400@vwpresby.org
SUMMARY:Women's Bible Study
DESCRIPTION:Women’s Bible Study every Wednesday 10:30AM
URL:https://vwpresby.org/event/womens-bible-study/2022-05-18/
END:VEVENT
BEGIN:VEVENT
DTSTART;TZID=America/Indiana/Indianapolis:20220522T090000
DTEND;TZID=America/Indiana/Indianapolis:20220522T100000
DTSTAMP:20260424T204233
CREATED:20220505T132018Z
LAST-MODIFIED:20220505T132018Z
UID:10000647-1653210000-1653213600@vwpresby.org
SUMMARY:Coffee & Donuts
DESCRIPTION:
URL:https://vwpresby.org/event/coffee-donuts/
END:VEVENT
BEGIN:VEVENT
DTSTART;TZID=America/Indiana/Indianapolis:20220522T100000
DTEND;TZID=America/Indiana/Indianapolis:20220522T110000
DTSTAMP:20260424T204233
CREATED:20220127T162551Z
LAST-MODIFIED:20240110T160338Z
UID:10000415-1653213600-1653217200@vwpresby.org
SUMMARY:Worship Service
DESCRIPTION:
URL:https://vwpresby.org/event/worship-service/2022-05-22/
END:VEVENT
BEGIN:VEVENT
DTSTART;TZID=America/Indiana/Indianapolis:20220523T183000
DTEND;TZID=America/Indiana/Indianapolis:20220523T193000
DTSTAMP:20260424T204233
CREATED:20220114T194043Z
LAST-MODIFIED:20240110T160838Z
UID:10000024-1653330600-1653334200@vwpresby.org
SUMMARY:Cub Scouts
DESCRIPTION:Cub Scouts Every Monday 6:30PM – 7:30PM
URL:https://vwpresby.org/event/cub-scouts/2022-05-23/
END:VEVENT
BEGIN:VEVENT
DTSTART;TZID=America/Indiana/Indianapolis:20220525T103000
DTEND;TZID=America/Indiana/Indianapolis:20220525T113000
DTSTAMP:20260424T204233
CREATED:20220114T194334Z
LAST-MODIFIED:20240110T161852Z
UID:10000287-1653474600-1653478200@vwpresby.org
SUMMARY:Women's Bible Study
DESCRIPTION:Women’s Bible Study every Wednesday 10:30AM
URL:https://vwpresby.org/event/womens-bible-study/2022-05-25/
END:VEVENT
BEGIN:VEVENT
DTSTART;TZID=America/Indiana/Indianapolis:20220529T100000
DTEND;TZID=America/Indiana/Indianapolis:20220529T110000
DTSTAMP:20260424T204233
CREATED:20220127T162551Z
LAST-MODIFIED:20240110T160338Z
UID:10000416-1653818400-1653822000@vwpresby.org
SUMMARY:Worship Service
DESCRIPTION:
URL:https://vwpresby.org/event/worship-service/2022-05-29/
END:VEVENT
BEGIN:VEVENT
DTSTART;TZID=America/Indiana/Indianapolis:20220529T100000
DTEND;TZID=America/Indiana/Indianapolis:20220529T110000
DTSTAMP:20260424T204233
CREATED:20220525T150720Z
LAST-MODIFIED:20220525T150720Z
UID:10000657-1653818400-1653822000@vwpresby.org
SUMMARY:Special Music by Grayson Baker
DESCRIPTION:
URL:https://vwpresby.org/event/special-music-by-grayson-baker/
END:VEVENT
BEGIN:VEVENT
DTSTART;VALUE=DATE:20220530
DTEND;VALUE=DATE:20220531
DTSTAMP:20260424T204233
CREATED:20220525T151007Z
LAST-MODIFIED:20220525T151226Z
UID:10000659-1653868800-1653955199@vwpresby.org
SUMMARY:Office Closed *Memorial Day*
DESCRIPTION:
URL:https://vwpresby.org/event/office-closed-memorial-day/
END:VEVENT
BEGIN:VEVENT
DTSTART;TZID=America/Indiana/Indianapolis:20220530T183000
DTEND;TZID=America/Indiana/Indianapolis:20220530T193000
DTSTAMP:20260424T204233
CREATED:20220114T194043Z
LAST-MODIFIED:20240110T160838Z
UID:10000025-1653935400-1653939000@vwpresby.org
SUMMARY:Cub Scouts
DESCRIPTION:Cub Scouts Every Monday 6:30PM – 7:30PM
URL:https://vwpresby.org/event/cub-scouts/2022-05-30/
END:VEVENT
END:VCALENDAR