BEGIN:VCALENDAR
VERSION:2.0
PRODID:-//First Presbyterian Church of Van Wert - ECPv6.15.20//NONSGML v1.0//EN
CALSCALE:GREGORIAN
METHOD:PUBLISH
X-WR-CALNAME:First Presbyterian Church of Van Wert
X-ORIGINAL-URL:https://vwpresby.org
X-WR-CALDESC:Events for First Presbyterian Church of Van Wert
REFRESH-INTERVAL;VALUE=DURATION:PT1H
X-Robots-Tag:noindex
X-PUBLISHED-TTL:PT1H
BEGIN:VTIMEZONE
TZID:America/Indiana/Indianapolis
BEGIN:DAYLIGHT
TZOFFSETFROM:-0500
TZOFFSETTO:-0400
TZNAME:EDT
DTSTART:20210314T070000
END:DAYLIGHT
BEGIN:STANDARD
TZOFFSETFROM:-0400
TZOFFSETTO:-0500
TZNAME:EST
DTSTART:20211107T060000
END:STANDARD
BEGIN:DAYLIGHT
TZOFFSETFROM:-0500
TZOFFSETTO:-0400
TZNAME:EDT
DTSTART:20220313T070000
END:DAYLIGHT
BEGIN:STANDARD
TZOFFSETFROM:-0400
TZOFFSETTO:-0500
TZNAME:EST
DTSTART:20221106T060000
END:STANDARD
BEGIN:DAYLIGHT
TZOFFSETFROM:-0500
TZOFFSETTO:-0400
TZNAME:EDT
DTSTART:20230312T070000
END:DAYLIGHT
BEGIN:STANDARD
TZOFFSETFROM:-0400
TZOFFSETTO:-0500
TZNAME:EST
DTSTART:20231105T060000
END:STANDARD
END:VTIMEZONE
BEGIN:VEVENT
DTSTART;TZID=America/Indiana/Indianapolis:20220302T103000
DTEND;TZID=America/Indiana/Indianapolis:20220302T113000
DTSTAMP:20260425T062016
CREATED:20220114T194334Z
LAST-MODIFIED:20240110T161852Z
UID:10000275-1646217000-1646220600@vwpresby.org
SUMMARY:Women's Bible Study
DESCRIPTION:Women’s Bible Study every Wednesday 10:30AM
URL:https://vwpresby.org/event/womens-bible-study/2022-03-02/
END:VEVENT
BEGIN:VEVENT
DTSTART;TZID=America/Indiana/Indianapolis:20220302T180000
DTEND;TZID=America/Indiana/Indianapolis:20220302T190000
DTSTAMP:20260425T062016
CREATED:20220225T184310Z
LAST-MODIFIED:20220225T184427Z
UID:10000612-1646244000-1646247600@vwpresby.org
SUMMARY:Ash Wednesday Service @6pm
DESCRIPTION:
URL:https://vwpresby.org/event/ash-wednesday-service-6pm/
END:VEVENT
BEGIN:VEVENT
DTSTART;TZID=America/Indiana/Indianapolis:20220303T120000
DTEND;TZID=America/Indiana/Indianapolis:20220303T133000
DTSTAMP:20260425T062016
CREATED:20220225T184551Z
LAST-MODIFIED:20220225T184551Z
UID:10000614-1646308800-1646314200@vwpresby.org
SUMMARY:Read & Review Book Club @ Noon
DESCRIPTION:
URL:https://vwpresby.org/event/read-review-book-club-noon/
END:VEVENT
BEGIN:VEVENT
DTSTART;TZID=America/Indiana/Indianapolis:20220306T100000
DTEND;TZID=America/Indiana/Indianapolis:20220306T110000
DTSTAMP:20260425T062016
CREATED:20220127T162551Z
LAST-MODIFIED:20240110T160338Z
UID:10000404-1646560800-1646564400@vwpresby.org
SUMMARY:Worship Service
DESCRIPTION:
URL:https://vwpresby.org/event/worship-service/2022-03-06/
END:VEVENT
BEGIN:VEVENT
DTSTART;TZID=America/Indiana/Indianapolis:20220306T100000
DTEND;TZID=America/Indiana/Indianapolis:20220306T113000
DTSTAMP:20260425T062016
CREATED:20220210T172448Z
LAST-MODIFIED:20220210T172448Z
UID:10000608-1646560800-1646566200@vwpresby.org
SUMMARY:Communion
DESCRIPTION:Communion is held the 1st Sunday of every month.
URL:https://vwpresby.org/event/communion/
END:VEVENT
BEGIN:VEVENT
DTSTART;TZID=America/Indiana/Indianapolis:20220307T183000
DTEND;TZID=America/Indiana/Indianapolis:20220307T193000
DTSTAMP:20260425T062016
CREATED:20220114T194043Z
LAST-MODIFIED:20240110T160838Z
UID:10000013-1646677800-1646681400@vwpresby.org
SUMMARY:Cub Scouts
DESCRIPTION:Cub Scouts Every Monday 6:30PM – 7:30PM
URL:https://vwpresby.org/event/cub-scouts/2022-03-07/
END:VEVENT
BEGIN:VEVENT
DTSTART;TZID=America/Indiana/Indianapolis:20220309T103000
DTEND;TZID=America/Indiana/Indianapolis:20220309T113000
DTSTAMP:20260425T062016
CREATED:20220114T194334Z
LAST-MODIFIED:20240110T161852Z
UID:10000276-1646821800-1646825400@vwpresby.org
SUMMARY:Women's Bible Study
DESCRIPTION:Women’s Bible Study every Wednesday 10:30AM
URL:https://vwpresby.org/event/womens-bible-study/2022-03-09/
END:VEVENT
BEGIN:VEVENT
DTSTART;TZID=America/Indiana/Indianapolis:20220313T100000
DTEND;TZID=America/Indiana/Indianapolis:20220313T110000
DTSTAMP:20260425T062016
CREATED:20220127T162551Z
LAST-MODIFIED:20240110T160338Z
UID:10000405-1647165600-1647169200@vwpresby.org
SUMMARY:Worship Service
DESCRIPTION:
URL:https://vwpresby.org/event/worship-service/2022-03-13/
END:VEVENT
BEGIN:VEVENT
DTSTART;TZID=America/Indiana/Indianapolis:20220314T183000
DTEND;TZID=America/Indiana/Indianapolis:20220314T193000
DTSTAMP:20260425T062016
CREATED:20220114T194043Z
LAST-MODIFIED:20240110T160838Z
UID:10000014-1647282600-1647286200@vwpresby.org
SUMMARY:Cub Scouts
DESCRIPTION:Cub Scouts Every Monday 6:30PM – 7:30PM
URL:https://vwpresby.org/event/cub-scouts/2022-03-14/
END:VEVENT
BEGIN:VEVENT
DTSTART;TZID=America/Indiana/Indianapolis:20220316T103000
DTEND;TZID=America/Indiana/Indianapolis:20220316T113000
DTSTAMP:20260425T062016
CREATED:20220114T194334Z
LAST-MODIFIED:20240110T161852Z
UID:10000277-1647426600-1647430200@vwpresby.org
SUMMARY:Women's Bible Study
DESCRIPTION:Women’s Bible Study every Wednesday 10:30AM
URL:https://vwpresby.org/event/womens-bible-study/2022-03-16/
END:VEVENT
BEGIN:VEVENT
DTSTART;TZID=America/Indiana/Indianapolis:20220316T190000
DTEND;TZID=America/Indiana/Indianapolis:20220316T194500
DTSTAMP:20260425T062016
CREATED:20220309T170858Z
LAST-MODIFIED:20220309T170858Z
UID:10000618-1647457200-1647459900@vwpresby.org
SUMMARY:Choir Practice
DESCRIPTION:
URL:https://vwpresby.org/event/choir-practice/
END:VEVENT
BEGIN:VEVENT
DTSTART;TZID=America/Indiana/Indianapolis:20220319T120000
DTEND;TZID=America/Indiana/Indianapolis:20220319T140000
DTSTAMP:20260425T062016
CREATED:20220309T171333Z
LAST-MODIFIED:20220309T171333Z
UID:10000620-1647691200-1647698400@vwpresby.org
SUMMARY:Don Uhl Visitation & Funeral
DESCRIPTION:
URL:https://vwpresby.org/event/don-uhl-visitation-funeral/
END:VEVENT
BEGIN:VEVENT
DTSTART;TZID=America/Indiana/Indianapolis:20220320T090000
DTEND;TZID=America/Indiana/Indianapolis:20220320T100000
DTSTAMP:20260425T062016
CREATED:20220225T184733Z
LAST-MODIFIED:20220225T184733Z
UID:10000616-1647766800-1647770400@vwpresby.org
SUMMARY:Coffee & Donuts before worship
DESCRIPTION:
URL:https://vwpresby.org/event/coffee-donuts-before-worship/
END:VEVENT
BEGIN:VEVENT
DTSTART;TZID=America/Indiana/Indianapolis:20220320T100000
DTEND;TZID=America/Indiana/Indianapolis:20220320T110000
DTSTAMP:20260425T062016
CREATED:20220127T162551Z
LAST-MODIFIED:20240110T160338Z
UID:10000406-1647770400-1647774000@vwpresby.org
SUMMARY:Worship Service
DESCRIPTION:
URL:https://vwpresby.org/event/worship-service/2022-03-20/
END:VEVENT
BEGIN:VEVENT
DTSTART;TZID=America/Indiana/Indianapolis:20220321T183000
DTEND;TZID=America/Indiana/Indianapolis:20220321T193000
DTSTAMP:20260425T062016
CREATED:20220114T194043Z
LAST-MODIFIED:20240110T160838Z
UID:10000015-1647887400-1647891000@vwpresby.org
SUMMARY:Cub Scouts
DESCRIPTION:Cub Scouts Every Monday 6:30PM – 7:30PM
URL:https://vwpresby.org/event/cub-scouts/2022-03-21/
END:VEVENT
BEGIN:VEVENT
DTSTART;TZID=America/Indiana/Indianapolis:20220323T103000
DTEND;TZID=America/Indiana/Indianapolis:20220323T113000
DTSTAMP:20260425T062016
CREATED:20220114T194334Z
LAST-MODIFIED:20240110T161852Z
UID:10000278-1648031400-1648035000@vwpresby.org
SUMMARY:Women's Bible Study
DESCRIPTION:Women’s Bible Study every Wednesday 10:30AM
URL:https://vwpresby.org/event/womens-bible-study/2022-03-23/
END:VEVENT
BEGIN:VEVENT
DTSTART;TZID=America/Indiana/Indianapolis:20220323T190000
DTEND;TZID=America/Indiana/Indianapolis:20220323T193000
DTSTAMP:20260425T062016
CREATED:20220309T171516Z
LAST-MODIFIED:20220309T171516Z
UID:10000622-1648062000-1648063800@vwpresby.org
SUMMARY:Bells Practice
DESCRIPTION:
URL:https://vwpresby.org/event/bells-practice/
END:VEVENT
BEGIN:VEVENT
DTSTART;TZID=America/Indiana/Indianapolis:20220327T100000
DTEND;TZID=America/Indiana/Indianapolis:20220327T110000
DTSTAMP:20260425T062016
CREATED:20220127T162551Z
LAST-MODIFIED:20240110T160338Z
UID:10000407-1648375200-1648378800@vwpresby.org
SUMMARY:Worship Service
DESCRIPTION:
URL:https://vwpresby.org/event/worship-service/2022-03-27/
END:VEVENT
BEGIN:VEVENT
DTSTART;TZID=America/Indiana/Indianapolis:20220328T183000
DTEND;TZID=America/Indiana/Indianapolis:20220328T193000
DTSTAMP:20260425T062016
CREATED:20220114T194043Z
LAST-MODIFIED:20240110T160838Z
UID:10000016-1648492200-1648495800@vwpresby.org
SUMMARY:Cub Scouts
DESCRIPTION:Cub Scouts Every Monday 6:30PM – 7:30PM
URL:https://vwpresby.org/event/cub-scouts/2022-03-28/
END:VEVENT
BEGIN:VEVENT
DTSTART;TZID=America/Indiana/Indianapolis:20220330T103000
DTEND;TZID=America/Indiana/Indianapolis:20220330T113000
DTSTAMP:20260425T062016
CREATED:20220114T194334Z
LAST-MODIFIED:20240110T161852Z
UID:10000279-1648636200-1648639800@vwpresby.org
SUMMARY:Women's Bible Study
DESCRIPTION:Women’s Bible Study every Wednesday 10:30AM
URL:https://vwpresby.org/event/womens-bible-study/2022-03-30/
END:VEVENT
END:VCALENDAR