BEGIN:VCALENDAR
VERSION:2.0
PRODID:-//First Presbyterian Church of Van Wert - ECPv6.15.20//NONSGML v1.0//EN
CALSCALE:GREGORIAN
METHOD:PUBLISH
X-WR-CALNAME:First Presbyterian Church of Van Wert
X-ORIGINAL-URL:https://vwpresby.org
X-WR-CALDESC:Events for First Presbyterian Church of Van Wert
REFRESH-INTERVAL;VALUE=DURATION:PT1H
X-Robots-Tag:noindex
X-PUBLISHED-TTL:PT1H
BEGIN:VTIMEZONE
TZID:America/Indiana/Indianapolis
BEGIN:DAYLIGHT
TZOFFSETFROM:-0500
TZOFFSETTO:-0400
TZNAME:EDT
DTSTART:20210314T070000
END:DAYLIGHT
BEGIN:STANDARD
TZOFFSETFROM:-0400
TZOFFSETTO:-0500
TZNAME:EST
DTSTART:20211107T060000
END:STANDARD
BEGIN:DAYLIGHT
TZOFFSETFROM:-0500
TZOFFSETTO:-0400
TZNAME:EDT
DTSTART:20220313T070000
END:DAYLIGHT
BEGIN:STANDARD
TZOFFSETFROM:-0400
TZOFFSETTO:-0500
TZNAME:EST
DTSTART:20221106T060000
END:STANDARD
BEGIN:DAYLIGHT
TZOFFSETFROM:-0500
TZOFFSETTO:-0400
TZNAME:EDT
DTSTART:20230312T070000
END:DAYLIGHT
BEGIN:STANDARD
TZOFFSETFROM:-0400
TZOFFSETTO:-0500
TZNAME:EST
DTSTART:20231105T060000
END:STANDARD
END:VTIMEZONE
BEGIN:VEVENT
DTSTART;TZID=America/Indiana/Indianapolis:20220202T103000
DTEND;TZID=America/Indiana/Indianapolis:20220202T113000
DTSTAMP:20260425T093825
CREATED:20220114T194334Z
LAST-MODIFIED:20240110T161852Z
UID:10000271-1643797800-1643801400@vwpresby.org
SUMMARY:Women's Bible Study
DESCRIPTION:Women’s Bible Study every Wednesday 10:30AM
URL:https://vwpresby.org/event/womens-bible-study/2022-02-02/
END:VEVENT
BEGIN:VEVENT
DTSTART;TZID=America/Indiana/Indianapolis:20220206T100000
DTEND;TZID=America/Indiana/Indianapolis:20220206T110000
DTSTAMP:20260425T093825
CREATED:20220127T162551Z
LAST-MODIFIED:20240110T160338Z
UID:10000400-1644141600-1644145200@vwpresby.org
SUMMARY:Worship Service
DESCRIPTION:
URL:https://vwpresby.org/event/worship-service/2022-02-06/
END:VEVENT
BEGIN:VEVENT
DTSTART;TZID=America/Indiana/Indianapolis:20220207T183000
DTEND;TZID=America/Indiana/Indianapolis:20220207T193000
DTSTAMP:20260425T093825
CREATED:20220114T194043Z
LAST-MODIFIED:20240110T160838Z
UID:10000009-1644258600-1644262200@vwpresby.org
SUMMARY:Cub Scouts
DESCRIPTION:Cub Scouts Every Monday 6:30PM – 7:30PM
URL:https://vwpresby.org/event/cub-scouts/2022-02-07/
END:VEVENT
BEGIN:VEVENT
DTSTART;TZID=America/Indiana/Indianapolis:20220209T103000
DTEND;TZID=America/Indiana/Indianapolis:20220209T113000
DTSTAMP:20260425T093825
CREATED:20220114T194334Z
LAST-MODIFIED:20240110T161852Z
UID:10000272-1644402600-1644406200@vwpresby.org
SUMMARY:Women's Bible Study
DESCRIPTION:Women’s Bible Study every Wednesday 10:30AM
URL:https://vwpresby.org/event/womens-bible-study/2022-02-09/
END:VEVENT
BEGIN:VEVENT
DTSTART;TZID=America/Indiana/Indianapolis:20220211T080000
DTEND;TZID=America/Indiana/Indianapolis:20220211T120000
DTSTAMP:20260425T093825
CREATED:20220114T194423Z
LAST-MODIFIED:20220114T194423Z
UID:10000393-1644566400-1644580800@vwpresby.org
SUMMARY:First Presbyterian Church Bake Sale
DESCRIPTION:Located at the Van Wert County Courthouse 2nd floor\nBaked goods and Valentine treats\nProceeds go to our pipe organ fund
URL:https://vwpresby.org/event/first-presbyterian-church-bake-sale/
END:VEVENT
BEGIN:VEVENT
DTSTART;TZID=America/Indiana/Indianapolis:20220213T100000
DTEND;TZID=America/Indiana/Indianapolis:20220213T110000
DTSTAMP:20260425T093825
CREATED:20220127T162551Z
LAST-MODIFIED:20240110T160338Z
UID:10000401-1644746400-1644750000@vwpresby.org
SUMMARY:Worship Service
DESCRIPTION:
URL:https://vwpresby.org/event/worship-service/2022-02-13/
END:VEVENT
BEGIN:VEVENT
DTSTART;TZID=America/Indiana/Indianapolis:20220213T100000
DTEND;TZID=America/Indiana/Indianapolis:20220213T113000
DTSTAMP:20260425T093825
CREATED:20220210T174523Z
LAST-MODIFIED:20220210T174523Z
UID:10000610-1644746400-1644751800@vwpresby.org
SUMMARY:Ordination and or Installation of new officers
DESCRIPTION:
URL:https://vwpresby.org/event/ordination-and-or-installation-of-new-officers/
END:VEVENT
BEGIN:VEVENT
DTSTART;TZID=America/Indiana/Indianapolis:20220214T183000
DTEND;TZID=America/Indiana/Indianapolis:20220214T193000
DTSTAMP:20260425T093825
CREATED:20220114T194043Z
LAST-MODIFIED:20240110T160838Z
UID:10000010-1644863400-1644867000@vwpresby.org
SUMMARY:Cub Scouts
DESCRIPTION:Cub Scouts Every Monday 6:30PM – 7:30PM
URL:https://vwpresby.org/event/cub-scouts/2022-02-14/
END:VEVENT
BEGIN:VEVENT
DTSTART;TZID=America/Indiana/Indianapolis:20220216T103000
DTEND;TZID=America/Indiana/Indianapolis:20220216T113000
DTSTAMP:20260425T093825
CREATED:20220114T194334Z
LAST-MODIFIED:20240110T161852Z
UID:10000273-1645007400-1645011000@vwpresby.org
SUMMARY:Women's Bible Study
DESCRIPTION:Women’s Bible Study every Wednesday 10:30AM
URL:https://vwpresby.org/event/womens-bible-study/2022-02-16/
END:VEVENT
BEGIN:VEVENT
DTSTART;TZID=America/Indiana/Indianapolis:20220220T100000
DTEND;TZID=America/Indiana/Indianapolis:20220220T110000
DTSTAMP:20260425T093825
CREATED:20220127T162551Z
LAST-MODIFIED:20240110T160338Z
UID:10000402-1645351200-1645354800@vwpresby.org
SUMMARY:Worship Service
DESCRIPTION:
URL:https://vwpresby.org/event/worship-service/2022-02-20/
END:VEVENT
BEGIN:VEVENT
DTSTART;TZID=America/Indiana/Indianapolis:20220220T100000
DTEND;TZID=America/Indiana/Indianapolis:20220220T113000
DTSTAMP:20260425T093825
CREATED:20220210T172239Z
LAST-MODIFIED:20220210T172239Z
UID:10000606-1645351200-1645356600@vwpresby.org
SUMMARY:Congregational Meeting
DESCRIPTION:Congregational meeting after Sunday worship.
URL:https://vwpresby.org/event/congregational-meeting/
END:VEVENT
BEGIN:VEVENT
DTSTART;TZID=America/Indiana/Indianapolis:20220221T183000
DTEND;TZID=America/Indiana/Indianapolis:20220221T193000
DTSTAMP:20260425T093825
CREATED:20220114T194043Z
LAST-MODIFIED:20240110T160838Z
UID:10000011-1645468200-1645471800@vwpresby.org
SUMMARY:Cub Scouts
DESCRIPTION:Cub Scouts Every Monday 6:30PM – 7:30PM
URL:https://vwpresby.org/event/cub-scouts/2022-02-21/
END:VEVENT
BEGIN:VEVENT
DTSTART;TZID=America/Indiana/Indianapolis:20220223T103000
DTEND;TZID=America/Indiana/Indianapolis:20220223T113000
DTSTAMP:20260425T093825
CREATED:20220114T194334Z
LAST-MODIFIED:20240110T161852Z
UID:10000274-1645612200-1645615800@vwpresby.org
SUMMARY:Women's Bible Study
DESCRIPTION:Women’s Bible Study every Wednesday 10:30AM
URL:https://vwpresby.org/event/womens-bible-study/2022-02-23/
END:VEVENT
BEGIN:VEVENT
DTSTART;TZID=America/Indiana/Indianapolis:20220227T100000
DTEND;TZID=America/Indiana/Indianapolis:20220227T110000
DTSTAMP:20260425T093825
CREATED:20220127T162551Z
LAST-MODIFIED:20240110T160338Z
UID:10000403-1645956000-1645959600@vwpresby.org
SUMMARY:Worship Service
DESCRIPTION:
URL:https://vwpresby.org/event/worship-service/2022-02-27/
END:VEVENT
BEGIN:VEVENT
DTSTART;TZID=America/Indiana/Indianapolis:20220228T183000
DTEND;TZID=America/Indiana/Indianapolis:20220228T193000
DTSTAMP:20260425T093825
CREATED:20220114T194043Z
LAST-MODIFIED:20240110T160838Z
UID:10000012-1646073000-1646076600@vwpresby.org
SUMMARY:Cub Scouts
DESCRIPTION:Cub Scouts Every Monday 6:30PM – 7:30PM
URL:https://vwpresby.org/event/cub-scouts/2022-02-28/
END:VEVENT
END:VCALENDAR