BEGIN:VCALENDAR
VERSION:2.0
PRODID:-//First Presbyterian Church of Van Wert - ECPv6.15.20//NONSGML v1.0//EN
CALSCALE:GREGORIAN
METHOD:PUBLISH
X-ORIGINAL-URL:https://vwpresby.org
X-WR-CALDESC:Events for First Presbyterian Church of Van Wert
REFRESH-INTERVAL;VALUE=DURATION:PT1H
X-Robots-Tag:noindex
X-PUBLISHED-TTL:PT1H
BEGIN:VTIMEZONE
TZID:America/Indiana/Indianapolis
BEGIN:DAYLIGHT
TZOFFSETFROM:-0500
TZOFFSETTO:-0400
TZNAME:EDT
DTSTART:20210314T070000
END:DAYLIGHT
BEGIN:STANDARD
TZOFFSETFROM:-0400
TZOFFSETTO:-0500
TZNAME:EST
DTSTART:20211107T060000
END:STANDARD
BEGIN:DAYLIGHT
TZOFFSETFROM:-0500
TZOFFSETTO:-0400
TZNAME:EDT
DTSTART:20220313T070000
END:DAYLIGHT
BEGIN:STANDARD
TZOFFSETFROM:-0400
TZOFFSETTO:-0500
TZNAME:EST
DTSTART:20221106T060000
END:STANDARD
BEGIN:DAYLIGHT
TZOFFSETFROM:-0500
TZOFFSETTO:-0400
TZNAME:EDT
DTSTART:20230312T070000
END:DAYLIGHT
BEGIN:STANDARD
TZOFFSETFROM:-0400
TZOFFSETTO:-0500
TZNAME:EST
DTSTART:20231105T060000
END:STANDARD
END:VTIMEZONE
BEGIN:VEVENT
DTSTART;TZID=America/Indiana/Indianapolis:20220102T100000
DTEND;TZID=America/Indiana/Indianapolis:20220102T110000
DTSTAMP:20260425T093208
CREATED:20220127T162551Z
LAST-MODIFIED:20240110T160338Z
UID:10000395-1641117600-1641121200@vwpresby.org
SUMMARY:Worship Service
DESCRIPTION:
URL:https://vwpresby.org/event/worship-service/2022-01-02/
END:VEVENT
BEGIN:VEVENT
DTSTART;TZID=America/Indiana/Indianapolis:20220103T183000
DTEND;TZID=America/Indiana/Indianapolis:20220103T193000
DTSTAMP:20260425T093208
CREATED:20220114T194043Z
LAST-MODIFIED:20240110T160838Z
UID:10000004-1641234600-1641238200@vwpresby.org
SUMMARY:Cub Scouts
DESCRIPTION:Cub Scouts Every Monday 6:30PM – 7:30PM
URL:https://vwpresby.org/event/cub-scouts/2022-01-03/
END:VEVENT
BEGIN:VEVENT
DTSTART;TZID=America/Indiana/Indianapolis:20220105T103000
DTEND;TZID=America/Indiana/Indianapolis:20220105T113000
DTSTAMP:20260425T093208
CREATED:20220114T194334Z
LAST-MODIFIED:20240110T161852Z
UID:10000267-1641378600-1641382200@vwpresby.org
SUMMARY:Women's Bible Study
DESCRIPTION:Women’s Bible Study every Wednesday 10:30AM
URL:https://vwpresby.org/event/womens-bible-study/2022-01-05/
END:VEVENT
BEGIN:VEVENT
DTSTART;TZID=America/Indiana/Indianapolis:20220109T100000
DTEND;TZID=America/Indiana/Indianapolis:20220109T110000
DTSTAMP:20260425T093208
CREATED:20220127T162551Z
LAST-MODIFIED:20240110T160338Z
UID:10000396-1641722400-1641726000@vwpresby.org
SUMMARY:Worship Service
DESCRIPTION:
URL:https://vwpresby.org/event/worship-service/2022-01-09/
END:VEVENT
BEGIN:VEVENT
DTSTART;TZID=America/Indiana/Indianapolis:20220110T183000
DTEND;TZID=America/Indiana/Indianapolis:20220110T193000
DTSTAMP:20260425T093208
CREATED:20220114T194043Z
LAST-MODIFIED:20240110T160838Z
UID:10000005-1641839400-1641843000@vwpresby.org
SUMMARY:Cub Scouts
DESCRIPTION:Cub Scouts Every Monday 6:30PM – 7:30PM
URL:https://vwpresby.org/event/cub-scouts/2022-01-10/
END:VEVENT
BEGIN:VEVENT
DTSTART;TZID=America/Indiana/Indianapolis:20220112T103000
DTEND;TZID=America/Indiana/Indianapolis:20220112T113000
DTSTAMP:20260425T093208
CREATED:20220114T194334Z
LAST-MODIFIED:20240110T161852Z
UID:10000268-1641983400-1641987000@vwpresby.org
SUMMARY:Women's Bible Study
DESCRIPTION:Women’s Bible Study every Wednesday 10:30AM
URL:https://vwpresby.org/event/womens-bible-study/2022-01-12/
END:VEVENT
BEGIN:VEVENT
DTSTART;TZID=America/Indiana/Indianapolis:20220116T100000
DTEND;TZID=America/Indiana/Indianapolis:20220116T110000
DTSTAMP:20260425T093208
CREATED:20220127T162551Z
LAST-MODIFIED:20240110T160338Z
UID:10000397-1642327200-1642330800@vwpresby.org
SUMMARY:Worship Service
DESCRIPTION:
URL:https://vwpresby.org/event/worship-service/2022-01-16/
END:VEVENT
BEGIN:VEVENT
DTSTART;TZID=America/Indiana/Indianapolis:20220117T183000
DTEND;TZID=America/Indiana/Indianapolis:20220117T193000
DTSTAMP:20260425T093208
CREATED:20220114T194043Z
LAST-MODIFIED:20240110T160838Z
UID:10000006-1642444200-1642447800@vwpresby.org
SUMMARY:Cub Scouts
DESCRIPTION:Cub Scouts Every Monday 6:30PM – 7:30PM
URL:https://vwpresby.org/event/cub-scouts/2022-01-17/
END:VEVENT
BEGIN:VEVENT
DTSTART;TZID=America/Indiana/Indianapolis:20220119T103000
DTEND;TZID=America/Indiana/Indianapolis:20220119T113000
DTSTAMP:20260425T093208
CREATED:20220114T194334Z
LAST-MODIFIED:20240110T161852Z
UID:10000269-1642588200-1642591800@vwpresby.org
SUMMARY:Women's Bible Study
DESCRIPTION:Women’s Bible Study every Wednesday 10:30AM
URL:https://vwpresby.org/event/womens-bible-study/2022-01-19/
END:VEVENT
BEGIN:VEVENT
DTSTART;TZID=America/Indiana/Indianapolis:20220123T100000
DTEND;TZID=America/Indiana/Indianapolis:20220123T110000
DTSTAMP:20260425T093208
CREATED:20220127T162551Z
LAST-MODIFIED:20240110T160338Z
UID:10000398-1642932000-1642935600@vwpresby.org
SUMMARY:Worship Service
DESCRIPTION:
URL:https://vwpresby.org/event/worship-service/2022-01-23/
END:VEVENT
BEGIN:VEVENT
DTSTART;TZID=America/Indiana/Indianapolis:20220124T183000
DTEND;TZID=America/Indiana/Indianapolis:20220124T193000
DTSTAMP:20260425T093208
CREATED:20220114T194043Z
LAST-MODIFIED:20240110T160838Z
UID:10000007-1643049000-1643052600@vwpresby.org
SUMMARY:Cub Scouts
DESCRIPTION:Cub Scouts Every Monday 6:30PM – 7:30PM
URL:https://vwpresby.org/event/cub-scouts/2022-01-24/
END:VEVENT
BEGIN:VEVENT
DTSTART;TZID=America/Indiana/Indianapolis:20220126T103000
DTEND;TZID=America/Indiana/Indianapolis:20220126T113000
DTSTAMP:20260425T093208
CREATED:20220114T194334Z
LAST-MODIFIED:20240110T161852Z
UID:10000270-1643193000-1643196600@vwpresby.org
SUMMARY:Women's Bible Study
DESCRIPTION:Women’s Bible Study every Wednesday 10:30AM
URL:https://vwpresby.org/event/womens-bible-study/2022-01-26/
END:VEVENT
BEGIN:VEVENT
DTSTART;VALUE=DATE:20220127
DTEND;VALUE=DATE:20220128
DTSTAMP:20260425T093208
CREATED:20220114T194520Z
LAST-MODIFIED:20220114T194541Z
UID:10000394-1643241600-1643327999@vwpresby.org
SUMMARY:Health Screenings
DESCRIPTION:Life Line Screening\, the nation’s leading provider of preventive screenings\, will offer affordable\, non-invasive\, and painless health screenings at First Presbyterian Church on Thursday\, January 27\, 2022. Register by calling toll free 1-888-653-6441\, text the word “circle” to 797979 or online at https://llsa.social/HSC.
URL:https://vwpresby.org/event/6130/
END:VEVENT
BEGIN:VEVENT
DTSTART;TZID=America/Indiana/Indianapolis:20220130T100000
DTEND;TZID=America/Indiana/Indianapolis:20220130T110000
DTSTAMP:20260425T093208
CREATED:20220127T162551Z
LAST-MODIFIED:20240110T160338Z
UID:10000399-1643536800-1643540400@vwpresby.org
SUMMARY:Worship Service
DESCRIPTION:
URL:https://vwpresby.org/event/worship-service/2022-01-30/
END:VEVENT
BEGIN:VEVENT
DTSTART;TZID=America/Indiana/Indianapolis:20220131T183000
DTEND;TZID=America/Indiana/Indianapolis:20220131T193000
DTSTAMP:20260425T093208
CREATED:20220114T194043Z
LAST-MODIFIED:20240110T160838Z
UID:10000008-1643653800-1643657400@vwpresby.org
SUMMARY:Cub Scouts
DESCRIPTION:Cub Scouts Every Monday 6:30PM – 7:30PM
URL:https://vwpresby.org/event/cub-scouts/2022-01-31/
END:VEVENT
END:VCALENDAR